BEGIN:VCALENDAR
VERSION:2.0
PRODID:-//Folkalender - ECPv6.10.1.1//NONSGML v1.0//EN
CALSCALE:GREGORIAN
METHOD:PUBLISH
X-WR-CALNAME:Folkalender
X-ORIGINAL-URL:https://folkalender.dk
X-WR-CALDESC:Begivenheder for Folkalender
REFRESH-INTERVAL;VALUE=DURATION:PT1H
X-Robots-Tag:noindex
X-PUBLISHED-TTL:PT1H
BEGIN:VTIMEZONE
TZID:Europe/Helsinki
BEGIN:DAYLIGHT
TZOFFSETFROM:+0200
TZOFFSETTO:+0300
TZNAME:EEST
DTSTART:20230326T010000
END:DAYLIGHT
BEGIN:STANDARD
TZOFFSETFROM:+0300
TZOFFSETTO:+0200
TZNAME:EET
DTSTART:20231029T010000
END:STANDARD
END:VTIMEZONE
BEGIN:VEVENT
DTSTART;TZID=Europe/Helsinki:20230516T193000
DTEND;TZID=Europe/Helsinki:20230516T210000
DTSTAMP:20260422T035157
CREATED:20230501T084926Z
LAST-MODIFIED:20230501T085233Z
UID:6295-1684265400-1684270800@folkalender.dk
SUMMARY:Folkekons’ semesterkoncert
DESCRIPTION:I løbet af det sidste halve år har tre forskellige hold på folkemusiklinjen været i dybden med hhv. Balkanmusik\, violinens muligheder i folkemusik og traditionel dansk spillemandsmusik. \nDe tre kyndige vejledere har været Johan Toftegård\, Liv Vester Larsen og Frey Klarskov. \nVed denne koncert kan publikum høre resultatet.
URL:https://folkalender.dk/arrangement/folkekons-semesterkoncert/
LOCATION:Syddansk Musikkonservatorium\, Kirkegade 61\, Esbjerg\, 6700
CATEGORIES:Koncert
ATTACH;FMTTYPE=image/jpeg:https://folkalender.dk/wp-content/uploads/2023/05/185A9754-scaled.jpg
ORGANIZER;CN="Syddansk Musikkonservatorium":MAILTO:info@sdmk.dk
GEO:55.4704807;8.4506539
X-APPLE-STRUCTURED-LOCATION;VALUE=URI;X-ADDRESS=Syddansk Musikkonservatorium Kirkegade 61 Esbjerg 6700;X-APPLE-RADIUS=500;X-TITLE=Kirkegade 61:geo:8.4506539,55.4704807
END:VEVENT
BEGIN:VEVENT
DTSTART;TZID=Europe/Helsinki:20230517T190000
DTEND;TZID=Europe/Helsinki:20230517T220000
DTSTAMP:20260422T035157
CREATED:20221227T140835Z
LAST-MODIFIED:20230223T095017Z
UID:5190-1684350000-1684360800@folkalender.dk
SUMMARY:Jørgensen & Sørensen
DESCRIPTION:Jørgensen & Sørensen spiller op til bal. Stefan Søgaard Sørensen spiller både violin og kontrabas og denne aften er han sammen med Kristian Jørgensen på klaver. Sammen leverer de et forrygende bal. Støttet af Odense Musikudvalg\, Kunststyrelsen og Marie Rasmussens Fond.
URL:https://folkalender.dk/arrangement/bal-i-odense/
LOCATION:Kulturmaskinen Odense\, Farvergården 7\, Odense\, 5000
CATEGORIES:Bal
GEO:55.3955926;10.3808671
X-APPLE-STRUCTURED-LOCATION;VALUE=URI;X-ADDRESS=Kulturmaskinen Odense Farvergården 7 Odense 5000;X-APPLE-RADIUS=500;X-TITLE=Farvergården 7:geo:10.3808671,55.3955926
END:VEVENT
END:VCALENDAR