BEGIN:VCALENDAR
VERSION:2.0
PRODID:-//Folkalender - ECPv6.10.1.1//NONSGML v1.0//EN
CALSCALE:GREGORIAN
METHOD:PUBLISH
X-WR-CALNAME:Folkalender
X-ORIGINAL-URL:https://folkalender.dk
X-WR-CALDESC:Begivenheder for Folkalender
REFRESH-INTERVAL;VALUE=DURATION:PT1H
X-Robots-Tag:noindex
X-PUBLISHED-TTL:PT1H
BEGIN:VTIMEZONE
TZID:Europe/Helsinki
BEGIN:DAYLIGHT
TZOFFSETFROM:+0200
TZOFFSETTO:+0300
TZNAME:EEST
DTSTART:20230326T010000
END:DAYLIGHT
BEGIN:STANDARD
TZOFFSETFROM:+0300
TZOFFSETTO:+0200
TZNAME:EET
DTSTART:20231029T010000
END:STANDARD
END:VTIMEZONE
BEGIN:VEVENT
DTSTART;TZID=Europe/Helsinki:20230511T150000
DTEND;TZID=Europe/Helsinki:20230511T170000
DTSTAMP:20260422T020450
CREATED:20230216T153807Z
LAST-MODIFIED:20230216T160609Z
UID:5805-1683817200-1683824400@folkalender.dk
SUMMARY:RAGNA
DESCRIPTION:RAGNA har rødderne dybt nede i den traditionsrige musik fra de nordiske lande. Med deres eget energiske udtryk farver de tonerne fra fortiden med nutidig nysgerrighed.  \nRagna lader tid og sted flyde sammen igennem de fællesnordiske toner og ord om dåd\, savn og håb. \nMed Stine Elbæk på sang og violin manes stemningen fra svundne tider frem\, solidt funderet på lyden af Carina Juuls unikt klingende nøgleharpe samt 12-strenget guitar akkompagnement af Thomas Birch.  \nRagna lader tid og sted flyde sammen igennem de fællesnordiske toner og ord om dåd\, savn og håb. \nhttps://www.facebook.com/dkfolktrio
URL:https://folkalender.dk/arrangement/ragna-2/
LOCATION:Wintercoat\, Grønvej 51\, Fårup\, Sabro\, 8471
CATEGORIES:Koncert
ATTACH;FMTTYPE=image/jpeg:https://folkalender.dk/wp-content/uploads/2023/02/pr-billede-ragna-Kopi-4.jpg
ORGANIZER;CN="Wintercoat":MAILTO:info@wintercoat.dk
GEO:56.2081097;10.0594837
X-APPLE-STRUCTURED-LOCATION;VALUE=URI;X-ADDRESS=Wintercoat Grønvej 51 Fårup Sabro 8471;X-APPLE-RADIUS=500;X-TITLE=Grønvej 51\, Fårup:geo:10.0594837,56.2081097
END:VEVENT
BEGIN:VEVENT
DTSTART;VALUE=DATE:20230512
DTEND;VALUE=DATE:20230513
DTSTAMP:20260422T020450
CREATED:20230323T132648Z
LAST-MODIFIED:20230323T132648Z
UID:6031-1683849600-1683935999@folkalender.dk
SUMMARY:The Outside Track (SCO/IE/CA)
DESCRIPTION:Det kvindedominerede band er essensen af tre af de fineste skotske folkemusikere\, en anerkendt irsk sanger samt et medlem af den canadiske berømte Rankin-familie fra Nova Scotia øen Cape Breton. \nDe er kåret som vindere af ​​’Best Group’ i både ‘Live Ireland Awards’ og ‘Tradition In Review Awards’. Nomineret i ‘Best Live Act’ i ‘MG Alba Scots Traditional Music Awards’. Vinder af den tyske radiokritikerpris for albummet ‘Flash Company’. \nThe Outside Tracks tilgang til musik\, sang og stepdans er i gennem deres 15 år som band\, blevet modtaget med begejstring over hele verden. Med over 2000 koncerter på fem kontinenter bl.a. på markante festivaler som Celtic Connections\, HebCeltFest\, Shetland Folk Festival\, Tønder Festival\, Woodford Folk Festival\, National Celtic Festival Australia\, Milwaukee Irish Fest og Celtic Colours samt\nseks albums i bagagen\, er de garanten for en fornem afslutning på festivalens første aften. \nMed violin\, harmonika\, harpe\, guitar\, fløjter\, stepdans og vokal skaber de vitalt grænseløs energi og umiskendelig livsglæde. \nKoncerten er anden del af en dobbeltkoncert på musikfestivalen Showcase Scotland @ Baltoppen 2023\, og programsat til at starte ca. kl. 21:45 – med forbehold for tidsforskydninger. Første del af dobbeltkoncerten er med Kim Carnie (SCO)\, der går på scenen kl. 20.00. \nFestivalbillet: 595\,- / Ung under 25 år: 295\,-\nFredagsbillet: 265\,- / Ung under 25 år: 130\,-\nLørdagsbillet: 395\,- / Ung under 25 år: 195\,- \nBestil mad samtidig med at du bestiller dine billetter!
URL:https://folkalender.dk/arrangement/the-outside-track-sco-ie-ca/
LOCATION:Baltoppen LIVE\, Baltorpvej 20\, Ballerup\, 2750
CATEGORIES:Festival,Koncert
ATTACH;FMTTYPE=image/jpeg:https://folkalender.dk/wp-content/uploads/2023/03/Outside_Track_14.jpg
GEO:55.7305364;12.3522152
X-APPLE-STRUCTURED-LOCATION;VALUE=URI;X-ADDRESS=Baltoppen LIVE Baltorpvej 20 Ballerup 2750;X-APPLE-RADIUS=500;X-TITLE=Baltorpvej 20:geo:12.3522152,55.7305364
END:VEVENT
BEGIN:VEVENT
DTSTART;TZID=Europe/Helsinki:20230512T200000
DTEND;TZID=Europe/Helsinki:20230512T230000
DTSTAMP:20260422T020450
CREATED:20221231T132021Z
LAST-MODIFIED:20221231T132021Z
UID:5235-1683921600-1683932400@folkalender.dk
SUMMARY:Koncert med Twang
DESCRIPTION:Twang\nEn koncert med Twang er uforudsigelig. Rummet er fyldt med humor og varme\, når de tre musikere går på scenen og samles om deres fælles mikrofon. Twangs\nbesætning med kontrabas\, akustisk guitar\, violin og banjo er måske nok\nessensen af den amerikanske folkemusik\, men samtidig er trioen kendt for at blande alt fra jazz til hiphop ind i deres lyd. De har fundet deres helt eget udtryk uden at slippe traditionen.\nTwang er kendt for deres nærvær\, ærlighed og tætte samspil med publikum og hinanden. Det er ikke unormalt\, at publikum til deres koncerter både får tårer i\nøjenkrogen og griner højlydt med bandet.\nPublikum husker Twang for deres fænomenale trestemmige sang og deres instrumentskift\, når bassisten pludselig finder guitaren frem og banjospilleren griber bassen.\nMed musikalsk overskud\, historier og drillerier binder trioen sangene sammen til en levende koncertoplevelse. \nThyge van Dassen: Violin & vokal.\nSpencer Gross: Guitar\, kontrabas & vokal.\nPeter Banks: Banjo\, kontrabas & vokal.
URL:https://folkalender.dk/arrangement/koncert-med-twang/
LOCATION:Kulturhuset Rejsestalden.\, Hovedgaden 29a\, Jægerspris\, 3630
CATEGORIES:Koncert
GEO:55.8554115;11.9825747
X-APPLE-STRUCTURED-LOCATION;VALUE=URI;X-ADDRESS=Kulturhuset Rejsestalden. Hovedgaden 29a Jægerspris 3630;X-APPLE-RADIUS=500;X-TITLE=Hovedgaden 29a:geo:11.9825747,55.8554115
END:VEVENT
BEGIN:VEVENT
DTSTART;TZID=Europe/Helsinki:20230512T200000
DTEND;TZID=Europe/Helsinki:20230512T233000
DTSTAMP:20260422T020450
CREATED:20230323T120556Z
LAST-MODIFIED:20230323T120556Z
UID:6024-1683921600-1683934200@folkalender.dk
SUMMARY:Showcase Scotland - Musikfestival 2023
DESCRIPTION:Skotland sprudler af boblende musik\, hvor rødderne til den keltiske og gæliske kultur stikker dybt. Musikfestivalen Showcase Scotland @ Baltoppen LIVE viser den aktuelle vitalitet med i alt fem eftertragtede bands\, der optræder med et overflødighedshorn af synkoperede rytmer\, vidunderlige numre samt underholdende sceneshows. \nProgram:\nFredag 12/5: Dobbeltkoncert fra kl. 20:00\nKim Carnie (SCO) – Stemmen\, der trøster sjælen\nThe Outside Track (SCO/IE/CA) – Tradition og fornyelse med smittende glæde \nLørdag 13/5: Triplekoncert fra kl. 17:00\nProject SMOK (SCO) – Eksplosivt fusion af traditionel musik og moderne new-age pop\nRURA (SCO) – Overbevisende\, raffineret lyd\nMànran (SCO) – Supergruppe med stolte folkrocktraditioner \nFestivalbillet: 595\,-  / Ung under 25 år: 295\,-\nFredagsbillet: 265\,- / unge u. 25 år: 130\,-\nLørdagsbillet: 395\,- / unge u. 25 år: 195\,- \nInkluder spisning i dine billetter\, når du køber dem online.
URL:https://folkalender.dk/arrangement/showcase-scotland-musikfestival-2023/2023-05-12/
LOCATION:Baltoppen LIVE\, Baltorpvej 20\, Ballerup\, 2750
CATEGORIES:Festival,Koncert
ATTACH;FMTTYPE=image/jpeg:https://folkalender.dk/wp-content/uploads/2023/03/SS@BL-2023_Early-Bird_Fb-annonce.jpg
GEO:55.7305364;12.3522152
X-APPLE-STRUCTURED-LOCATION;VALUE=URI;X-ADDRESS=Baltoppen LIVE Baltorpvej 20 Ballerup 2750;X-APPLE-RADIUS=500;X-TITLE=Baltorpvej 20:geo:12.3522152,55.7305364
END:VEVENT
BEGIN:VEVENT
DTSTART;TZID=Europe/Helsinki:20230512T200000
DTEND;TZID=Europe/Helsinki:20230512T233000
DTSTAMP:20260422T020450
CREATED:20230323T130737Z
LAST-MODIFIED:20230323T130737Z
UID:6028-1683921600-1683934200@folkalender.dk
SUMMARY:Kim Carnie (SCO)
DESCRIPTION:Prisvinderen Kim Carnie har\, siden sin solodebut i 2018\, vist sig som én af de mest efterspurgte skotske/gæliske sangere. \nInden da havde hun bidraget til soundtracket på Netflix’s film Outlaw King og lavet musik til computerspillene Black Mirror og The Bard’s Tale. Hun har optrådt på signifikante britiske scener og festivaler. Som i 2018\, hvor hun\, på nationalt TV\, optrådte live med BBC Scottish Symphony Orchestra\, i en hyldest til nutidige gæliske sangere i showet ‘crème de la crème of Contemporary Gaelic singers’. \nHun har siden 2019 udfyldt frontrollen i succesbandet Mànran\, og var i 2020 med til at etablere det fremadstormende band Staran. \nKim Carnie erobrer scenen med en umiskendelig charme. Hendes inderlighed fastholder enhvers opmærksomhed. Den flerfaceterede vokal er sårbar\, oprigtig og er inkarnationen af følelser. Kim Carnies tekster udfordrer sindet\, båret af en stemme\, der trøster sjælen. \nKoncerten er en del af musikfestivalen Showcase Scotland @ Baltoppen 2023 . Her medbringer hun sit eget band med guitar\, violin\, klaver\, kontrabas og percussion. Koncerten med Kim Carnie er første del af en dobbeltkoncert. Den anden koncert er med The Outside Track. \nFestivalbillet: 595\,- / Ung under 25 år: 295\,-\nFredagsbillet: 265\,- / Ung under 25 år: 130\,-\nLørdagsbillet: 395\,- / Ung under 25 år: 195\,-
URL:https://folkalender.dk/arrangement/kim-carnie-sco/
LOCATION:Baltoppen LIVE\, Baltorpvej 20\, Ballerup\, 2750
CATEGORIES:Festival,Koncert
ATTACH;FMTTYPE=image/jpeg:https://folkalender.dk/wp-content/uploads/2023/03/Kim-Carnie-by-Elly-Lucas-1.jpg
GEO:55.7305364;12.3522152
X-APPLE-STRUCTURED-LOCATION;VALUE=URI;X-ADDRESS=Baltoppen LIVE Baltorpvej 20 Ballerup 2750;X-APPLE-RADIUS=500;X-TITLE=Baltorpvej 20:geo:12.3522152,55.7305364
END:VEVENT
BEGIN:VEVENT
DTSTART;TZID=Europe/Helsinki:20230513T100000
DTEND;TZID=Europe/Helsinki:20230513T170000
DTSTAMP:20260422T020450
CREATED:20230330T163826Z
LAST-MODIFIED:20230330T163826Z
UID:6106-1683972000-1683997200@folkalender.dk
SUMMARY:Folkedansens og Folkemusikkens dag i Nyvang 2023 - Sjælland
DESCRIPTION:Kom og spil med i stort orkester – eller du kan hyggespille i oplevelsescentret. Gratis adgang for musikere er betinget af tilmelding til Michael S. – Ramsø. Vi spiller fra 10.00 til ca. 14.30 – tag selv frokost med.\nProgram for dagen inkl. melodivalg til dansen kan rekvireres hos Michael S.\nKl. 15.00 afsluttes dagen med folkemusikgudstjeneste i centrets kirke – Sct. Josef.
URL:https://folkalender.dk/arrangement/folkedansens-og-folkemusikkens-dag-i-nyvang-2023-sjaelland/
LOCATION:Nyvang\, Holbæk\, Nyvangs Alle 4\,\, Holbæk\, 4300
ATTACH;FMTTYPE=image/jpeg:https://folkalender.dk/wp-content/uploads/2023/03/MOPS-2019.jpg
ORGANIZER;CN="Spillemandskredsen":MAILTO:angrjens@gmail.com
GEO:55.6938535;11.7476709
X-APPLE-STRUCTURED-LOCATION;VALUE=URI;X-ADDRESS=Nyvang Holbæk Nyvangs Alle 4 Holbæk 4300;X-APPLE-RADIUS=500;X-TITLE=Nyvangs Alle 4\,:geo:11.7476709,55.6938535
END:VEVENT
BEGIN:VEVENT
DTSTART;TZID=Europe/Helsinki:20230513T170000
DTEND;TZID=Europe/Helsinki:20230513T183000
DTSTAMP:20260422T020450
CREATED:20230323T133027Z
LAST-MODIFIED:20230323T133027Z
UID:6034-1683997200-1684002600@folkalender.dk
SUMMARY:Project SMOK (SCO)
DESCRIPTION:Den progressive neo-trad trio Project Smok blev i 2017 dannet af de multi-prisvindende musikere Ali Levack (piber og fløjter)\, Pablo Lafuente (guitar) og Ewan Baird (bodhrán). \nDe er allerede\, efter blot fem år\, et eftertragtet brand. Den relative hurtige anerkendelse skyldes deres ekstraordinære instrumentale virtuositet\, musikkens intense drive og musikernes delikate følsomhed. \nTrioen bryder genrer\, når de ubesværet og eksplosivt fusionerer traditionel musik med moderne new-age pop. \nDe tre musikere fanger publikums opmærksomhed fra den første tone. \n‘You will simply not hear a better group for sheer\, unadulterated virtuosity…’\nMNPR Magazine \nKoncerten er første del af en tripelkoncert på musikfestivalen Showcase Scotland @ Baltoppen 2023. Den anden koncert er med RURA. Den tredje koncert er med Mánran. \nFestivalbillet: 595\,- / Ung under 25 år: 295\,-\nFredagsbillet: 265\,- / Ung under 25 år: 130\,-\nLørdagsbillet: 395\,- / Ung under 25 år: 195\,- \nBestil mad samtidig med at du bestiller dine billetter!
URL:https://folkalender.dk/arrangement/project-smok-sco/
LOCATION:Baltoppen LIVE\, Baltorpvej 20\, Ballerup\, 2750
CATEGORIES:Festival,Koncert
ATTACH;FMTTYPE=image/jpeg:https://folkalender.dk/wp-content/uploads/2023/03/SMOK_Photo-19-02-2020-22-05-25.jpg
GEO:55.7305364;12.3522152
X-APPLE-STRUCTURED-LOCATION;VALUE=URI;X-ADDRESS=Baltoppen LIVE Baltorpvej 20 Ballerup 2750;X-APPLE-RADIUS=500;X-TITLE=Baltorpvej 20:geo:12.3522152,55.7305364
END:VEVENT
BEGIN:VEVENT
DTSTART;TZID=Europe/Helsinki:20230513T200000
DTEND;TZID=Europe/Helsinki:20230513T213000
DTSTAMP:20260422T020450
CREATED:20230323T133456Z
LAST-MODIFIED:20230323T133456Z
UID:6037-1684008000-1684013400@folkalender.dk
SUMMARY:RURA (SCO)
DESCRIPTION:De fire musikere Steven Blake\, Jack Smedley\, David Foley og Adam Brown fik deres første gennembrud på festivalen Celtic Connections i Glasgow i 2010. \nSiden har RURA hastigt bevæget sig op ad successtigen\, medbringende en overbevisende\, raffineret og progressiv sammensat lyd af highland pipes\, violin\, fløjte\, guitar\, klaver\, bodhran og vokal. \nDebutalbummet ‘Break It Up’ fra 2012 resulterede i fine anmeldelser og prisnomineringer. Bl.a. modtog i 2015 prisen for ‘Live Act Of The Year’ ved Scots Trad Music Awards. \nKoncerten er anden del af lørdagens triplekoncert\, programsat til at starte ca. kl. 20:00 – med forbehold for tidsforskydninger\, på musikfestivalen Showcase Scotland @ Baltoppen 2023. Den første koncert er med Project Smok. Den tredje koncert er med Mánran. \nFestivalbillet: 595\,- / Ung under 25 år: 295\,-\nFredagsbillet: 265\,- / Ung under 25 år: 130\,-\nLørdagsbillet: 395\,- / Ung under 25 år: 195\,- \nBestil mad samtidig med at du bestiller dine billetter!
URL:https://folkalender.dk/arrangement/rura-sco/
LOCATION:Baltoppen LIVE\, Baltorpvej 20\, Ballerup\, 2750
CATEGORIES:Festival,Koncert
ATTACH;FMTTYPE=image/jpeg:https://folkalender.dk/wp-content/uploads/2023/03/RURA-2018-1.jpg
GEO:55.7305364;12.3522152
X-APPLE-STRUCTURED-LOCATION;VALUE=URI;X-ADDRESS=Baltoppen LIVE Baltorpvej 20 Ballerup 2750;X-APPLE-RADIUS=500;X-TITLE=Baltorpvej 20:geo:12.3522152,55.7305364
END:VEVENT
BEGIN:VEVENT
DTSTART;TZID=Europe/Helsinki:20230513T210000
DTEND;TZID=Europe/Helsinki:20230513T223000
DTSTAMP:20260422T020450
CREATED:20221219T125003Z
LAST-MODIFIED:20221219T125003Z
UID:5125-1684011600-1684017000@folkalender.dk
SUMMARY:Signe Svendsen
DESCRIPTION:Med sit seneste album\, Hvem Vil Ikke Elskes Igen\, viser Signe Svendsen bedre end nogensinde før sin magiske evne til at gøre det ensomme og sårbare til noget\, vi kan være fælles om. Kritikerne roser albummet til skyerne med særlig vægt på Svendsens evne til at dykke ned i mørket og kærlighedens vildveje med en særegen autenticitet. \nKritikerne skrev: \nPolitiken – ”Den smukke titelsang lyder som et snigerhit” \nFyens Stiftstidende – ”Hvem Vil Ikke Elskes Igen har ingen svage sange. Kun stærke og virkelig stærke” \nNordjyske – ”…. en stærk kandidat til årets dansksprogede album” (ifm. koncert i Musikkens Hus\, Aalborg) \nGAFFA  – “…rummer en forunderlig autencitet og særegen ro” \nJyllands-Posten – “Et smukt\, poetisk værk” \nNu samler Signe Svendsen op på albumudgivelsen med en koncertrække\, hvor de helt nye sange og de stærkeste kort fra bagkataloget præsenteres sammen med et særligt udvalgt band. Med sig har hun guitarist og producer Lars Skjærbæk\, Palle Hjorth på tangenter og Marie Vilsbøll (VILMA) på bas\, synthesizere og kor. Sammen skaber de koncerter med nærvær\, fortællinger og et rum til musikken\, der bliver både storladen\, helt intim og nærmest filmisk. \n”Det bliver intense og sjove aftener\, til drømmerne og de stædigt elskende\,” udtaler Svendsen ”Det her lille band er funklende fantastisk til både at lege sig igennem sangene og være super defineret på samme tid. Glæder mig meget til møde publikum sammen med dem”.
URL:https://folkalender.dk/arrangement/signe-svendsen/
LOCATION:Fermaten\, Smallegade 4\, Herning\, 7400
CATEGORIES:Koncert
ORGANIZER;CN="Fermaten":MAILTO:mail@fermaten.dk
GEO:56.1368467;8.970104
X-APPLE-STRUCTURED-LOCATION;VALUE=URI;X-ADDRESS=Fermaten Smallegade 4 Herning 7400;X-APPLE-RADIUS=500;X-TITLE=Smallegade 4:geo:8.970104,56.1368467
END:VEVENT
BEGIN:VEVENT
DTSTART;TZID=Europe/Helsinki:20230513T214500
DTEND;TZID=Europe/Helsinki:20230513T231500
DTSTAMP:20260422T020450
CREATED:20230323T133922Z
LAST-MODIFIED:20230323T133922Z
UID:6040-1684014300-1684019700@folkalender.dk
SUMMARY:Mànran (SCO)
DESCRIPTION:Den multiprisvindende skotske supergruppe har de seneste ti år været indbegrebet af skotsk/gælisk succes på musikfronten. \nDe syv musikere Gary Innes (harmonika)\, Ewen Henderson (violin)\, Ryan Murphy (uilleann pipes\, fløjter)\, Aidan Moodie (guitar)\, Marcus Cordock (bas)\, Mark Scobbie (trommer) og Kim Carnie (vokal) er internationalt anerkendt\, som ét af de mest ikoniske skotske aktuelle bands. \nDet mangefacetterede musikalske kraftcenter begejstrer publikum overalt i verden – foreløbig har de turneret i 30 lande – med sine rutinerede\, virtuose og unikke liveoptrædener\, baseret på en eminent beherskelse af såvel traditionelle som moderne instrumenter og fremragende sange på gælisk og engelsk. \nBandet bringer masser af energi og fornyet styrke ind i de stolte folkrocktraditioner. Med tre yderst succesfulde studiealbums i bagkataloget udgav bandet i oktober 2021 sit fjerde album: ÙRAR\, der også er blevet modtaget ekstatisk. \nKoncerten er tredje og sidste del af en triplekoncert på musikfestivalen Showcase Scotland @ Baltoppen 2023\, programsat til at starte ca. kl. 21:45 – med forbehold for tidsforskydninger. Den første koncert er med Project Smok. Den anden koncert er med RURA. \nFestivalbillet: 595\,- / Ung under 25 år: 295\,-\nFredagsbillet: 265\,- / Ung under 25 år: 130\,-\nLørdagsbillet: 395\,- / Ung under 25 år: 195\,- \nBestil mad samtidig med at du bestiller dine billetter!
URL:https://folkalender.dk/arrangement/manran-sco/
LOCATION:Baltoppen LIVE\, Baltorpvej 20\, Ballerup\, 2750
CATEGORIES:Festival,Koncert
ATTACH;FMTTYPE=image/jpeg:https://folkalender.dk/wp-content/uploads/2023/03/Manran.jpg
GEO:55.7305364;12.3522152
X-APPLE-STRUCTURED-LOCATION;VALUE=URI;X-ADDRESS=Baltoppen LIVE Baltorpvej 20 Ballerup 2750;X-APPLE-RADIUS=500;X-TITLE=Baltorpvej 20:geo:12.3522152,55.7305364
END:VEVENT
BEGIN:VEVENT
DTSTART;TZID=Europe/Helsinki:20230514T193000
DTEND;TZID=Europe/Helsinki:20230514T230000
DTSTAMP:20260422T020450
CREATED:20230514T063121Z
LAST-MODIFIED:20230514T063737Z
UID:6367-1684092600-1684105200@folkalender.dk
SUMMARY:Dúchas thar Farraige: New Irish Music (IRE/FI)
DESCRIPTION:I Maskinhallen (Sundholm8) kan i den 27. maj opleve nyt irsk musik. Den irske guitarist Chris Comhaill og finsk fødte kontrabassist Otso Mielonen danner gruppen Dúchas thar Farraige. Oversat betyder navnet: Arvet over havet. Mielonen rejste over vandet for at\nstudere i Dublin\, hvor han mødte Comhaill og hvor de endte med at arbejde tæt sammen. Begge er født ved havet og dets krafter\, mysterier\, historier har formet deres liv og væren. Dúchas thar Farraige tager udgangspunkt i den irske folkemusik og i ånden af de irske Seanchaí\, formidler de historier om fortabte tider og nye virkligheder. \nstuderende 50kr\,- / 100kr\,- \nDørene åbner 19:30\nKoncerten starter 20:00 \n(Photo: Anna Nowakowska)
URL:https://folkalender.dk/arrangement/duchas-thar-farraige-new-irish-music-ire-fi/
LOCATION:Sundholm8: Maskinhallen\, Sundholmsvej 28A\, København\, 2300
CATEGORIES:Koncert
ATTACH;FMTTYPE=image/jpeg:https://folkalender.dk/wp-content/uploads/2023/05/annanowakowskaphotography61-2-1-scaled.jpeg
GEO:55.6609636;12.595257
X-APPLE-STRUCTURED-LOCATION;VALUE=URI;X-ADDRESS=Sundholm8: Maskinhallen Sundholmsvej 28A København 2300;X-APPLE-RADIUS=500;X-TITLE=Sundholmsvej 28A:geo:12.595257,55.6609636
END:VEVENT
END:VCALENDAR