BEGIN:VCALENDAR
VERSION:2.0
PRODID:-//Folkalender - ECPv6.10.1.1//NONSGML v1.0//EN
CALSCALE:GREGORIAN
METHOD:PUBLISH
X-ORIGINAL-URL:https://folkalender.dk
X-WR-CALDESC:Begivenheder for Folkalender
REFRESH-INTERVAL;VALUE=DURATION:PT1H
X-Robots-Tag:noindex
X-PUBLISHED-TTL:PT1H
BEGIN:VTIMEZONE
TZID:Europe/Helsinki
BEGIN:DAYLIGHT
TZOFFSETFROM:+0200
TZOFFSETTO:+0300
TZNAME:EEST
DTSTART:20230326T010000
END:DAYLIGHT
BEGIN:STANDARD
TZOFFSETFROM:+0300
TZOFFSETTO:+0200
TZNAME:EET
DTSTART:20231029T010000
END:STANDARD
END:VTIMEZONE
BEGIN:VEVENT
DTSTART;TZID=Europe/Helsinki:20230417T193000
DTEND;TZID=Europe/Helsinki:20230417T210000
DTSTAMP:20260421T200539
CREATED:20230124T090451Z
LAST-MODIFIED:20230124T090451Z
UID:5529-1681759800-1681765200@folkalender.dk
SUMMARY:Jensen & Bugge i Nordthy
DESCRIPTION:Koncert med de største hits indenfor dansk folkemusiktradition
URL:https://folkalender.dk/arrangement/jensen-bugge-i-nordthy-2/
LOCATION:Kirsten Kjærs museum\, Langvadvej 64\, Frøstup\, 7741
CATEGORIES:Koncert
ATTACH;FMTTYPE=image/jpeg:https://folkalender.dk/wp-content/uploads/2023/01/219512169_1815450605296294_6919678349169808627_n-1-1-scaled.jpg
GEO:57.0754947;8.9579761
X-APPLE-STRUCTURED-LOCATION;VALUE=URI;X-ADDRESS=Kirsten Kjærs museum Langvadvej 64 Frøstup 7741;X-APPLE-RADIUS=500;X-TITLE=Langvadvej 64:geo:8.9579761,57.0754947
END:VEVENT
BEGIN:VEVENT
DTSTART;TZID=Europe/Helsinki:20230419T200000
DTEND;TZID=Europe/Helsinki:20230419T213000
DTSTAMP:20260421T200539
CREATED:20230220T120825Z
LAST-MODIFIED:20230220T120825Z
UID:5844-1681934400-1681939800@folkalender.dk
SUMMARY:Tradish
DESCRIPTION:Siden de blev dannet i 2009\, har Tradish optrådt på hundredvis af scener på tværs af Europa. Bandet har mødt og genset et publikum\, der værdsætter den åbne og personlige tilgang til den traditionelle irske musik\, der kendetegner Tradish. Som en del af den levende irske musiktradition\, spiller Tradish sig ind i en spændende og livsbekræftende blanding af det gamle og det nye\, fortid og nutid\, med en stærk forankring og respekt for rødderne. \nDet sidste album Handmade tales er en samling af 15 håndlavede numre udført på håndlavede akustiske instrumenter – 15 fortællinger med hver sin historie. Det er et destillat af bandets helt specielle lyd\, hvor deres egne kompositioner tilføres den irske traditionelle musik. Handmade tales er et snapshot af\, hvordan bandets karakteristiske lyd har udviklet sig gennem mange års sammenspil: lyden af 3 stemmer og 6 hænder\, som spiller på instrumenter håndbygget af træ\, strenge og gedeskind. \nTraditionel irsk musik har gennem de sidste 200 år vokset sig til et kraftfuldt træ med forgreninger\, knopskud og spirer over hele verden. Nu er den et globalt fænomen som står i fuldt flor. Det forrige album Roots & Shoots tager os lyttere med på en rejse\, hvor brændstoffet og inspirationen er hentet fra træets rødder og fra betragtninger af folks liv her og nu. Roots & Shoots høstede begejstrede anmeldelser tværs over Europa\, og Tradish blev valgt som ét af 10 bands til at repræsentere Danmark i musikeksport projektet “Danish Roots – Growing in the World”. \nI forbindelse med 3 turnéer til Grønland har de ladet sig inspirere af den grønlandske sangtradition. Sangen ”Nuilersup Qilaap Seequinersuata” blev således en fast del af koncertrepertoiret og er at finde på Handmade tales. \nI løbet af de sidste 5 år har Tradish i en koncertrække optrådt med danseren Gunilla Odsbøl\, som er Europamester i irsk step. Gunillas fødder kan høres på et af pladens dansenumre.
URL:https://folkalender.dk/arrangement/tradish/
LOCATION:Fermaten\, Smallegade 4\, Herning\, 7400
CATEGORIES:Koncert
ATTACH;FMTTYPE=image/jpeg:https://folkalender.dk/wp-content/uploads/2023/02/Tradish-press-photo-2014-scaled.jpg
ORGANIZER;CN="Fermaten":MAILTO:mail@fermaten.dk
GEO:56.1368467;8.970104
X-APPLE-STRUCTURED-LOCATION;VALUE=URI;X-ADDRESS=Fermaten Smallegade 4 Herning 7400;X-APPLE-RADIUS=500;X-TITLE=Smallegade 4:geo:8.970104,56.1368467
END:VEVENT
BEGIN:VEVENT
DTSTART;TZID=Europe/Helsinki:20230420T193000
DTEND;TZID=Europe/Helsinki:20230420T213000
DTSTAMP:20260421T200539
CREATED:20230207T201809Z
LAST-MODIFIED:20230207T201923Z
UID:5608-1682019000-1682026200@folkalender.dk
SUMMARY:Basco og Prinsens Musik korps – Skanderborg Kulturhus
DESCRIPTION:Taget letter\, når Basco og Prinsens Musikkorps går på scenen\nPrinsens Musikkorps og Basco danner fælles front i et hæsblæsende og stemningsfuldt møde mellem nordisk folkemusik og fremtidens klassiske blæserensemble. \nDe nordiske folkemusiktraditioner har med deres energiske danse og vemodige melodier været lydsporet til livets store oplevelser gennem mange hundrede år. Når Basco\, en af Nordens mest opfindsomme fornyere og fortolkere af disse traditioner\, møder Prinsens Musikkorps (PMUK)\, kan man ikke andet end at lade sig tryllebinde og rive med i en helt ny oplevelse af folkemusikkens fortællinger. Mødet mellem den klassiske militærmusik og folkemusikken er ikke ny\, idet de første militærorkestre blev dannet af lokale spillemænd\, som traditionen tro både håndterede stryge- og blæseinstrumenter. Siden har de to traditioner bevæget sig i hver sin retning\, men mødes nu igen i nye nuancer\, klange og melodier og en utæmmelig kraft og energi i sange\, der ganske enkelt handler om liv og død\, kærlighed og raseri\, glæde og sorg.\nBasco og PMUK har mødtes flere gange før\, og senest med en række nye arrangementer af Bascos sprudlende musik forarbejdet af den norske tonemester og arrangør Helge Sunde. Den store flotte lyd af det klassiske messingensemble blender forunderligt godt med Bascos intense og energifyldte musik\, og det er med stor gensidig glæde at de 2 orkestre mødes. Første gang Basco mødte et af de store blæserensembler var samarbejdet med DR Big Band\, som siden blev til en live-udgivelse i form af en EP. En anmelder har kaldt albummet et ”kækt kærlighedsprodukt”. Kærligheden til messingblæserne fortsættes nu med PMUK og tre store koncerter fordelt over hele landet.\nPMUK\nEt levende orkester – Det kan godt være\, at PMUK forbindes med marchmusik\, men et stift bekendtskab er musikkorpset ingenlunde.\nPMUK er et af Forsvarets tre fuldtidsprofessionelle musikkorps\, og orkesteret er kendt for sin store musikalske spændvidde\, der strækker sig fra alt mellem pop til pompøse marcher. Nordisk folkemusik og bigbandjazz er også en del af repertoiret for PMUK\, som består af 16 musikere. Rygtet om messingorkesterets mange kvaliteter har for længst bredt sig i musikkens verden.\nBasco\nMed virtuositet\, nærvær og pulserende energi tager det prisvindene folk og roots band Basco dig med på en autentisk\, musikalsk rejse. De forener på fornemmeste vis skandinavisk\, engelsk\, keltisk og amerikansk tradition og gør det til deres helt egen\, originale lyd med sprøde arrangementer og intensitet i særklasse.\nBascos sublime sceneoptræden har ført dem verden rundt\, hvor de har optrådt på de største folk-festivaller og begejstret publikum med deres komplekse variation af musikalske fortællinger\, der rummer alt fra medrivende\, sveddryppende rytmer til melankolske\, betagende sange – fælles for dem alle er\, at musikken og fortællingen er i centrum.
URL:https://folkalender.dk/arrangement/basco-og-prinsens-musik-korps-skanderborg-kulturhus/
LOCATION:skanderborg kulturhus\, Parkvejl 10\, Skanderborg\, 8660
CATEGORIES:Koncert
ATTACH;FMTTYPE=image/jpeg:https://folkalender.dk/wp-content/uploads/2023/02/Basco-PMUKa2.jpg
GEO:56.0352416;9.9322404
X-APPLE-STRUCTURED-LOCATION;VALUE=URI;X-ADDRESS=skanderborg kulturhus Parkvejl 10 Skanderborg 8660;X-APPLE-RADIUS=500;X-TITLE=Parkvejl 10:geo:9.9322404,56.0352416
END:VEVENT
BEGIN:VEVENT
DTSTART;TZID=Europe/Helsinki:20230421T200000
DTEND;TZID=Europe/Helsinki:20230421T200000
DTSTAMP:20260421T200539
CREATED:20230306T175447Z
LAST-MODIFIED:20230329T075250Z
UID:5907-1682107200-1682107200@folkalender.dk
SUMMARY:Phønix & Sangka – Thorøhuse Forsamlingshus
DESCRIPTION:Der er lagt op til en helt speciel koncertoplevelse\, når det danske folkemusik band Phønix inviterer den kinesiske Guzhengspiller SangKa med på scenen. Sammen skaber de et helt nyt og unikt lydunivers\, i mødet mellem to meget forskellige musikalske\ntraditioner.\nGuzheng’en har en drømmende harpe-agtig pentaton lyd\, som på smuk vis spiller op imod Phønix’ energiske og groovende melodier og sange. Det bliver en koncert på højt musikalsk niveau\, med vægt på nærvær\, energi\, virtuositet og et stærkt visuelt udtryk.\nEventyret mellem øst og vest begyndte i en rå fabrikshal i Beijings nye art district 798.\nVed åbningen af det nye danske kulturinstitut i Beijing i 2014\, skulle Phønix spille dansk folkemusik i den ene ende af en stor fabrikshal\, mens SangKa stod i den anden ende og lod tonerne flyde fra sit kinesiske instrument.\nSiden har de spillet sammen flere gange\, på SPOT-festival\, Kulturmødet på Mors\, Musik i Tide festival samt på koncerturnéer i Danmark og Guangdong-provins i Kina.\nSangKa: Guzheng\, Anja Præst: Basklarinet/klarinet\, Karen Mose: Vokal/keys Jesper Vinther: Harmonika\, Jesper Falch: Percussion\nKoncerten i Thorøhuse er som sædvanligt med mulighed for spisning af en 2-retters menu for en pris af 150 kr. Koncerten koster ligeledes 150 kr. og billetter bestilles på tlf. 22871053.
URL:https://folkalender.dk/arrangement/phoenix-sangka-thoroehuse-forsamlingshus/
LOCATION:Thorøhuse Forsamlingshus\, Drejet 7\, Assens\, 5610
CATEGORIES:Koncert
ATTACH;FMTTYPE=image/jpeg:https://folkalender.dk/wp-content/uploads/2023/03/Molln-scaled.jpg
GEO:55.2440877;9.8930038
X-APPLE-STRUCTURED-LOCATION;VALUE=URI;X-ADDRESS=Thorøhuse Forsamlingshus Drejet 7 Assens 5610;X-APPLE-RADIUS=500;X-TITLE=Drejet 7:geo:9.8930038,55.2440877
END:VEVENT
BEGIN:VEVENT
DTSTART;TZID=Europe/Helsinki:20230421T200000
DTEND;TZID=Europe/Helsinki:20230421T220000
DTSTAMP:20260421T200539
CREATED:20230207T202117Z
LAST-MODIFIED:20230207T202117Z
UID:5612-1682107200-1682114400@folkalender.dk
SUMMARY:Basco og Prinsens Musik korps - Halkær Kro
DESCRIPTION:Taget letter\, når Basco og Prinsens Musikkorps går på scenen\nPrinsens Musikkorps og Basco danner fælles front i et hæsblæsende og stemningsfuldt møde mellem nordisk folkemusik og fremtidens klassiske blæserensemble. \nDe nordiske folkemusiktraditioner har med deres energiske danse og vemodige melodier været lydsporet til livets store oplevelser gennem mange hundrede år. Når Basco\, en af Nordens mest opfindsomme fornyere og fortolkere af disse traditioner\, møder Prinsens Musikkorps (PMUK)\, kan man ikke andet end at lade sig tryllebinde og rive med i en helt ny oplevelse af folkemusikkens fortællinger. Mødet mellem den klassiske militærmusik og folkemusikken er ikke ny\, idet de første militærorkestre blev dannet af lokale spillemænd\, som traditionen tro både håndterede stryge- og blæseinstrumenter. Siden har de to traditioner bevæget sig i hver sin retning\, men mødes nu igen i nye nuancer\, klange og melodier og en utæmmelig kraft og energi i sange\, der ganske enkelt handler om liv og død\, kærlighed og raseri\, glæde og sorg.\nBasco og PMUK har mødtes flere gange før\, og senest med en række nye arrangementer af Bascos sprudlende musik forarbejdet af den norske tonemester og arrangør Helge Sunde. Den store flotte lyd af det klassiske messingensemble blender forunderligt godt med Bascos intense og energifyldte musik\, og det er med stor gensidig glæde at de 2 orkestre mødes. Første gang Basco mødte et af de store blæserensembler var samarbejdet med DR Big Band\, som siden blev til en live-udgivelse i form af en EP. En anmelder har kaldt albummet et ”kækt kærlighedsprodukt”. Kærligheden til messingblæserne fortsættes nu med PMUK og tre store koncerter fordelt over hele landet.\nPMUK\nEt levende orkester – Det kan godt være\, at PMUK forbindes med marchmusik\, men et stift bekendtskab er musikkorpset ingenlunde.\nPMUK er et af Forsvarets tre fuldtidsprofessionelle musikkorps\, og orkesteret er kendt for sin store musikalske spændvidde\, der strækker sig fra alt mellem pop til pompøse marcher. Nordisk folkemusik og bigbandjazz er også en del af repertoiret for PMUK\, som består af 16 musikere. Rygtet om messingorkesterets mange kvaliteter har for længst bredt sig i musikkens verden.\nBasco\nMed virtuositet\, nærvær og pulserende energi tager det prisvindene folk og roots band Basco dig med på en autentisk\, musikalsk rejse. De forener på fornemmeste vis skandinavisk\, engelsk\, keltisk og amerikansk tradition og gør det til deres helt egen\, originale lyd med sprøde arrangementer og intensitet i særklasse.\nBascos sublime sceneoptræden har ført dem verden rundt\, hvor de har optrådt på de største folk-festivaller og begejstret publikum med deres komplekse variation af musikalske fortællinger\, der rummer alt fra medrivende\, sveddryppende rytmer til melankolske\, betagende sange – fælles for dem alle er\, at musikken og fortællingen er i centrum.
URL:https://folkalender.dk/arrangement/basco-og-prinsens-musik-korps-halkaer-kro/
LOCATION:Halkær Kro og Kulturhus\, Halkærvej 59\, Nibe\, 9240
CATEGORIES:Koncert
ATTACH;FMTTYPE=image/jpeg:https://folkalender.dk/wp-content/uploads/2023/02/Basco-PMUKa2-1.jpg
GEO:56.9211864;9.581698
X-APPLE-STRUCTURED-LOCATION;VALUE=URI;X-ADDRESS=Halkær Kro og Kulturhus Halkærvej 59 Nibe 9240;X-APPLE-RADIUS=500;X-TITLE=Halkærvej 59:geo:9.581698,56.9211864
END:VEVENT
BEGIN:VEVENT
DTSTART;TZID=Europe/Helsinki:20230421T200000
DTEND;TZID=Europe/Helsinki:20230421T223000
DTSTAMP:20260421T200539
CREATED:20230315T193239Z
LAST-MODIFIED:20230315T193239Z
UID:5974-1682107200-1682116200@folkalender.dk
SUMMARY:Phønix feat. SangKa
DESCRIPTION:Et unikt musikalsk kulturmøde mellem øst og vest.\nDer er lagt op til en helt speciel koncertoplevelse\, når Phønix inviterer den kinesiske Guzhengspiller SangKa med på scenen. Sammen skaber de et helt nyt og unikt lydunivers\, i mødet mellem to meget forskellige musikalske traditioner. Guzheng’en har en drømmende harpeagtig pentaton lyd\, som på smuk vis spiller op imod Phønix’ energiske og groovende melodier og sange. Det bliver en koncert på højt musikalsk niveau\, med vægt på nærvær\, energi\, virtuositet og et stærkt visuelt udtryk. \n“Phønix og SangKa præsenterer albummets 9 numre så raffineret\, at det lyder som en homogen enhed. Livlige og rolige passager veksler med hinanden. “Groovy Guzheng” er en fantastisk præstation uden at gå på kompromis” – Global Music Magazine \nEventyret mellem øst og vest begyndte i en rå fabrikshal i Beijings nye art district 798. Ved åbningen af det nye danske kulturinstitut i Beijing i 2014\, skulle Phønix spille dansk folkemusik i den ene ende af en stor fabrikshal\, mens SangKa stod i den anden ende og lod tonerne flyde fra sit kinesiske instrument. Siden har de spillet sammen flere gange\, på SPOT-festival\, Kulturmødet på Mors\, Musik i Tide festival samt på koncertturnéer i Danmark og Guangdong-provinsen i Kina. \nSangKa\ner født og opvokset i Beijing. Hun har spillet på Guzheng fra hun var 5 år. I 2007 startede hun på China Conservatory of Music. I dag er hun fuldtids professionel musiker. Af højdepunkter kan bl.a. nævnes en solo optræden ved OL åbningsceremonien i Beijing i 2008.\nKoncerten i Thorøhuse er som sædvanligt med mulighed for spisning af en 2-retters menu for en pris af 150 kr. Koncerten koster ligeledes 150 kr. og billetter bestilles på tlf. 22871053.\nKoncerterne i Thorøhuse Forsamlingshus støttes af Statens Kunstfond og Assens Kommune.
URL:https://folkalender.dk/arrangement/phoenix-feat-sangka-2/
LOCATION:Thorøhuse Forsamlingshus\, Drejet 7\, Assens\, 5610
CATEGORIES:Koncert
ATTACH;FMTTYPE=image/jpeg:https://folkalender.dk/wp-content/uploads/2023/03/Phonix-Pressefoto1-scaled.jpg
GEO:55.2440877;9.8930038
X-APPLE-STRUCTURED-LOCATION;VALUE=URI;X-ADDRESS=Thorøhuse Forsamlingshus Drejet 7 Assens 5610;X-APPLE-RADIUS=500;X-TITLE=Drejet 7:geo:9.8930038,55.2440877
END:VEVENT
BEGIN:VEVENT
DTSTART;TZID=Europe/Helsinki:20230422T190000
DTEND;TZID=Europe/Helsinki:20230422T223000
DTSTAMP:20260421T200539
CREATED:20220528T082354Z
LAST-MODIFIED:20220528T082354Z
UID:3837-1682190000-1682202600@folkalender.dk
SUMMARY:Opvisning og legestue/bal i Herlev
DESCRIPTION:Kom og se\, hvad vores hold har danset i sæsonens løb og kom selv på gulvet til en munter aften med god musik\, når Herlev Folkedanserforening afholder legestue/bal for alle. Herlev Kvartetten spiller\, Annette Thomsen instruerer\, og foreningen sørger for hjemmebagte kager og friskbrygget kaffe og te.\nObs! Indkørsel fra Tvedvangen
URL:https://folkalender.dk/arrangement/opvisning-og-legestue-bal-i-herlev/
LOCATION:Lindehøjskolen\, Borgerdiget 105\, Herlev\, 2730
CATEGORIES:Bal,Danseworkshop,Folkedanserforening,Legestue
ORGANIZER;CN="Herlev Folkedanserforening":MAILTO:formand@herlevfolkedans.dk
GEO:55.7327406;12.4233514
X-APPLE-STRUCTURED-LOCATION;VALUE=URI;X-ADDRESS=Lindehøjskolen Borgerdiget 105 Herlev 2730;X-APPLE-RADIUS=500;X-TITLE=Borgerdiget 105:geo:12.4233514,55.7327406
END:VEVENT
BEGIN:VEVENT
DTSTART;TZID=Europe/Helsinki:20230422T200000
DTEND;TZID=Europe/Helsinki:20230422T200000
DTSTAMP:20260421T200539
CREATED:20230307T083045Z
LAST-MODIFIED:20230307T083045Z
UID:5912-1682193600-1682193600@folkalender.dk
SUMMARY:Phønix & Sangka - Papaya koncert - Huset Ålborg
DESCRIPTION:Det danske folkband Phønix har efter længere turnéer i Kina indledt et samarbejde med den unge kinesiske guzhengspiller SangKa\, som Phønix nu på ny præsenterer på en turné i Danmark i et hidtil uset sammenspil mellem dansk og kinesisk folkemusik.\nPhønix og Sangka mødte hinanden i Beijing i forbindelse med åbningen af det nye danske Kulturinstitut. Det blev til mange gode timers sammenspil og to meget spændende koncerter\, og efterfølgende var alle enige om at fortsætte samarbejdet. Phønix og Sangka har spillet en række koncerter i Danmark\, og de besøgte os flere gange. De har også indspillet en CD sammen.\nDen kinesiske guzheng er en slags harpe med en række strenge (ofte 21)\, der er delt i to dele spændt ud over en resonanskasse\, og som anslås med fingrene på begge hænder. Den spiller på smuk vis spiller op imod Phønix’ energiske\, groovende sound. Det er et kulturmøde mellem to meget forskellige musikalske traditioner\, som sammen skaber et helt særligt og unikt nyt lydunivers.\nSangKa er en ung fremadstormende guzheng-spiller\, bosat i Beijing og uddannet på China Conservatory of Music. SangKa er\, trods sin unge alder\, allerede en anerkendt musiker i Kina\, hvor hun sågar bidrog til åbningsmusikken ved OL i Beijing 2008. I Europa har SangKa desuden spillet på Womex festivaler og på turnéer i Tyskland og Belgien.\nPhønix er et af Danmarks førende folk bands. Deres helt specielle lyd har rødder i den danske og skandinaviske sang- og musiktradition\, men de bringer den mod nye horisonter med en nutidig og unik klang med både traditionelle og mere eksperimenterende elementer.\nPhønixs intense og energiske sceneoptræden har ført dem rundt i store dele af verden – både på de største folk festivaler og de mest intime klubscener.\nPhønix har udgivet talrige CD’er og har modtaget 4 Danish Music Award for bl.a. Årets udgivelse (traditionel) og Årets vokalist for CD’en ”Folk”. Albummet ”NU” fra 2014 fik 5 stjerner ud af 5 i det anerkendte engelsk folktidsskrift Froots.\nPhønix har bl.a. spillet på: Viljandi Folk Festival (EST)\, Dranouter Folk Festival (BE)\, Folkest (IT)\, Tønder Festival (DK)\, Brosella (BE)\, Førde International Folkmusic Festival (NO)\, Windros Folk Festival (D)\, Korrö Folkmusik Festival (SE)\, Chicago World Festival (US). \nPhønix med SangKa fra Kina – dansk folkemusik med kinesisk bidrag:\nAnja Præst: Basklarinet & klarinet\nSangKa: Guzheng\nJesper Falch: Percussion\nKaren Mose: Vokal/keys\nJesper Vinther: Harmonika \nHjemmesider:\nphonixfolk.dk\nfacebook\nyoutube.com/phonixfolk \nArrangeret af Papaya & Huset\nMed støtte fra Kunstrådet & Aalborg Kommune
URL:https://folkalender.dk/arrangement/phoenix-sangka-papaya-koncert-huset-aalborg/
LOCATION:Huset i Hasserisgade\, Hasserisgade 10\, Ålborg\, 9000
CATEGORIES:Koncert
ATTACH;FMTTYPE=image/jpeg:https://folkalender.dk/wp-content/uploads/2023/03/Molln3-scaled.jpg
GEO:57.0469466;9.9102187
X-APPLE-STRUCTURED-LOCATION;VALUE=URI;X-ADDRESS=Huset i Hasserisgade Hasserisgade 10 Ålborg 9000;X-APPLE-RADIUS=500;X-TITLE=Hasserisgade 10:geo:9.9102187,57.0469466
END:VEVENT
BEGIN:VEVENT
DTSTART;TZID=Europe/Helsinki:20230422T203000
DTEND;TZID=Europe/Helsinki:20230422T230000
DTSTAMP:20260421T200539
CREATED:20230207T202408Z
LAST-MODIFIED:20230207T202408Z
UID:5616-1682195400-1682204400@folkalender.dk
SUMMARY:Basco og Prinsens Musik korps - Fodderstoffen i Rudme
DESCRIPTION:Taget letter\, når Basco og Prinsens Musikkorps går på scenen\nPrinsens Musikkorps og Basco danner fælles front i et hæsblæsende og stemningsfuldt møde mellem nordisk folkemusik og fremtidens klassiske blæserensemble. \nDe nordiske folkemusiktraditioner har med deres energiske danse og vemodige melodier været lydsporet til livets store oplevelser gennem mange hundrede år. Når Basco\, en af Nordens mest opfindsomme fornyere og fortolkere af disse traditioner\, møder Prinsens Musikkorps (PMUK)\, kan man ikke andet end at lade sig tryllebinde og rive med i en helt ny oplevelse af folkemusikkens fortællinger. Mødet mellem den klassiske militærmusik og folkemusikken er ikke ny\, idet de første militærorkestre blev dannet af lokale spillemænd\, som traditionen tro både håndterede stryge- og blæseinstrumenter. Siden har de to traditioner bevæget sig i hver sin retning\, men mødes nu igen i nye nuancer\, klange og melodier og en utæmmelig kraft og energi i sange\, der ganske enkelt handler om liv og død\, kærlighed og raseri\, glæde og sorg.\nBasco og PMUK har mødtes flere gange før\, og senest med en række nye arrangementer af Bascos sprudlende musik forarbejdet af den norske tonemester og arrangør Helge Sunde. Den store flotte lyd af det klassiske messingensemble blender forunderligt godt med Bascos intense og energifyldte musik\, og det er med stor gensidig glæde at de 2 orkestre mødes. Første gang Basco mødte et af de store blæserensembler var samarbejdet med DR Big Band\, som siden blev til en live-udgivelse i form af en EP. En anmelder har kaldt albummet et ”kækt kærlighedsprodukt”. Kærligheden til messingblæserne fortsættes nu med PMUK og tre store koncerter fordelt over hele landet.\nPMUK\nEt levende orkester – Det kan godt være\, at PMUK forbindes med marchmusik\, men et stift bekendtskab er musikkorpset ingenlunde.\nPMUK er et af Forsvarets tre fuldtidsprofessionelle musikkorps\, og orkesteret er kendt for sin store musikalske spændvidde\, der strækker sig fra alt mellem pop til pompøse marcher. Nordisk folkemusik og bigbandjazz er også en del af repertoiret for PMUK\, som består af 16 musikere. Rygtet om messingorkesterets mange kvaliteter har for længst bredt sig i musikkens verden.\nBasco\nMed virtuositet\, nærvær og pulserende energi tager det prisvindene folk og roots band Basco dig med på en autentisk\, musikalsk rejse. De forener på fornemmeste vis skandinavisk\, engelsk\, keltisk og amerikansk tradition og gør det til deres helt egen\, originale lyd med sprøde arrangementer og intensitet i særklasse.\nBascos sublime sceneoptræden har ført dem verden rundt\, hvor de har optrådt på de største folk-festivaller og begejstret publikum med deres komplekse variation af musikalske fortællinger\, der rummer alt fra medrivende\, sveddryppende rytmer til melankolske\, betagende sange – fælles for dem alle er\, at musikken og fortællingen er i centrum.
URL:https://folkalender.dk/arrangement/basco-og-prinsens-musik-korps-fodderstoffen-i-rudme/
LOCATION:Fodderstoffen i Rudme\, Rudmevej 121\, Ringe\, 5750
ATTACH;FMTTYPE=image/jpeg:https://folkalender.dk/wp-content/uploads/2023/02/Basco-PMUKa2-2.jpg
GEO:55.1981491;10.4822433
X-APPLE-STRUCTURED-LOCATION;VALUE=URI;X-ADDRESS=Fodderstoffen i Rudme Rudmevej 121 Ringe 5750;X-APPLE-RADIUS=500;X-TITLE=Rudmevej 121:geo:10.4822433,55.1981491
END:VEVENT
BEGIN:VEVENT
DTSTART;TZID=Europe/Helsinki:20230423T120000
DTEND;TZID=Europe/Helsinki:20230423T130000
DTSTAMP:20260421T200539
CREATED:20230207T202907Z
LAST-MODIFIED:20230207T203005Z
UID:5620-1682251200-1682254800@folkalender.dk
SUMMARY:Basco – Familiekoncert på Gimle\, Roskilde
DESCRIPTION:Med virtuositet\, nærvær og pulserende energi tager det prisvindene folk og roots band Basco dig med på en autentisk\, musikalsk rejse. De forener på fornemmeste vis skandinavisk\, engelsk\, keltisk og amerikansk tradition og gør det til deres helt egen\, originale lyd med sprøde arrangementer og intensitet i særklasse. \nKoncerten er en familiekoncert\, hvor alle er velkommen. Man inviteres med på en musikalsk rejse\, præsenteres for mange forskellige instrumenter og får en indføring i akustisk musik
URL:https://folkalender.dk/arrangement/basco-familiekoncert-paa-gimle-roskilde/
LOCATION:Gimle\, Roskilde\, Helligkorsvej 2\, Roskilde\, 4000
CATEGORIES:Koncert
ATTACH;FMTTYPE=image/jpeg:https://folkalender.dk/wp-content/uploads/2023/02/Basco-PR-1-instr-scaled.jpg
GEO:55.6398348;12.0714186
X-APPLE-STRUCTURED-LOCATION;VALUE=URI;X-ADDRESS=Gimle Roskilde Helligkorsvej 2 Roskilde 4000;X-APPLE-RADIUS=500;X-TITLE=Helligkorsvej 2:geo:12.0714186,55.6398348
END:VEVENT
END:VCALENDAR