BEGIN:VCALENDAR
VERSION:2.0
PRODID:-//Folkalender - ECPv6.10.1.1//NONSGML v1.0//EN
CALSCALE:GREGORIAN
METHOD:PUBLISH
X-WR-CALNAME:Folkalender
X-ORIGINAL-URL:https://folkalender.dk
X-WR-CALDESC:Begivenheder for Folkalender
REFRESH-INTERVAL;VALUE=DURATION:PT1H
X-Robots-Tag:noindex
X-PUBLISHED-TTL:PT1H
BEGIN:VTIMEZONE
TZID:Europe/Helsinki
BEGIN:DAYLIGHT
TZOFFSETFROM:+0200
TZOFFSETTO:+0300
TZNAME:EEST
DTSTART:20230326T010000
END:DAYLIGHT
BEGIN:STANDARD
TZOFFSETFROM:+0300
TZOFFSETTO:+0200
TZNAME:EET
DTSTART:20231029T010000
END:STANDARD
END:VTIMEZONE
BEGIN:VEVENT
DTSTART;TZID=Europe/Helsinki:20230405T190000
DTEND;TZID=Europe/Helsinki:20230405T220000
DTSTAMP:20260421T200237
CREATED:20230401T145456Z
LAST-MODIFIED:20230401T150050Z
UID:6112-1680721200-1680732000@folkalender.dk
SUMMARY:Twang @ Gilleleje Kulturhavn
DESCRIPTION:Koncert med dit bevidste/ubevidste yndlingsband\, Twang.\nOriginal og charmerende amerikansk folkemusik! \nKoncert: 20:00
URL:https://folkalender.dk/arrangement/twang-gilleleje-kulturhavn/
LOCATION:Gilleleje Kulturhavn\, Gilleleje\, 3250
CATEGORIES:Koncert
ATTACH;FMTTYPE=image/jpeg:https://folkalender.dk/wp-content/uploads/2023/04/30171CE7-13C6-4341-B5AE-8EE85269B88D.jpeg
GEO:56.1101947;12.3105109
END:VEVENT
END:VCALENDAR