BEGIN:VCALENDAR
VERSION:2.0
PRODID:-//Folkalender - ECPv6.10.1.1//NONSGML v1.0//EN
CALSCALE:GREGORIAN
METHOD:PUBLISH
X-WR-CALNAME:Folkalender
X-ORIGINAL-URL:https://folkalender.dk
X-WR-CALDESC:Begivenheder for Folkalender
REFRESH-INTERVAL;VALUE=DURATION:PT1H
X-Robots-Tag:noindex
X-PUBLISHED-TTL:PT1H
BEGIN:VTIMEZONE
TZID:Europe/Helsinki
BEGIN:DAYLIGHT
TZOFFSETFROM:+0200
TZOFFSETTO:+0300
TZNAME:EEST
DTSTART:20230326T010000
END:DAYLIGHT
BEGIN:STANDARD
TZOFFSETFROM:+0300
TZOFFSETTO:+0200
TZNAME:EET
DTSTART:20231029T010000
END:STANDARD
END:VTIMEZONE
BEGIN:VEVENT
DTSTART;TZID=Europe/Helsinki:20230214T193000
DTEND;TZID=Europe/Helsinki:20230214T230000
DTSTAMP:20260421T004208
CREATED:20220908T164010Z
LAST-MODIFIED:20220908T164010Z
UID:4519-1676403000-1676415600@folkalender.dk
SUMMARY:Fourth Moon feat. Ainsley Hamill (SCO/FR//IT/AU)
DESCRIPTION:International keltisk smeltedigel med stepdanser \nFourth Moon blev dannet i 2013\, da to franske musikere; Jean-Christophe Morel fra The Jeremiahs (violin) og Jean Damei (guitar)\, en østriger; Geza Frank (sækkepibe og fløjte) og en skotte; Mohsen Amini fra Talisk (concertina) mødtes til Willie Clancy Festival i Irland. \nI 2016 erstattede italienske David Lombardi så JC Morel\, og senere trådte Andrew Waite fra Dallahan (harmonika) ind i stedet for Mohsen Amini. David er senere også blevet medlem af Dallahan… Fourth Moon er således en slags smeltedigel af fire forskellige musiktraditioner. \nFourth Moon udgav deres længe ventede debut¬album Ellipsis i marts 2018. Kvartetten har turneret flittigt over det meste af Europa og deres musik – næsten udelukkende originale kompositioner – kan føre publikum ind i en rolig\, nærmest meditativ stemning\, som hvert et øjeblik og uden varsel kan skifte til noget livligt\, rytmisk og virtuost. \nDe fire musikere fra henholdsvis Skotland\, Frankrig\, Italien samt Østrig har inviteret stepdanseren og vokalisten Ainsley Hamill – kendt fra bandet Barluath – med sig på scenen. \n“Absolutely amazing” – BBC Radio Scotland \n“A Group to be entrusted with the jewels of trad. themselves” – BBC Radio Ulster \n“This is modern\, masterful mayhem delivered with all the firepower of centuries of tradition. Every piece here is new\, every one is intricately constructed or deconstructed\, every part is played to perfection” – Irish Traditional Music Magazine
URL:https://folkalender.dk/arrangement/fourth-moon-feat-ainsley-hamill-sco-fr-it-au/
LOCATION:Baltoppen LIVE\, Baltorpvej 20\, Ballerup\, 2750
CATEGORIES:Koncert
GEO:55.7305364;12.3522152
X-APPLE-STRUCTURED-LOCATION;VALUE=URI;X-ADDRESS=Baltoppen LIVE Baltorpvej 20 Ballerup 2750;X-APPLE-RADIUS=500;X-TITLE=Baltorpvej 20:geo:12.3522152,55.7305364
END:VEVENT
BEGIN:VEVENT
DTSTART;TZID=Europe/Helsinki:20230214T200000
DTEND;TZID=Europe/Helsinki:20230214T213000
DTSTAMP:20260421T004208
CREATED:20230207T153834Z
LAST-MODIFIED:20230207T153834Z
UID:5599-1676404800-1676410200@folkalender.dk
SUMMARY:Vildspil - i grænselandet mellem struktur og stemningsbilleder i nutidig dansk folkemusik
DESCRIPTION:En musikalsk samtale som undersøger grænselandet mellem folkemusikkens strukturer og de konstant foranderlige stemningsbilleder\, som præger min og andres tilværelse. \nMusikerne ønsker i denne koncert at udfordre lytterne og hinanden med fortællingen om Spillemanden. \nMusikken:\nSpillemanden drager ud i en søgen efter forståelse af sig selv i sin samtid og stiller spørgsmål til troværdigheden ved sig selv som kunstner. \nKompositionerne er skrevet af Benjamin Bech og bærer præg af den nordiske folkemusik. \nDenne koncert er samtidig en pre-debut for klarinettisten og komponisten Benjamin Bøgelund Bech\, som vil debutere fra solistuddannelsen Contemporary Creative Artist på Syddansk Musikkonservatorium d. 13. marts i Esbjerg. \nBenjamin Bøgelund Bech: Klarinet\nJulie Holmegaard Schade: Accordeon\nGunnar Sjur Ringøen: Hammondorgel\nLydteknik: Rune Colin\nCoverfoto: David Faurskov Jensen \nTidspunkt: kl.20.00\nEntré: gratis\nAdresse: Over Bækken 1\, 5792 Årslev \nMere info:\nwww.husmandsstedet.dk\nwww.benjaminbech.dk \nKoncerten er lavet i samarbejde med Husmandsstedet og støttet af Dansk Musiker Forbund.
URL:https://folkalender.dk/arrangement/vildspil-i-graenselandet-mellem-struktur-og-stemningsbilleder-i-nutidig-dansk-folkemusik/
LOCATION:Husmandsstedet\, Over Bækken 1\, Sønder Nærå\, 5792 Årslev
CATEGORIES:Koncert
ATTACH;FMTTYPE=image/jpeg:https://folkalender.dk/wp-content/uploads/2023/02/some.jpg
GEO:55.3073183;10.4858739
X-APPLE-STRUCTURED-LOCATION;VALUE=URI;X-ADDRESS=Husmandsstedet Over Bækken 1 Sønder Nærå 5792 Årslev;X-APPLE-RADIUS=500;X-TITLE=Over Bækken 1:geo:10.4858739,55.3073183
END:VEVENT
BEGIN:VEVENT
DTSTART;TZID=Europe/Helsinki:20230215T193000
DTEND;TZID=Europe/Helsinki:20230215T203000
DTSTAMP:20260421T004208
CREATED:20220708T201836Z
LAST-MODIFIED:20230130T214009Z
UID:4037-1676489400-1676493000@folkalender.dk
SUMMARY:Skye Consort & Emma Björling (CAN/S)
DESCRIPTION:Skye Consort består af fire verdensklasse musikere Alex Kehler\, Amanda Keesmaat\, Seán Dagher samt sangeren Emma Björling og optræder med transatlantiske arrangementer af traditionelle sange og melodier fra Irland\, Skotland\, England\, Québec\, Acadia\, USA\, Skandinavien samt originale kompositioner af musikerne selv.\nBandet skaber med hver deres individuelle fortolkning af de forskellige musiktraditioner dette smukke og ekstraordinære samarbejde bestående af stemmer\, violin\, nøgleharpe\, cello\, bouzouki\, banjo og percussion med et varieret repertoire af hvirvlende svenske polskaer\, groovy reels\, lidenskabelige kærlighedssange\, betagende salmer samt egne originale numre.  \nOm Skye Consort & Emma Björling:\nSkye Consort er en Montreal-baseret trio\, der siden 2000 har akkompagneret forskellige sangere og kor samt indspillet 6 cd’er med flere anerkendte sangere som Matthew White\, Shannon Mercer og Michael Slattery.\nEmma Björling er prisvindende svensk sanger\, komponist og underviser og også meget aktiv i de to verdensklassebands Kongero og Lyy. \nSkye Consort og Emma mødtes under et La Nef-projekt i Montréal i oktober 2017\, og takket være Emmas annullerede fly fik musikerne ekstra tid sammen\, hvilket fik dem til at starte dette band.\nSkye Consort & Emma Björling har optrådt på festivaler\, koncertsale og spillesteder fra nord til syd i Sverige samt Québec og Ontario i Canada. Bandets turnéplaner 2020-2022 involverer også Danmark\, Tyskland\, Belgien\, Frankrig\, Storbritannien og USA.\n– Se videos her: https://www.skyeconsort.org/442104360\n– Lyt til ”Skye Consort & Emma Björling” (cd fra 2019):\nhttps://skyeconsortemmabjrling.bandcamp.com/  \nEt par cd anmeldelser af ”Skye Consort & Emma Björling” (2019): \n”Fra første tone bevæges man af Emma Björlings englestemme og ensemblets rene musikerskab. Gennem alle 14 sange bliver man taget med på en tidløs rejse gennem klassiske nordlige hymner fra begge sider af Atlanterhavet. Nogle gange er tingene bare meningen. Ren skæbne. Skye Consort & Emma Björling er en af dem. Et match i himlen”.  Jano Lapin\, Art|Lifestyle|Culture \n”Et samarbejde mellem vores foretrukne svenske sangerinde Emma Björling og Canadian Skye Consort kan kun være en succes. Kvartetten har sammensat et formidabelt tværatlantisk repertoire. Musik jeg bare ikke kan holde op med at lytte til. At vælge en yndlingssang er umuligt. Bedre end dette er svært at få”.  Luise Rube\, Lira Music  \nhttps://www.skyeconsort.org/
URL:https://folkalender.dk/arrangement/skye-consort-emma-bjorling/
LOCATION:Thurø kirke\, Svendborg\, Kirkestræde 10A\,\, Svendborg\, 5700
CATEGORIES:Koncert
ORGANIZER;CN="Thur%C3%B8 Kirke%2C Svendborg":MAILTO:vilupede@gmail.com
GEO:55.050035;10.663519
X-APPLE-STRUCTURED-LOCATION;VALUE=URI;X-ADDRESS=Thurø kirke Svendborg Kirkestræde 10A Svendborg 5700;X-APPLE-RADIUS=500;X-TITLE=Kirkestræde 10A\,:geo:10.663519,55.050035
END:VEVENT
BEGIN:VEVENT
DTSTART;TZID=Europe/Helsinki:20230216T193000
DTEND;TZID=Europe/Helsinki:20230216T203000
DTSTAMP:20260421T004208
CREATED:20221114T120734Z
LAST-MODIFIED:20230130T214028Z
UID:4975-1676575800-1676579400@folkalender.dk
SUMMARY:Skye Consort & Emma Björling (Can/S)
DESCRIPTION:Skye Consort består af fire verdensklasse musikere Alex Kehler\, Amanda Keesmaat\, Seán Dagher samt sangeren Emma Björling og optræder med transatlantiske arrangementer af traditionelle sange og melodier fra Irland\, Skotland\, England\, Québec\, Acadia\, USA\, Skandinavien samt originale kompositioner af musikerne selv.\nBandet skaber med hver deres individuelle fortolkning af de forskellige musiktraditioner dette smukke og ekstraordinære samarbejde bestående af stemmer\, violin\, nøgleharpe\, cello\, bouzouki\, banjo og percussion med et varieret repertoire af hvirvlende svenske polskaer\, groovy reels\, lidenskabelige kærlighedssange\, betagende salmer samt egne originale numre. \nOm Skye Consort & Emma Björling:\nSkye Consort er en Montreal-baseret trio\, der siden 2000 har akkompagneret forskellige sangere og kor samt indspillet 6 cd’er med flere anerkendte sangere som Matthew White\, Shannon Mercer og Michael Slattery.\nEmma Björling er prisvindende svensk sanger\, komponist og underviser og også meget aktiv i de to verdensklassebands Kongero og Lyy. \nSkye Consort og Emma mødtes under et La Nef-projekt i Montréal i oktober 2017\, og takket være Emmas annullerede fly fik musikerne ekstra tid sammen\, hvilket fik dem til at starte dette band.\nSkye Consort & Emma Björling har optrådt på festivaler\, koncertsale og spillesteder fra nord til syd i Sverige samt Québec og Ontario i Canada. Bandets turnéplaner 2020-2022 involverer også Danmark\, Tyskland\, Belgien\, Frankrig\, Storbritannien og USA.\n– Se videos her: https://www.skyeconsort.org/442104360\n– Lyt til ”Skye Consort & Emma Björling” (cd fra 2019):\nhttps://skyeconsortemmabjrling.bandcamp.com/ \nEt par cd anmeldelser af ”Skye Consort & Emma Björling” (2019): \n”Fra første tone bevæges man af Emma Björlings englestemme og ensemblets rene musikerskab. Gennem alle 14 sange bliver man taget med på en tidløs rejse gennem klassiske nordlige hymner fra begge sider af Atlanterhavet. Nogle gange er tingene bare meningen. Ren skæbne. Skye Consort & Emma Björling er en af dem. Et match i himlen”. Jano Lapin\, Art|Lifestyle|Culture \n”Et samarbejde mellem vores foretrukne svenske sangerinde Emma Björling og Canadian Skye Consort kan kun være en succes. Kvartetten har sammensat et formidabelt tværatlantisk repertoire. Musik jeg bare ikke kan holde op med at lytte til. At vælge en yndlingssang er umuligt. Bedre end dette er svært at få”. Luise Rube\, Lira Music \nhttps://www.skyeconsort.org/
URL:https://folkalender.dk/arrangement/skye-consort-emma-bjorling-can-s-2/
LOCATION:Islebjerg kirke\, Frederikssund\, Ansgarsvej 2\, Frederikssund\, 3600
CATEGORIES:Koncert
GEO:55.8469206;12.0601561
X-APPLE-STRUCTURED-LOCATION;VALUE=URI;X-ADDRESS=Islebjerg kirke Frederikssund Ansgarsvej 2 Frederikssund 3600;X-APPLE-RADIUS=500;X-TITLE=Ansgarsvej 2:geo:12.0601561,55.8469206
END:VEVENT
BEGIN:VEVENT
DTSTART;TZID=Europe/Helsinki:20230217T193000
DTEND;TZID=Europe/Helsinki:20230217T230000
DTSTAMP:20260421T004208
CREATED:20230105T205550Z
LAST-MODIFIED:20230105T210154Z
UID:5311-1676662200-1676674800@folkalender.dk
SUMMARY:Vinterbal med Køge Spillemandsforening
DESCRIPTION:Køge Spillemandsforening holder ÅbentHus\, hvor foreningens forskellige grupper underholder med spil til dans og med sang.\nArrangementet er støttet af Køge Kommune.
URL:https://folkalender.dk/arrangement/vinterbal-med-koege-spillemandsforening/
LOCATION:Ellemarkskolen\, Gymnasievej 10\, Køge\, 4600
CATEGORIES:Bal
ATTACH;FMTTYPE=image/jpeg:https://folkalender.dk/wp-content/uploads/2023/01/faelles2.jpg
ORGANIZER;CN="K&oslash%3Bge Spillemandsforening":MAILTO:webmaster@koegespillemand.dk
GEO:55.454587;12.1643207
X-APPLE-STRUCTURED-LOCATION;VALUE=URI;X-ADDRESS=Ellemarkskolen Gymnasievej 10 Køge 4600;X-APPLE-RADIUS=500;X-TITLE=Gymnasievej 10:geo:12.1643207,55.454587
END:VEVENT
BEGIN:VEVENT
DTSTART;TZID=Europe/Helsinki:20230218T200000
DTEND;TZID=Europe/Helsinki:20230218T220000
DTSTAMP:20260421T004208
CREATED:20221114T121349Z
LAST-MODIFIED:20230216T151321Z
UID:4978-1676750400-1676757600@folkalender.dk
SUMMARY:Skye Consort & Emma Björling (Can/S) - Udsolgt!
DESCRIPTION:Skye Consort består af fire verdensklasse musikere Alex Kehler\, Amanda Keesmaat\, Seán Dagher samt sangeren Emma Björling og optræder med transatlantiske arrangementer af traditionelle sange og melodier fra Irland\, Skotland\, England\, Québec\, Acadia\, USA\, Skandinavien samt originale kompositioner af musikerne selv.\nBandet skaber med hver deres individuelle fortolkning af de forskellige musiktraditioner dette smukke og ekstraordinære samarbejde bestående af stemmer\, violin\, nøgleharpe\, cello\, bouzouki\, banjo og percussion med et varieret repertoire af hvirvlende svenske polskaer\, groovy reels\, lidenskabelige kærlighedssange\, betagende salmer samt egne originale numre. \nOm Skye Consort & Emma Björling:\nSkye Consort er en Montreal-baseret trio\, der siden 2000 har akkompagneret forskellige sangere og kor samt indspillet 6 cd’er med flere anerkendte sangere som Matthew White\, Shannon Mercer og Michael Slattery.\nEmma Björling er prisvindende svensk sanger\, komponist og underviser og også meget aktiv i de to verdensklassebands Kongero og Lyy. \nSkye Consort og Emma mødtes under et La Nef-projekt i Montréal i oktober 2017\, og takket være Emmas annullerede fly fik musikerne ekstra tid sammen\, hvilket fik dem til at starte dette band.\nSkye Consort & Emma Björling har optrådt på festivaler\, koncertsale og spillesteder fra nord til syd i Sverige samt Québec og Ontario i Canada. Bandets turnéplaner 2020-2022 involverer også Danmark\, Tyskland\, Belgien\, Frankrig\, Storbritannien og USA.\n– Se videos her: https://www.skyeconsort.org/442104360\n– Lyt til ”Skye Consort & Emma Björling” (cd fra 2019):\nhttps://skyeconsortemmabjrling.bandcamp.com/ \nEt par cd anmeldelser af ”Skye Consort & Emma Björling” (2019): \n”Fra første tone bevæges man af Emma Björlings englestemme og ensemblets rene musikerskab. Gennem alle 14 sange bliver man taget med på en tidløs rejse gennem klassiske nordlige hymner fra begge sider af Atlanterhavet. Nogle gange er tingene bare meningen. Ren skæbne. Skye Consort & Emma Björling er en af dem. Et match i himlen”. Jano Lapin\, Art|Lifestyle|Culture \n”Et samarbejde mellem vores foretrukne svenske sangerinde Emma Björling og Canadian Skye Consort kan kun være en succes. Kvartetten har sammensat et formidabelt tværatlantisk repertoire. Musik jeg bare ikke kan holde op med at lytte til. At vælge en yndlingssang er umuligt. Bedre end dette er svært at få”. Luise Rube\, Lira Music \nhttps://www.skyeconsort.org/
URL:https://folkalender.dk/arrangement/skye-consort-emma-bjorling-can-s-3/
LOCATION:Wintercoat\, Grønvej 51\, Fårup\, Sabro\, 8471
CATEGORIES:Koncert
ORGANIZER;CN="Wintercoat":MAILTO:info@wintercoat.dk
GEO:56.2081097;10.0594837
X-APPLE-STRUCTURED-LOCATION;VALUE=URI;X-ADDRESS=Wintercoat Grønvej 51 Fårup Sabro 8471;X-APPLE-RADIUS=500;X-TITLE=Grønvej 51\, Fårup:geo:10.0594837,56.2081097
END:VEVENT
BEGIN:VEVENT
DTSTART;TZID=Europe/Helsinki:20230219T200000
DTEND;TZID=Europe/Helsinki:20230219T213000
DTSTAMP:20260421T004208
CREATED:20230215T205741Z
LAST-MODIFIED:20230215T205741Z
UID:5766-1676836800-1676842200@folkalender.dk
SUMMARY:Kjorstad Brothers (NO) i Musikkens Hus / Vinterjazz 2023
DESCRIPTION:Fanø Free Folk Festival byder atter på spændende folkemusikalske toner i Sønderho. Denne gang med en Vinterjazz-special\, hvor en af Norges mest orginale folk-duoer\, Kjorstad Brothers\, spiller op med musik\, der forener dybe traditioner\, improvisation og eksperimenterende åbenhed. Koncerten foregår i dejligt intime rammer i Musikkens Hus. \nPraktisk info:\nTid: 19/2\, kl. 20.00 (dørene åbner 19.30)\nSted: Musikkens Hus\, Landevejen 58\, 6720 Fanø\nBilletter a 100 kroner kan købes i døren eller via Billetto.\nLyt til Kjorstad Brothers: https://kjorstadbrothers.bandcamp.com/album/kj-re-min-maur \nDen norske duo Kjorstad Brothers forener dybe folkemusikalske traditioner med skæve toner\, upolerede klange og elementer af fabulerende improvisation. \nDe to brødre Rasmus og Hans Kjorstad er stærke instrumentalister på den frodige norske folkemusikscene og har bl.a. arbejdet med internationalt anerkendte navne som Frode Haltli\, Vassvik og skotske Alasdair Roberts. I 2022 har de også hver især udsendt roste soloplader.\nI Kjorstad Brothers tager de udgangspunkt i folkemusikken fra Gudbrandsdalen\, som de dog tilføjer deres helt egen skæve tone og excentriske instrumentering\, som det kan høres på det mesterlige album “Kjære min maur” (2020). Her blandes brødrenes smukke strygerklange med bl.a. indisk harmonium\, fløjter og det norske citarinstrument langeleik. \nAlbummet fik en begejstret modtagelse hos bl.a. musiksiden Salt Peanuts\, der skrev: “Dette er blitt en strålende plate\, som man enten kan danse til\, eller bare nyte en søndags formiddag når vinteren er på vei. Dette er det norskeste av det norske\, og befinner seg på mange måter tett på den friere musikken som ble utviklet på diverse «loft» i New York på 60- og 70-tallet\, med musikere som den gang eksperimenterte seg fram i freejazzen\, så som William Parker\, David S. Ware\, Moondoc\, og alle de andre heltene.” \nKjorstad Brothers er kort sagt en duo\, der både dykker dybt i regional folkemusik\, og appellerer til fans af åbensindet jazz\, fri musik og fabulerende eksperimenter. En af de mest spændende nordiske folk-duoer lige nu\, og Fanø Free Folk Festival glæder sig til at præsentere dem i Danmark på en særlig Vinterjazz-minitour\, der altså også bringer dem til Musikkens Hus i Sønderho\, hvor de spiller en akustisk intimkoncert. \nKoncerten er en del af Vinterjazz og præsenteres i samarbejde med Copenhagen Jazz Festival.
URL:https://folkalender.dk/arrangement/kjorstad-brothers-no-i-musikkens-hus-vinterjazz-2023/
LOCATION:Musikkens Hus\, Landevejen 58\, Sønderho\, 6720
CATEGORIES:Koncert
ATTACH;FMTTYPE=image/jpeg:https://folkalender.dk/wp-content/uploads/2023/02/kjorstad_press.jpeg
ORGANIZER;CN="Fan&oslash%3B Free Folk Festival":MAILTO:fanofreefolk@gmail.com
GEO:55.349118;8.467537
X-APPLE-STRUCTURED-LOCATION;VALUE=URI;X-ADDRESS=Musikkens Hus Landevejen 58 Sønderho 6720;X-APPLE-RADIUS=500;X-TITLE=Landevejen 58:geo:8.467537,55.349118
END:VEVENT
END:VCALENDAR