BEGIN:VCALENDAR
VERSION:2.0
PRODID:-//Folkalender - ECPv6.10.1.1//NONSGML v1.0//EN
CALSCALE:GREGORIAN
METHOD:PUBLISH
X-WR-CALNAME:Folkalender
X-ORIGINAL-URL:https://folkalender.dk
X-WR-CALDESC:Begivenheder for Folkalender
REFRESH-INTERVAL;VALUE=DURATION:PT1H
X-Robots-Tag:noindex
X-PUBLISHED-TTL:PT1H
BEGIN:VTIMEZONE
TZID:Europe/Helsinki
BEGIN:DAYLIGHT
TZOFFSETFROM:+0200
TZOFFSETTO:+0300
TZNAME:EEST
DTSTART:20230326T010000
END:DAYLIGHT
BEGIN:STANDARD
TZOFFSETFROM:+0300
TZOFFSETTO:+0200
TZNAME:EET
DTSTART:20231029T010000
END:STANDARD
END:VTIMEZONE
BEGIN:VEVENT
DTSTART;TZID=Europe/Helsinki:20230208T200000
DTEND;TZID=Europe/Helsinki:20230208T230000
DTSTAMP:20260420T230224
CREATED:20230123T210013Z
LAST-MODIFIED:20230123T210013Z
UID:5490-1675886400-1675897200@folkalender.dk
SUMMARY:Fourth Moon m. Ainsley Hamill
DESCRIPTION:Fourth Moon spiller original virtuos irsk folk/ klassisk kammermusik\, og der venter en stor oplevelse og en masse gåsehud. Sangerinde Ainsley Hamill synger helt fantastisk og tilmed på gælisk.  Fourth Moon spillede på Tønder i år\, så nogle har allerede hørt dem\, og ved hvad der venter os. Læs mere om Fourth Moon her: www.fourthmoonmusic.com  \nKoncerten er årets 2. koncert i den superhyggelige musikforening Roots Aarhus 🙂
URL:https://folkalender.dk/arrangement/fourth-moon-m-ainsley-hamill/
LOCATION:Teater Refleksion\, Frederiksgade 72 B\, 1\,\, Aarhus C\, 8000
CATEGORIES:Koncert
ATTACH;FMTTYPE=image/jpeg:https://folkalender.dk/wp-content/uploads/2023/01/Fourth-Moon_700.jpeg
ORGANIZER;CN="Roots Aarhus":MAILTO:bestyrelsen@rootsaarhus.dk
GEO:56.1542683;10.2034709
X-APPLE-STRUCTURED-LOCATION;VALUE=URI;X-ADDRESS=Teater Refleksion Frederiksgade 72 B 1 Aarhus C 8000;X-APPLE-RADIUS=500;X-TITLE=Frederiksgade 72 B\, 1\,:geo:10.2034709,56.1542683
END:VEVENT
BEGIN:VEVENT
DTSTART;TZID=Europe/Helsinki:20230209T113000
DTEND;TZID=Europe/Helsinki:20230209T130000
DTSTAMP:20260420T230224
CREATED:20220528T082041Z
LAST-MODIFIED:20220528T082041Z
UID:3835-1675942200-1675947600@folkalender.dk
SUMMARY:Åbent hus med gratis folkedans
DESCRIPTION:Kom til gratis prøvetime på vores hold for alle\, der vil styrke hjerne og hjerte i hyggeligt og muntert selskab uden ret meget hoppen og snurren rundt. Vi danser i alt otte torsdage frem til 1. december. Levende musik og kyndig instruktion.
URL:https://folkalender.dk/arrangement/aabent-hus-med-gratis-folkedans-3/
LOCATION:Hjortespring Foreningshus\, Gammel Klausdalsbrovej 444\, Herlev\, 2730
CATEGORIES:Danseworkshop,Folkedanserforening,Kursus
ORGANIZER;CN="Herlev Folkedanserforening":MAILTO:formand@herlevfolkedans.dk
GEO:55.7438357;12.4221379
X-APPLE-STRUCTURED-LOCATION;VALUE=URI;X-ADDRESS=Hjortespring Foreningshus Gammel Klausdalsbrovej 444 Herlev 2730;X-APPLE-RADIUS=500;X-TITLE=Gammel Klausdalsbrovej 444:geo:12.4221379,55.7438357
END:VEVENT
BEGIN:VEVENT
DTSTART;TZID=Europe/Helsinki:20230209T190000
DTEND;TZID=Europe/Helsinki:20230212T190000
DTSTAMP:20260420T230224
CREATED:20230113T164617Z
LAST-MODIFIED:20230113T164617Z
UID:5433-1675969200-1676228400@folkalender.dk
SUMMARY:Strib Vinter Festival
DESCRIPTION:En varm oplevelse i en kold tid… \nDet er mottoet for Strib Vinter Festival\, som siden 1989 har været et musikalsk lyspunkt i musiklivets mørke vinterpause.\nFestivalen arrangeres af foreningen GUF\, God Underholdende Folkemusik\, som blev dannet\ni 1987 af en flok folkemusik-entusiaster i området omkring Strib/Middelfart.\nStrib Vinter Festival tiltrækker med hygge og god musik mange gæster til den lille by ved Lillebælt. Husk også\, at GUF  året rundt arrangerer spændende koncerter i Middelfart\nog omegn…
URL:https://folkalender.dk/arrangement/strib-vinter-festival/
LOCATION:Strib skole\, Røjlemosevej 9\, Middelfart\, 5500
CATEGORIES:Festival
ATTACH;FMTTYPE=image/jpeg:https://folkalender.dk/wp-content/uploads/2023/01/StribVinterFestivalProgram2023_forside-scaled.jpg
ORGANIZER;CN="Foreningen GUF%2C God Underholdende Folkemusik":MAILTO:jrahbek@stribnet.dk
GEO:55.5387104;9.7733005
X-APPLE-STRUCTURED-LOCATION;VALUE=URI;X-ADDRESS=Strib skole Røjlemosevej 9 Middelfart 5500;X-APPLE-RADIUS=500;X-TITLE=Røjlemosevej 9:geo:9.7733005,55.5387104
END:VEVENT
BEGIN:VEVENT
DTSTART;TZID=Europe/Helsinki:20230209T200000
DTEND;TZID=Europe/Helsinki:20230209T213000
DTSTAMP:20260420T230224
CREATED:20221219T123924Z
LAST-MODIFIED:20221219T123924Z
UID:5110-1675972800-1675978200@folkalender.dk
SUMMARY:Rikke Thomsen
DESCRIPTION:Den sønderjyske sangskriver Rikke Thomsen slog i 2022 for alvor fast\, at hun mener musikken mere end almindeligt alvorligt. Hendes sange skrevet og sunget på klingende sønderjysk\, lader sig ikke begrænse til blot en enkelt landsdel eller aldersgruppe: fortællingerne rammer fra kyst til kyst og hos store som små. \nDette forår 2023 folder Rikke sangene ud og får guitaren til at spille\, så publikum kan mærke det. Touren præsenterer Rikkes bagkatalog med sange som “Vausen”\, “Omve’n Hjemve” og “Ballebrovej 2” og man vil også kunne få en særlig forsmag på nye sange fra Thomsens hånd. De sønderjyske fortællinger skæres alvorligt ind til benet og går tættere på den folk\, country og singer/songwriter tradition\, hun er rundet af. Desuden har Rikke Thomsen også et særligt kort i ærmet til sit publikum. Med sig bringer hun nemlig sin bassist og korsanger fra bandet\, Peter Parmo Overby\, og sammen vil de spille en række koncerter i duo-format. Deres stærke samspil og stemmer klæder hinanden ualmindeligt godt og Peters store musikalitet vil i særlig grad farve scenen og Rikkes bagkatalog. Der er dømt inderlighed\, alvor og fortællelyst\, når tourbilen sættes i gear på dette forårs Duo Tour 2023. \nSom soloartist og med band spillede Rikke Thomsen i 2022 over 80 koncerter i Danmark. Hun lagde ud med en solotour med 35 koncerter på 30 dage i hele landet\, hvilket cementerede det faktum\, at hun er vaskeægte spillemand af den hårdtarbejdende slags. For den udsolgte koncert i Musikhuset Aarhus fik hun 5 ud af 6 stjerner af GAFFA med ordene: “Hvis du ikke allerede har set hende live\, så gør det.”. Henover sommeren spillede Rikke Thomsen en række festivaller\, hvor særligt Tønder Festival markerede en hjemmebanesejr for Thomsen med 3.000 publikummer i et stopfuldt Telt 1 – en koncert Jyllands Posten gav 5 ud af 6 stjerner. \nGennem 2022 præsenterede Rikke Thomsens sit første fuldlængde album “Opland” for publikum og albummet fik stor opmærksomhed. I udgivelsesugen var “Opland” bedst sælgende fysiske album i Danmark og “Ugens Album” på DRP5. For “Opland” blev Rikke Thomsen nomineret til 3 GAFFA Priser: “Årets Danske Popudgivelse”\, “Årets Danske Sangskriver” og “Årets Danske Solist”. En lang række landsdækkende medier har givet Rikke Thomsen både spille – og taletid. DRP5 havde gennem 2022 hele 5 ud af albummets 10 sange i A-rotation. Det online musikmedie SIDE 33 udnævnte “Opland” til Årets Album 2021. Efter udgivelsen af debut-EP’en “Omve’n Hjemve” (2019) modtog dengang 28-årige Rikke Thomsen Modersmål Prisen for sin indsats for den sønderjyske dialekt – tilmed som den yngste modtager nogensinde.
URL:https://folkalender.dk/arrangement/rikke-thomsen/
LOCATION:Fermaten\, Smallegade 4\, Herning\, 7400
CATEGORIES:Koncert
ORGANIZER;CN="Fermaten":MAILTO:mail@fermaten.dk
GEO:56.1368467;8.970104
X-APPLE-STRUCTURED-LOCATION;VALUE=URI;X-ADDRESS=Fermaten Smallegade 4 Herning 7400;X-APPLE-RADIUS=500;X-TITLE=Smallegade 4:geo:8.970104,56.1368467
END:VEVENT
BEGIN:VEVENT
DTSTART;VALUE=DATE:20230210
DTEND;VALUE=DATE:20230213
DTSTAMP:20260420T230224
CREATED:20230118T222909Z
LAST-MODIFIED:20230118T222909Z
UID:5476-1675987200-1676246399@folkalender.dk
SUMMARY:Café Scenen på Strib Vinter Festival 2023
DESCRIPTION:Oplev omtrent 20 artister og bands på Festivalens CaféScene hvor der er gratis entre
URL:https://folkalender.dk/arrangement/cafe-scenen-paa-strib-vinter-festival-2023/
LOCATION:Strib Skole v. Middelfart\, Røjlemosevej\, Middelfart\, 5500\, Danmark
CATEGORIES:Festival
ATTACH;FMTTYPE=image/jpeg:https://folkalender.dk/wp-content/uploads/2023/01/IMG_1232-scaled.jpg
ORGANIZER;CN="Foreningen GUF%2C God Underholdende Folkemusik":MAILTO:jrahbek@stribnet.dk
GEO:55.5383363;9.7827266
X-APPLE-STRUCTURED-LOCATION;VALUE=URI;X-ADDRESS=Strib Skole v. Middelfart Røjlemosevej Middelfart 5500 Danmark;X-APPLE-RADIUS=500;X-TITLE=Røjlemosevej:geo:9.7827266,55.5383363
END:VEVENT
BEGIN:VEVENT
DTSTART;TZID=Europe/Helsinki:20230210T120000
DTEND;TZID=Europe/Helsinki:20230210T133000
DTSTAMP:20260420T230224
CREATED:20230130T180308Z
LAST-MODIFIED:20230130T180549Z
UID:5558-1676030400-1676035800@folkalender.dk
SUMMARY:Roland Stretch – strikket nordisk musik med Esbjerg Ensemblet
DESCRIPTION:Hvert år inviterer Esbjerg Ensemble komponiststuderende fra landets forskellige konservatorier til at skrive et værk til dem. Denne chance ville Maja Kjær\, som er soliststuderende på Contemporary Creative Artist på Syddansk Musikkonservatorium i Esbjerg\, ikke lade gå fra sig\, så hun takkede selvfølgelig ja. \nHendes værk “Roland Stretch” er baseret på en melodi af samme navn\, som hun skrev til projektet “Genskrevet / Recomposed”; et projekt hvor hun sammen med strikkedesigneren Astrid Colding Sivertsen skriver og udvikler ny folkemusik og ny strik med udgangspunkt i de gamle traditioner\, på tværs af de to kunst- og håndværksformer. \nOg nu er der altså kommet et helt værk ud af den lille melodi\, skrevet til klassiske musikere med udgangspunkt i nordisk folkemusiktradition. \nDu kan læse introduktionen til værket “Roland Stretch” (1 A4-side) på dette link (kopiér og indset i nyt vindue): https://drive.google.com/file/d/1Nj_z8ouQvjEwt6GWzstcaSv1W4t3hiPT/view?usp=sharing \nVed samme lejlighed opføres også nye værker af 6 andre komponister\, så koncerten kommer til at vare ca. 1\,5 time. \nHvor og hvornår? \nKoncerten foregår i Esbjerg Ensembles lokaler i Norgesgade 23\, 6700 Esbjerg\, fredag d. 10. februar kl. 12.00 til ca. 13.30. \nDer er gratis adgang\, men kun et begrænset antal pladser\, så send gerne en mail til maja.k.jacobsen@gmail.com hvis du har lyst til at komme. \n————— \nLæs mere om projektet Genskrevet / Recomposed på www.majakjaer.dk/genskrevet \nLæs om Majas andre musikalske aktiviteter på www.majakjaer.dk
URL:https://folkalender.dk/arrangement/roland-stretch-strikket-nordisk-musik-med-esbjerg-ensemblet/
LOCATION:Norgesgade 23\, 6700 Esbjerg\, Norgesgade 23\, Esbjerg\, 6700
CATEGORIES:Koncert
ATTACH;FMTTYPE=image/jpeg:https://folkalender.dk/wp-content/uploads/2023/01/Maja-Kjaer-Jacobsen-2021-1-thumbnail.jpg
ORGANIZER;CN="Syddansk Musikkonservatorium":MAILTO:info@sdmk.dk
GEO:55.4683294;8.4547095
X-APPLE-STRUCTURED-LOCATION;VALUE=URI;X-ADDRESS=Norgesgade 23 6700 Esbjerg Norgesgade 23 Esbjerg 6700;X-APPLE-RADIUS=500;X-TITLE=Norgesgade 23:geo:8.4547095,55.4683294
END:VEVENT
BEGIN:VEVENT
DTSTART;TZID=Europe/Helsinki:20230210T193000
DTEND;TZID=Europe/Helsinki:20230210T223000
DTSTAMP:20260420T230224
CREATED:20230206T205433Z
LAST-MODIFIED:20230206T205856Z
UID:5594-1676057400-1676068200@folkalender.dk
SUMMARY:Vintherbal
DESCRIPTION:Klaverfabrikken holder sit årlige traditionelle Vintherbal\, i år med FOLKENS\, så der vil både være dans\, let instruktion og danseopvisning. Vi glæder os til at svinge rundt i polka\, vals\, schottish\, både i fyrige pardanse\, stille ture og kvadriller.\nPå scenen har vi Kristine Heebøll og Jesper Vinther.\nDer vil være kaffe og kage til pausen.
URL:https://folkalender.dk/arrangement/vintherbal/
LOCATION:Klaverfabrikken\, Hillerød\, Fredensvej 12A\, Hillerød\, 3400
CATEGORIES:Bal
ATTACH;FMTTYPE=image/jpeg:https://folkalender.dk/wp-content/uploads/2023/02/200221-_Vinther_Heeboll_0080-1-scaled.jpg
ORGANIZER;CN="KlaverfabrikkenFOLK":MAILTO:thougaard@c.dk
GEO:55.9273762;12.2969322
X-APPLE-STRUCTURED-LOCATION;VALUE=URI;X-ADDRESS=Klaverfabrikken Hillerød Fredensvej 12A Hillerød 3400;X-APPLE-RADIUS=500;X-TITLE=Fredensvej 12A:geo:12.2969322,55.9273762
END:VEVENT
BEGIN:VEVENT
DTSTART;TZID=Europe/Helsinki:20230210T200000
DTEND;TZID=Europe/Helsinki:20230210T220000
DTSTAMP:20260420T230224
CREATED:20221105T131724Z
LAST-MODIFIED:20221106T104703Z
UID:4896-1676059200-1676066400@folkalender.dk
SUMMARY:Skye Consort & Emma Björling i Haslev Folk Club
DESCRIPTION:Et aflyst fly var anledningen til et storslået samarbejde. \nDen svenske sangerinde\, Emma Björling deltog i et kulturprojekt i Montreal i 2017. Hendes fly hjem blev aflyst\, og det betød\, at hun fik længere tid sammen med det canadiske band\, Skye Consort. Der opstod et frugtbart samarbejde\, der har betydet\, at de sammen har optrådt ved en lang række festivaler og koncerter siden da.  \nSvenske Emma Björling har en fantastisk sangstemme. Til daglig er hun del af den succesrige\, svenske vokalkvartet\, Kongero; men som ovenfor fortalt arbejder hun også sammen med de tre canadiske musikere i Skye Consort\, når de fra scenen underholder med et varieret repertoire af hvirvlende svenske polskaer\, betagende hymner\, groovy reels\, lidenskabelige kærlighedssange og egne originale numre. Instrumenterne\, der bliver virtuost håndteret af Alex Kehler\, Amanda Keesmaat og Séan Dagher\, inkluderer violin\, nøgleharpe\, cello\, bouzouki\, banjo og percussion. Og selvfølgelig rigtig gode stemmer.  \nSe frem til en aften med varieret musik\, der slår musikalsk bro over Nordatlanten. \nBilletpris: 200\,- kr. – køb på Place2Book: https://www.place2book.com/da/sw2/sales/gz1l5yqvzm  \nVores koncerter er støttet af Kunstrådet og Faxe Kommune
URL:https://folkalender.dk/arrangement/skye-consort-emma-bjorling-i-haslev-folk-club/
LOCATION:Haslev Bibliotek\, Mødesalen\, Jernbanegade 62\, Haslev\, 4690
CATEGORIES:Koncert
GEO:55.3245439;11.9633135
X-APPLE-STRUCTURED-LOCATION;VALUE=URI;X-ADDRESS=Haslev Bibliotek Mødesalen Jernbanegade 62 Haslev 4690;X-APPLE-RADIUS=500;X-TITLE=Jernbanegade 62:geo:11.9633135,55.3245439
END:VEVENT
BEGIN:VEVENT
DTSTART;TZID=Europe/Helsinki:20230210T200000
DTEND;TZID=Europe/Helsinki:20230210T220000
DTSTAMP:20260420T230224
CREATED:20221114T120524Z
LAST-MODIFIED:20230130T213940Z
UID:4972-1676059200-1676066400@folkalender.dk
SUMMARY:Skye Consort & Emma Björling (Can/S)
DESCRIPTION:Skye Consort består af fire verdensklasse musikere Alex Kehler\, Amanda Keesmaat\, Seán Dagher samt sangeren Emma Björling og optræder med transatlantiske arrangementer af traditionelle sange og melodier fra Irland\, Skotland\, England\, Québec\, Acadia\, USA\, Skandinavien samt originale kompositioner af musikerne selv.\nBandet skaber med hver deres individuelle fortolkning af de forskellige musiktraditioner dette smukke og ekstraordinære samarbejde bestående af stemmer\, violin\, nøgleharpe\, cello\, bouzouki\, banjo og percussion med et varieret repertoire af hvirvlende svenske polskaer\, groovy reels\, lidenskabelige kærlighedssange\, betagende salmer samt egne originale numre. \nOm Skye Consort & Emma Björling:\nSkye Consort er en Montreal-baseret trio\, der siden 2000 har akkompagneret forskellige sangere og kor samt indspillet 6 cd’er med flere anerkendte sangere som Matthew White\, Shannon Mercer og Michael Slattery.\nEmma Björling er prisvindende svensk sanger\, komponist og underviser og også meget aktiv i de to verdensklassebands Kongero og Lyy. \nSkye Consort og Emma mødtes under et La Nef-projekt i Montréal i oktober 2017\, og takket være Emmas annullerede fly fik musikerne ekstra tid sammen\, hvilket fik dem til at starte dette band.\nSkye Consort & Emma Björling har optrådt på festivaler\, koncertsale og spillesteder fra nord til syd i Sverige samt Québec og Ontario i Canada. Bandets turnéplaner 2020-2022 involverer også Danmark\, Tyskland\, Belgien\, Frankrig\, Storbritannien og USA.\n– Se videos her: https://www.skyeconsort.org/442104360\n– Lyt til ”Skye Consort & Emma Björling” (cd fra 2019):\nhttps://skyeconsortemmabjrling.bandcamp.com/ \nEt par cd anmeldelser af ”Skye Consort & Emma Björling” (2019): \n”Fra første tone bevæges man af Emma Björlings englestemme og ensemblets rene musikerskab. Gennem alle 14 sange bliver man taget med på en tidløs rejse gennem klassiske nordlige hymner fra begge sider af Atlanterhavet. Nogle gange er tingene bare meningen. Ren skæbne. Skye Consort & Emma Björling er en af dem. Et match i himlen”. Jano Lapin\, Art|Lifestyle|Culture \n”Et samarbejde mellem vores foretrukne svenske sangerinde Emma Björling og Canadian Skye Consort kan kun være en succes. Kvartetten har sammensat et formidabelt tværatlantisk repertoire. Musik jeg bare ikke kan holde op med at lytte til. At vælge en yndlingssang er umuligt. Bedre end dette er svært at få”. Luise Rube\, Lira Music \nhttps://www.skyeconsort.org/
URL:https://folkalender.dk/arrangement/skye-consort-emma-bjorling-can-s/
LOCATION:Haslev Bibliotek\, Jernbanegade 62\, Haslev\, 4690
CATEGORIES:Koncert
GEO:55.3245439;11.9633135
X-APPLE-STRUCTURED-LOCATION;VALUE=URI;X-ADDRESS=Haslev Bibliotek Jernbanegade 62 Haslev 4690;X-APPLE-RADIUS=500;X-TITLE=Jernbanegade 62:geo:11.9633135,55.3245439
END:VEVENT
BEGIN:VEVENT
DTSTART;TZID=Europe/Helsinki:20230210T200000
DTEND;TZID=Europe/Helsinki:20230210T233000
DTSTAMP:20260420T230224
CREATED:20230202T224757Z
LAST-MODIFIED:20230202T224757Z
UID:5582-1676059200-1676071800@folkalender.dk
SUMMARY:Ramslag – med nordisk spillemandsmusik i Metronomen med Folket hus Spillefolk
DESCRIPTION:I mere end 9 år har vi en gang om måneden på nær i sommermånederne afholdt Ramslag i Metronomen. Der danses polka\, schottish\, vals\, polska\, hambo\, engelsker\, turdanse og lignende til nordisk spillemandsmusik. \n– Kl. 20 Spiller Folkets Hus Spillefolk op til dans.\n– Kl. 21 Steen og Ral overtager scenen med mere dansemusik.\n– Kl. 22 ca…. kaffepause med lidt sødt til og måske lidt fællessang.\nHerefter bunkespil\, alle kan deltage og dansen fortsætter til vi ikke orker mere. \nSe evt. ekstra oplysninger under kalenderen på vores hjemmeside spillefolk.dk.\nVi glæder os til at se dig!
URL:https://folkalender.dk/arrangement/ramslag-med-nordisk-spillemandsmusik-i-metronomen-med-folket-hus-spillefolk/
LOCATION:Metronomen\, Godthåbsvej 33\, Frederiksberg\, 2000
CATEGORIES:Folkedanserforening
ATTACH;FMTTYPE=image/jpeg:https://folkalender.dk/wp-content/uploads/2023/02/ramslag.jpg
ORGANIZER;CN="Folkets Hus Spillefolk":MAILTO:formanden@spillefolk.dk
GEO:55.6860703;12.5334068
X-APPLE-STRUCTURED-LOCATION;VALUE=URI;X-ADDRESS=Metronomen Godthåbsvej 33 Frederiksberg 2000;X-APPLE-RADIUS=500;X-TITLE=Godthåbsvej 33:geo:12.5334068,55.6860703
END:VEVENT
BEGIN:VEVENT
DTSTART;TZID=Europe/Helsinki:20230211T200000
DTEND;TZID=Europe/Helsinki:20230211T233000
DTSTAMP:20260420T230224
CREATED:20230210T212608Z
LAST-MODIFIED:20230210T212608Z
UID:5682-1676145600-1676158200@folkalender.dk
SUMMARY:Bal Århus Folkemusikhus
DESCRIPTION:Jagdselskabet spiller op til bal
URL:https://folkalender.dk/arrangement/bal-aarhus-folkemusikhus/
ATTACH;FMTTYPE=image/jpeg:https://folkalender.dk/wp-content/uploads/2023/02/35489802-63E7-4B24-8ABC-E7E4260A3658.jpeg
END:VEVENT
END:VCALENDAR