BEGIN:VCALENDAR
VERSION:2.0
PRODID:-//Folkalender - ECPv6.10.1.1//NONSGML v1.0//EN
CALSCALE:GREGORIAN
METHOD:PUBLISH
X-WR-CALNAME:Folkalender
X-ORIGINAL-URL:https://folkalender.dk
X-WR-CALDESC:Begivenheder for Folkalender
REFRESH-INTERVAL;VALUE=DURATION:PT1H
X-Robots-Tag:noindex
X-PUBLISHED-TTL:PT1H
BEGIN:VTIMEZONE
TZID:Europe/Helsinki
BEGIN:DAYLIGHT
TZOFFSETFROM:+0200
TZOFFSETTO:+0300
TZNAME:EEST
DTSTART:20230326T010000
END:DAYLIGHT
BEGIN:STANDARD
TZOFFSETFROM:+0300
TZOFFSETTO:+0200
TZNAME:EET
DTSTART:20231029T010000
END:STANDARD
END:VTIMEZONE
BEGIN:VEVENT
DTSTART;TZID=Europe/Helsinki:20230113T150000
DTEND;TZID=Europe/Helsinki:20230113T170000
DTSTAMP:20260420T232210
CREATED:20230102T105848Z
LAST-MODIFIED:20230102T105848Z
UID:5241-1673622000-1673629200@folkalender.dk
SUMMARY:Ildfugl EP-release | Dexter
DESCRIPTION:Kom og få varmen midt i januar-kulden til en festlig folkemusik-releasekoncert på Dexter i Odense. \nMed et personligt og anderledes lydunivers træder den nye Odense-trio Ildfugl ind på den danske folkemusikscene\, når gruppens første EP udkommer 13. januar 2023. \nFælles kærlighed til keltisk folkemusik og J.R.R. Tolkiens univers\, samt lysten til at skrive og spille ny musik baseret på traditionen har samlet de tre erfarne musikere i trioen Ildfugl\, der også understreger folkemusikkens evne til at knytte bånd på tværs af tre generationer. \nIldfugls særkende er en række melodier\, der udspringer af Carsten Rosenlunds livslange engagement i J.R.R. Tolkiens univers – tidløs musik funderet i keltisk tradition. Og netop keltisk musik udgør resten af repertoiret: Traditionelle dansemelodier\, slow airs og stærke sange med dragende fortællinger fra Irland og Skotland. \nSåledes tager Ildfugl lytteren med på rejse gennem vindomsuste bjerge\, disede dale og dybe skove med musikalske mellemlandinger i den keltiske verden\, og til rejsen hører både eventyrlige og menneskelige fortællinger. \nIldfugl består af\nCarsten Rosenlund: Guitar\, whistles\, smallpipes\, vokal\nLisa Balle: Akkordeon\, vokal\nMarie Almlund: Klaver\, irsk harpe\, vokal
URL:https://folkalender.dk/arrangement/ildfugl-ep-release-dexter/
LOCATION:Musikhuset Dexter\, Vindegade 65\, Odense\, 5000
CATEGORIES:Koncert
ATTACH;FMTTYPE=image/jpeg:https://folkalender.dk/wp-content/uploads/2023/01/8427.jpeg
GEO:55.3974218;10.3794332
X-APPLE-STRUCTURED-LOCATION;VALUE=URI;X-ADDRESS=Musikhuset Dexter Vindegade 65 Odense 5000;X-APPLE-RADIUS=500;X-TITLE=Vindegade 65:geo:10.3794332,55.3974218
END:VEVENT
BEGIN:VEVENT
DTSTART;TZID=Europe/Helsinki:20230113T200000
DTEND;TZID=Europe/Helsinki:20230113T233000
DTSTAMP:20260420T232210
CREATED:20230110T215007Z
LAST-MODIFIED:20230110T230247Z
UID:5369-1673640000-1673652600@folkalender.dk
SUMMARY:Ramslag – Bal med nordisk spillemandsmusik i Metronomen med Folket hus Spillefolk og  Kaffeselskabet
DESCRIPTION:Der danses polka\, schottish\, vals\, polska\, hambo\, engelsker\, turdanse og lignende til nordisk spillemandsmusik. \n– Kl. 20 Spiller Folkets Hus Spillefolk op til dans. \n– Kl. 21 Overtager Kaffeselskabet scenen med mere dansemusik.\n  Annette Grøngaard Gylden –   Tværfløjte\,\n  Carsten Schou  – Harmonika\,\n  Lone Olsen\, – Violin\,\n  Søren Helbo\, – Violin \n– Kl. 22 ca…. kaffepause med lidt sødt til og måske lidt fællessang. \nHerefter bunkespil\, alle kan deltage og dansen fortsætter til vi ikke orker mere. \nDeltagelse kr. 30 inklusiv kaffe/te og lidt småkager.\nVi glæder os til at se dig!
URL:https://folkalender.dk/arrangement/ramslag-med-nordisk-spillemandsmusik-i-metronomen-med-folket-hus-spillefolk-og-kaffeselskabet/
LOCATION:Metronomen\, Kbh.\, Godthåbsvej 33\, Frederiksberg\, 2000
ATTACH;FMTTYPE=image/jpeg:https://folkalender.dk/wp-content/uploads/2023/01/kaffesselskabet.jpg
ORGANIZER;CN="Folkets Hus Spillefolk":MAILTO:formanden@spillefolk.dk
GEO:55.6860703;12.5334068
X-APPLE-STRUCTURED-LOCATION;VALUE=URI;X-ADDRESS=Metronomen Kbh. Godthåbsvej 33 Frederiksberg 2000;X-APPLE-RADIUS=500;X-TITLE=Godthåbsvej 33:geo:12.5334068,55.6860703
END:VEVENT
BEGIN:VEVENT
DTSTART;TZID=Europe/Helsinki:20230114T193000
DTEND;TZID=Europe/Helsinki:20230114T230000
DTSTAMP:20260420T232210
CREATED:20221225T114159Z
LAST-MODIFIED:20221225T114341Z
UID:5152-1673724600-1673737200@folkalender.dk
SUMMARY:Svøbsk spiller til efterjulebal
DESCRIPTION:Efterjulebal i Kølstrup Forsamlingshus med mulighed for at danse til traditionel dansk folkemusik.\nEntre: kr. 80\,-.\nKaffe\, kage\, øl og vand kan købes til billige priser.\nSvøbsk spiller\nforførende folkemusik med en klang af tidløshed\nMaren Hallberg Larsen (harmonika\, kor)\nJørgen Dickmeiss (violin\, sang\, guitar og sølvbeslået rigsspillemand)\nDer er lagt op til en helt særlig oplevelse med denne duo. Svøbsk skaber en fortryllende og festlig stemning med sjæl og dyb indlevelse og søger den nære kontakt med publikum. Deres lyse og artikulerede musik er rodfæstet i den blomstrende arv af traditionel musik fra Danmark og de omkringliggende lande.\nNår de spiller til dans rykker det i dansefødderne. Tilsammen har de stor erfaring i at spille til dans og i at kommunikere med deres musik. De spiller dansemusik fra hele landet med indlevelse\, overskud og lidenskab. Der vil bl.a. blive spillet musik fra Himmerland\, Vestjylland\, Thy\, Læsø\, Fyn og Fanø.\nDe to spillemænd Maren Hallberg Larsen og Jørgen Dickmeiss som også danner par privat\, har igennem mange år finpudset deres empatiske sammenspil\, udgivet en stribe albums og med base på Fyn spillet et hav af koncerter ind- og udenlands. I 2023 fejrer de deres 20 års jubilæum og udgiver deres 6. album ”Sorgenfri”. Konceptet med at løfte arven fra fordums spillemænd og -kvinder i en balancegang mellem tradition og fornyelse har vist sig bæredygtigt.
URL:https://folkalender.dk/arrangement/svoebsk-spiller-til-efterjulebal/
LOCATION:Kølstrup Forsamlingshus\, Kertinge Bygade 83\, Kerteminde\, Fyn\, 5300\, Danmark
CATEGORIES:Bal
ORGANIZER;CN="K%C3%B8lstrup Folkemusik":MAILTO:andkaer56@gmail.com
GEO:55.4280222;10.5838937
X-APPLE-STRUCTURED-LOCATION;VALUE=URI;X-ADDRESS=Kølstrup Forsamlingshus Kertinge Bygade 83 Kerteminde Fyn 5300 Danmark;X-APPLE-RADIUS=500;X-TITLE=Kertinge Bygade 83:geo:10.5838937,55.4280222
END:VEVENT
BEGIN:VEVENT
DTSTART;TZID=Europe/Helsinki:20230114T193000
DTEND;TZID=Europe/Helsinki:20230114T230000
DTSTAMP:20260420T232210
CREATED:20230106T115200Z
LAST-MODIFIED:20230106T115200Z
UID:5319-1673724600-1673737200@folkalender.dk
SUMMARY:Turf Rollers - Koncert og jamsession
DESCRIPTION:TURF ROLLERS: Efter koncerten er Turf Rollers klar på oldtime jamsession :0) \nMed base i traditionel musik fra før lakpladernes tid\, spiller Turf Rollers amerikansk Oldtime med moderne energi.\nBandet har base i hovedstaden\, men inspirationen skal findes i den traditionelle musik fra Appalacher-bjergene\, krydret med cowboysange fra prærien og fortidens fonografers største hits.\nPå trods af genren er Turf Rollers alt andet end støvet og antikvarisk – musikken leveres med energi og humor. Bandet har tidligere spillet på festivaler og værtshuse i Danmark\, Sverige og England og udgivet flere indspilninger. \nTurf Rollers er:\nTobias Enevoldsen – violin og vokal\nPeter Lorichs – banjo og vokal\nMathias Enevoldsen – bas og vokal\nBorys Kowalewski – guitar og sang\nLars Hansen – mandolin og sang
URL:https://folkalender.dk/arrangement/turf-rollers-koncert-og-jamsession/
LOCATION:Maritza-salen\,  Frederiksgade 78C\, 8000 Aarhus C\, Frederiksgade 78C\, Aarhus C\, 8000\, Danmark
CATEGORIES:Jam,Koncert
ATTACH;FMTTYPE=image/jpeg:https://folkalender.dk/wp-content/uploads/2023/01/Turf-Rollers1-scaled.jpeg
ORGANIZER;CN="Roots Aarhus":MAILTO:bestyrelsen@rootsaarhus.dk
GEO:56.1538014;10.2030116
X-APPLE-STRUCTURED-LOCATION;VALUE=URI;X-ADDRESS=Maritza-salen  Frederiksgade 78C 8000 Aarhus C Frederiksgade 78C Aarhus C 8000 Danmark;X-APPLE-RADIUS=500;X-TITLE=Frederiksgade 78C:geo:10.2030116,56.1538014
END:VEVENT
BEGIN:VEVENT
DTSTART;TZID=Europe/Helsinki:20230114T200000
DTEND;TZID=Europe/Helsinki:20230114T220000
DTSTAMP:20260420T232210
CREATED:20221103T143311Z
LAST-MODIFIED:20230107T095530Z
UID:4891-1673726400-1673733600@folkalender.dk
SUMMARY:Benny Holst Trio i Haslev Folk Club
DESCRIPTION:Med Benny Holst kan vi virkelig præsentere et af dansk folkemusiks største koryfæer. Han startede som professionel musiker i 1968 og har spillet sammen med og øvet indflydelse på en lang række af dansk musiklivs store navne\, bl.a. Trille. \nHans kærlighed til de gamle danske sange fik han med fra barnsben\, hvor han voksede op hos sin bedstemor\, Julie\, som altid sang til sine daglige gøremål. Ud over selv at optræde med disse gamle sange har Benny Holst også selv skrevet en masse sange. Alt hvad han synger\, har rod i en ømhed over for de små i samfundet og indignation over for uretfærdighed. \nSiden ca. 2004 har Benny Holst optrådt i triosammenhæng med guitaristen Jacob Rathje og violin-troldmanden Martin Andersen. Og det er et akkompagnement\, der leverer Bennys sange i sublim\, virtuos indpakning. Vi kan bl.a. nævne en aldeles gåsehudsfremkaldende version af ”Det er hvidt herude”. Glæd jer til en aften med genhør med sange – og til virtuos musik. \nVores koncerter er støttet af Kunstrådet og Faxe Kommune.
URL:https://folkalender.dk/arrangement/benny-holst-trio-i-haslev-folk-club-2/
LOCATION:Kultunariet\, Haslev\, Søndergade 12\, Haslev\, 4690
CATEGORIES:Koncert
GEO:55.325162;11.956355
X-APPLE-STRUCTURED-LOCATION;VALUE=URI;X-ADDRESS=Kultunariet Haslev Søndergade 12 Haslev 4690;X-APPLE-RADIUS=500;X-TITLE=Søndergade 12:geo:11.956355,55.325162
END:VEVENT
BEGIN:VEVENT
DTSTART;TZID=Europe/Helsinki:20230114T200000
DTEND;TZID=Europe/Helsinki:20230114T220000
DTSTAMP:20260420T232210
CREATED:20230103T204808Z
LAST-MODIFIED:20230103T204809Z
UID:5283-1673726400-1673733600@folkalender.dk
SUMMARY:Ragna
DESCRIPTION:RAGNA har rødderne dybt nede i den traditionsrige musik fra de nordiske lande. Med deres eget energiske udtryk farver de tonerne fra fortiden med nutidig nysgerrighed.\nMed Stine Elbæk på sang og violin manes stemningen fra svundne tider frem\, solidt funderet på lyden af Carina Juuls unikt klingende nøgleharpe samt 12-strenget guitar akkompagnement af Thomas Birch. \nRagna lader tid og sted flyde sammen igennem de fællesnordiske toner og ord om dåd\, savn og håb. \nBilletter bestilles på info@wintercoat.dk eller SMS/tlf. 4070 6660.
URL:https://folkalender.dk/arrangement/ragna/
LOCATION:Wintercoat\, Grønvej 51\, Fårup\, Sabro\, 8471
CATEGORIES:Koncert
ATTACH;FMTTYPE=image/jpeg:https://folkalender.dk/wp-content/uploads/2023/01/pr-billede-ragna-scaled.jpg
ORGANIZER;CN="Wintercoat":MAILTO:info@wintercoat.dk
GEO:56.2081097;10.0594837
X-APPLE-STRUCTURED-LOCATION;VALUE=URI;X-ADDRESS=Wintercoat Grønvej 51 Fårup Sabro 8471;X-APPLE-RADIUS=500;X-TITLE=Grønvej 51\, Fårup:geo:10.0594837,56.2081097
END:VEVENT
BEGIN:VEVENT
DTSTART;TZID=Europe/Helsinki:20230114T200000
DTEND;TZID=Europe/Helsinki:20230114T223000
DTSTAMP:20260420T232210
CREATED:20221107T105932Z
LAST-MODIFIED:20221107T105932Z
UID:4927-1673726400-1673735400@folkalender.dk
SUMMARY:Dreamers' Circus
DESCRIPTION:Det nye år markeres med et musikalsk overflødighedshorn af en koncert\, når den prisvindende trio Dreamers’ Circus\, hvis farverige lyd rummer uanede genreudvidende sammensmeltninger\, gæster Musikkens Hus. \nOmdrejningspunktet i Dreamers’ Circus lyd er skandinavisk folkemusik\, men med en organisk og flydende lethed svæver Ale Carr\, Rune Tonsgaard Sørensen og Nikolaj Busk gennem et farverigt cirkus af temaer\, harmonier og nye afkroge af musikken. De udforsker utrætteligt nye udfordringer\, og Dreamers’ Circus\, som mestrer både violin\, harmonika\, klaver og cister\, er ikke blege for at give sig i kast med genreudvidende sammensmeltninger Resultatet? Moderne\, rytmisk og melodisk fængslende musik\, hvori der kan trækkes paralleller til blandt andet folkemusikkens følsomhed\, jazzens improvisation og den klassiske kompleksitet. \nDreamers’ Circus blev dannet efter en live jamsession i København for mere end 10 år siden. Nikolaj Busk har en baggrund i folkemusik\, men hans evne til at optræde og arrangere har gjort ham stærkt efterspurgt – også inden for popmusik og jazz. Violinist Rune Tonsgaard Sørensen voksede ganske vist op i en familie\, der elskede folkemusik\, men han viste sig at være fænomenalt talentfuld inden for klassisk musik\, og allerede i starten af tyverne var han koncertmester for Copenhagen Phil. Svenskfødte Ale Carr kommer også fra en folkemusik-familie\, og hans rytmiske cisterspil understøtter bandets generelle lyd. \nSiden Dreamers’ Circus blev dannet\, har de stadfæstet sig blandt Danmarks førende ensembler\, hvilket blandt andet fremgår af deres nylige anerkendelse fra Statens Kunstfond som Special Ensemble. På baggrund af et travlt turnéprogram i Europa\, USA og Japan har Dreamers’ Circus desuden slået deres navn fast som internationale musiske ambassadører for nordisk og dansk musik.
URL:https://folkalender.dk/arrangement/dreamers-circus/
LOCATION:Musikkens Hus\, Aalborg\, Musikkens Plads 1\, Aalborg\, 9000
CATEGORIES:Koncert
GEO:57.0474944;9.9324823
X-APPLE-STRUCTURED-LOCATION;VALUE=URI;X-ADDRESS=Musikkens Hus Aalborg Musikkens Plads 1 Aalborg 9000;X-APPLE-RADIUS=500;X-TITLE=Musikkens Plads 1:geo:9.9324823,57.0474944
END:VEVENT
END:VCALENDAR