BEGIN:VCALENDAR
VERSION:2.0
PRODID:-//Folkalender - ECPv6.10.1.1//NONSGML v1.0//EN
CALSCALE:GREGORIAN
METHOD:PUBLISH
X-ORIGINAL-URL:https://folkalender.dk
X-WR-CALDESC:Begivenheder for Folkalender
REFRESH-INTERVAL;VALUE=DURATION:PT1H
X-Robots-Tag:noindex
X-PUBLISHED-TTL:PT1H
BEGIN:VTIMEZONE
TZID:Europe/Helsinki
BEGIN:DAYLIGHT
TZOFFSETFROM:+0200
TZOFFSETTO:+0300
TZNAME:EEST
DTSTART:20230326T010000
END:DAYLIGHT
BEGIN:STANDARD
TZOFFSETFROM:+0300
TZOFFSETTO:+0200
TZNAME:EET
DTSTART:20231029T010000
END:STANDARD
END:VTIMEZONE
BEGIN:VEVENT
DTSTART;VALUE=DATE:20230101
DTEND;VALUE=DATE:20230105
DTSTAMP:20260420T231017
CREATED:20221120T102146Z
LAST-MODIFIED:20221120T102146Z
UID:5007-1672531200-1672876799@folkalender.dk
SUMMARY:Nytårskursus på Snoghøj Højskole
DESCRIPTION:Spillemandskursus med Kristian Bugge på violin og Maren Hallberg Larsen på harmonika.  \nDen bedste start på det nye år.  \nDu kan stadig nå at tilmelde dig.  \nSe kursusbeskrivelse og tilmelding på www.spillemandskredsen.dk.
URL:https://folkalender.dk/arrangement/nytaarskursus-paa-snoghoej-hoejskole/
LOCATION:Snoghøj Højskole\, Højskolevej 9\, Fredericia\, 7000
CATEGORIES:Kursus,Spilleworkshop
ORGANIZER;CN="Spillemandskredsen":MAILTO:angrjens@gmail.com
GEO:55.5228087;9.7092432
X-APPLE-STRUCTURED-LOCATION;VALUE=URI;X-ADDRESS=Snoghøj Højskole Højskolevej 9 Fredericia 7000;X-APPLE-RADIUS=500;X-TITLE=Højskolevej 9:geo:9.7092432,55.5228087
END:VEVENT
END:VCALENDAR