BEGIN:VCALENDAR
VERSION:2.0
PRODID:-//Folkalender - ECPv6.10.1.1//NONSGML v1.0//EN
CALSCALE:GREGORIAN
METHOD:PUBLISH
X-WR-CALNAME:Folkalender
X-ORIGINAL-URL:https://folkalender.dk
X-WR-CALDESC:Begivenheder for Folkalender
REFRESH-INTERVAL;VALUE=DURATION:PT1H
X-Robots-Tag:noindex
X-PUBLISHED-TTL:PT1H
BEGIN:VTIMEZONE
TZID:Europe/Helsinki
BEGIN:DAYLIGHT
TZOFFSETFROM:+0200
TZOFFSETTO:+0300
TZNAME:EEST
DTSTART:20220327T010000
END:DAYLIGHT
BEGIN:STANDARD
TZOFFSETFROM:+0300
TZOFFSETTO:+0200
TZNAME:EET
DTSTART:20221030T010000
END:STANDARD
BEGIN:DAYLIGHT
TZOFFSETFROM:+0200
TZOFFSETTO:+0300
TZNAME:EEST
DTSTART:20230326T010000
END:DAYLIGHT
BEGIN:STANDARD
TZOFFSETFROM:+0300
TZOFFSETTO:+0200
TZNAME:EET
DTSTART:20231029T010000
END:STANDARD
END:VTIMEZONE
BEGIN:VEVENT
DTSTART;TZID=Europe/Helsinki:20221227T080000
DTEND;TZID=Europe/Helsinki:20221227T170000
DTSTAMP:20260421T022101
CREATED:20221227T144030Z
LAST-MODIFIED:20221227T144030Z
UID:5206-1672128000-1672160400@folkalender.dk
SUMMARY:Farvergade
DESCRIPTION:Gruppen består af  Clara Tesch\, Julian Svejgaard Jørgensen og Mads Kjøller Henningsen og har taget navn efter stedet de spiller til dans I København. Arrangementet er støttet af Odense Musikudvalg\, Kunststyrelsen og Marie Rasmussens Fond
URL:https://folkalender.dk/arrangement/farvergade-2/
LOCATION:Kulturmaskinen Odense\, Farvergården 7\, Odense\, 5000
GEO:55.3955926;10.3808671
X-APPLE-STRUCTURED-LOCATION;VALUE=URI;X-ADDRESS=Kulturmaskinen Odense Farvergården 7 Odense 5000;X-APPLE-RADIUS=500;X-TITLE=Farvergården 7:geo:10.3808671,55.3955926
END:VEVENT
BEGIN:VEVENT
DTSTART;TZID=Europe/Helsinki:20221228T180000
DTEND;TZID=Europe/Helsinki:20221228T233000
DTSTAMP:20260421T022101
CREATED:20221223T162849Z
LAST-MODIFIED:20241222T115352Z
UID:5138-1672250400-1672270200@folkalender.dk
SUMMARY:Folkemusik jam i Flensborg
DESCRIPTION:Violin-spiller Andreas von Hippel fra Flensborg organiserer normalt hver 4. Lørdag i måneden en jam i Flensborg\ni “Kulturcafe Tableau”. I kan forvente musik fra de\nanglo-skandinaviske egne.\nDet er et hyggeligt mødested især for danske og tyske folk-musikere. Spørsmål? Skriv til jensis@gmail.com\nHilsen\, Jens W. \nDer Geigenspieler Andreas von Hippel aus Flensburg organisiert jeden 4. Samstag im Monat eine Session\nim Kulturcafe Tableau in Flensburg. Es soll gerne um Folkmusik\naus dem anglo-skandinavischen Raum gehen. An der Schnittstelle zwischen Deutschland und Dänemark ist\ndie Session insbesondere ein Treffpunkt zwischen deutschen und dänischen Folk-Musikern.\nE-mail: jensis@gmail.com
URL:https://folkalender.dk/arrangement/folkemusik-session-i-flensborg/2022-12-28/
LOCATION:Kulturcafe Tableau\, Kurze Straße 1\, Flensborg\, 24937
CATEGORIES:Jam
ATTACH;FMTTYPE=image/png:https://folkalender.dk/wp-content/uploads/2022/12/flensburg_session_dezember2022_screenshot.png
GEO:54.7875536;9.439317
X-APPLE-STRUCTURED-LOCATION;VALUE=URI;X-ADDRESS=Kulturcafe Tableau Kurze Straße 1 Flensborg 24937;X-APPLE-RADIUS=500;X-TITLE=Kurze Straße 1:geo:9.439317,54.7875536
END:VEVENT
BEGIN:VEVENT
DTSTART;TZID=Europe/Helsinki:20221228T190000
DTEND;TZID=Europe/Helsinki:20221228T210000
DTSTAMP:20260421T022101
CREATED:20221215T171855Z
LAST-MODIFIED:20221215T171855Z
UID:5106-1672254000-1672261200@folkalender.dk
SUMMARY:Mellemjulkoncert I Hunderup Kirke
DESCRIPTION:Folk Lovers er en folkduo bestående af Hanne og Niels-Jørgen Hvidberg. \nHanne spiller fløjter\, cajon og synger og Niels-Jørgen spiller guitar\, banjo\, bodhran og synger. \nTemaet til denne koncert er Tro\, Håb og Kærlighed. Repertoiret er hentet fra den skotske og irske folkmusik iblandet danske numre samt egne numre. \nFolk Lovers spiller en bred vifte af iørefaldende\, smukke\, bevægende\, lystige\, sjove\, livlige og medrivende sange. Der er mulighed for at synge med på en del af de kendte og dejlige omkvæd (teksterne kan trykkes og udleveres\, såfremt det ønskes). Det hele krydres med små anekdoter og korte fortællinger om sangene. \nKort sagt: Folk Lovers er garant for en god oplevelse og en god\, hyggelig stemning.
URL:https://folkalender.dk/arrangement/mellemjulkoncert-i-hunderup-kirke/
LOCATION:Hunderup Kirke\, Kirkevej 86\, Hunderup\, 6740
CATEGORIES:Koncert
GEO:55.4367039;8.7229582
X-APPLE-STRUCTURED-LOCATION;VALUE=URI;X-ADDRESS=Hunderup Kirke Kirkevej 86 Hunderup 6740;X-APPLE-RADIUS=500;X-TITLE=Kirkevej 86:geo:8.7229582,55.4367039
END:VEVENT
BEGIN:VEVENT
DTSTART;TZID=Europe/Helsinki:20221228T200000
DTEND;TZID=Europe/Helsinki:20221228T220000
DTSTAMP:20260421T022101
CREATED:20221205T094347Z
LAST-MODIFIED:20221205T094347Z
UID:5061-1672257600-1672264800@folkalender.dk
SUMMARY:Julespecial - Guldhammer\, Høirup & Bugge
DESCRIPTION:At de tre dygtige musikere sætter folk-kulørog god stemning i Metronomen onsdag mellem jul og nytår\, tør vi garantere. Mias sang og shrutibox\, Mortens guitar og Bugges violin sprudler hver for sig og sammen\, og alle tre på én gang er nyt.
URL:https://folkalender.dk/arrangement/julespecial-guldhammer-hoeirup-bugge/
LOCATION:Metronomen\, Godthåbsvej 33\, Frederiksberg\, 2000
CATEGORIES:Koncert
GEO:55.6860703;12.5334068
X-APPLE-STRUCTURED-LOCATION;VALUE=URI;X-ADDRESS=Metronomen Godthåbsvej 33 Frederiksberg 2000;X-APPLE-RADIUS=500;X-TITLE=Godthåbsvej 33:geo:12.5334068,55.6860703
END:VEVENT
BEGIN:VEVENT
DTSTART;VALUE=DATE:20230101
DTEND;VALUE=DATE:20230105
DTSTAMP:20260421T022101
CREATED:20221120T102146Z
LAST-MODIFIED:20221120T102146Z
UID:5007-1672531200-1672876799@folkalender.dk
SUMMARY:Nytårskursus på Snoghøj Højskole
DESCRIPTION:Spillemandskursus med Kristian Bugge på violin og Maren Hallberg Larsen på harmonika.  \nDen bedste start på det nye år.  \nDu kan stadig nå at tilmelde dig.  \nSe kursusbeskrivelse og tilmelding på www.spillemandskredsen.dk.
URL:https://folkalender.dk/arrangement/nytaarskursus-paa-snoghoej-hoejskole/
LOCATION:Snoghøj Højskole\, Højskolevej 9\, Fredericia\, 7000
CATEGORIES:Kursus,Spilleworkshop
ORGANIZER;CN="Spillemandskredsen":MAILTO:angrjens@gmail.com
GEO:55.5228087;9.7092432
X-APPLE-STRUCTURED-LOCATION;VALUE=URI;X-ADDRESS=Snoghøj Højskole Højskolevej 9 Fredericia 7000;X-APPLE-RADIUS=500;X-TITLE=Højskolevej 9:geo:9.7092432,55.5228087
END:VEVENT
BEGIN:VEVENT
DTSTART;TZID=Europe/Helsinki:20230101T150000
DTEND;TZID=Europe/Helsinki:20230101T173000
DTSTAMP:20260421T022101
CREATED:20230101T111031Z
LAST-MODIFIED:20230101T111031Z
UID:5238-1672585200-1672594200@folkalender.dk
SUMMARY:Nytårs spil i Metronomen
DESCRIPTION:Nytårsdag 1. januar 2023 spiller Folkets Hus Spillefolk og venner og gæster traditionen tro\, nytåret ind.\nDet foregår\, som sædvanlig i Metronomen\, Godthåbsvej 33\, 2000 Frederiksberg.
URL:https://folkalender.dk/arrangement/nytaars-spil-i-metronomen/
LOCATION:Metronomen\, Godthåbsvej 33\, Frederiksberg\, 2000
ATTACH;FMTTYPE=image/jpeg:https://folkalender.dk/wp-content/uploads/2023/01/Nytaarsdag.jpg
ORGANIZER;CN="Folkets Hus Spillefolk":MAILTO:formanden@spillefolk.dk
GEO:55.6860703;12.5334068
X-APPLE-STRUCTURED-LOCATION;VALUE=URI;X-ADDRESS=Metronomen Godthåbsvej 33 Frederiksberg 2000;X-APPLE-RADIUS=500;X-TITLE=Godthåbsvej 33:geo:12.5334068,55.6860703
END:VEVENT
END:VCALENDAR