BEGIN:VCALENDAR
VERSION:2.0
PRODID:-//Folkalender - ECPv6.10.1.1//NONSGML v1.0//EN
CALSCALE:GREGORIAN
METHOD:PUBLISH
X-ORIGINAL-URL:https://folkalender.dk
X-WR-CALDESC:Begivenheder for Folkalender
REFRESH-INTERVAL;VALUE=DURATION:PT1H
X-Robots-Tag:noindex
X-PUBLISHED-TTL:PT1H
BEGIN:VTIMEZONE
TZID:Europe/Helsinki
BEGIN:DAYLIGHT
TZOFFSETFROM:+0200
TZOFFSETTO:+0300
TZNAME:EEST
DTSTART:20220327T010000
END:DAYLIGHT
BEGIN:STANDARD
TZOFFSETFROM:+0300
TZOFFSETTO:+0200
TZNAME:EET
DTSTART:20221030T010000
END:STANDARD
END:VTIMEZONE
BEGIN:VEVENT
DTSTART;TZID=Europe/Helsinki:20221129T193000
DTEND;TZID=Europe/Helsinki:20221129T230000
DTSTAMP:20260420T231110
CREATED:20220908T163432Z
LAST-MODIFIED:20220908T163432Z
UID:4513-1669750200-1669762800@folkalender.dk
SUMMARY:Folkedansebal med Floating Sofa Quartet
DESCRIPTION:Moderne folkedansebal med eminent liveband + danseinstruktion inden \nFloating Sofa Quartet (FSQ) er et prisvindende samarbejde mellem fire unge nordiske spillemænd og -kvinder fra hhv. Sverige\, Finland og Danmark. Med en enestående sammensætning af akustiske instrumenter blander kvartetten nyt og gammelt og skaber et unikt musikalsk udtryk som fremstår både moderne\, traditionelt og tidløst. Repertoiret er varieret\, lyden er varm og imødekommende\, og musikken leveres med intensitet\, energi og mærkbar spilleglæde. \nKvartetten debuterede 2015 og har siden turneret flittigt i både Danmark\, Sverige\, Norge\, Finland\, Tyskland\, Belgien\, Holland og Østrig. Med sceneoptrædener på prominente festivaller som bl.a. Kaustinen Folk Music Festival [FI]\, Førdefestivalen [NO]\, Tønder Festival [DK]\, Korrö Folkmusikfestival [SE] og folkBALTICA [DE] er FSQ efterhånden blevet et eftertragtet og velrenommeret navn på den nordeuropæiske folk-scene. \nFSQ har desuden været nomineret til talrige priser\, bl.a. “Årets Nye Talent” i både Danmark ved DMA Folk og i Sverige ved Folk & Världsmusikgalan. I 2016 modtog de Saugmann Bjerregaard-fondens førstepræmie for deres nyfortolkninger af D.T.S. Bjerregaards musik. \nGruppen har to anmelderroste albummer bag sig: “The Moon We Watch is the Same” var nomineret til to Danish Music Awards for Årets Folk Udgivelse og Årets Komponist (Clara Tesch) i 2017\, og opfølgeren “Neighbourhood” vandt for nylig prisen for Årets Folk Udgivelse ved DMAfolk/world 2019. I begrundelsen stod der bl.a.: “Orkesteret er sammensat af unge musikere opvokset med deres nationale folkemusiktraditioner. Alle er de betagende instrumentalister\, og kendes for tilsammen at levere et formidabelt sammenspil og en nærværende liveperformance når de turnérer rundt.(…) Prisen gives for med indlevelse\, inderlighed og på et højt kvalitetsniveau at skabe personlige fortolkninger af såvel traditionel musik som egne kompositioner.(…)” \nMusikerne\, der alle er fremragende folkedansere\, inviterer kl. 17:00 til danseworkshop\, hvor både begyndere og øvede kan få tips til at danse moderne folkedans. \n100\,-: Koncert\n55\,-: ROD/FOD rabatpris (rabatten kan benyttes af alle aktive folkedansere eller musikere.) \nDanseinstruktion med bandet kl. 17:00\n40\,- / sælges danseparvis – man skal købe min 2 billetter \nSiddepladser ved nummererede caféborde.
URL:https://folkalender.dk/arrangement/folkedansebal-med-floating-sofa-quartet/
LOCATION:Baltoppen LIVE\, Baltorpvej 20\, Ballerup\, 2750
CATEGORIES:Koncert
GEO:55.7305364;12.3522152
X-APPLE-STRUCTURED-LOCATION;VALUE=URI;X-ADDRESS=Baltoppen LIVE Baltorpvej 20 Ballerup 2750;X-APPLE-RADIUS=500;X-TITLE=Baltorpvej 20:geo:12.3522152,55.7305364
END:VEVENT
BEGIN:VEVENT
DTSTART;TZID=Europe/Helsinki:20221130T190000
DTEND;TZID=Europe/Helsinki:20221130T220000
DTSTAMP:20260420T231110
CREATED:20221122T201834Z
LAST-MODIFIED:20221122T201850Z
UID:5039-1669834800-1669845600@folkalender.dk
SUMMARY:Kom til bal
DESCRIPTION:Folkemusiklauget Fynboerne og Svendborg Danse og Spillemandslaug spiller op til dans. Alle er velkomne. Allerede kl. 18.30 er der mulighed for at lære nogle trin så du kan være med senere til ballet.
URL:https://folkalender.dk/arrangement/kom-til-bal-2/
LOCATION:Kulturmaskinen Odense\, Farvergården 7\, Odense\, 5000
CATEGORIES:Bal
GEO:55.3955926;10.3808671
X-APPLE-STRUCTURED-LOCATION;VALUE=URI;X-ADDRESS=Kulturmaskinen Odense Farvergården 7 Odense 5000;X-APPLE-RADIUS=500;X-TITLE=Farvergården 7:geo:10.3808671,55.3955926
END:VEVENT
BEGIN:VEVENT
DTSTART;TZID=Europe/Helsinki:20221130T193000
DTEND;TZID=Europe/Helsinki:20221130T203000
DTSTAMP:20260420T231110
CREATED:20221119T160500Z
LAST-MODIFIED:20221119T160718Z
UID:4998-1669836600-1669840200@folkalender.dk
SUMMARY:Koncert med Roots
DESCRIPTION:Denne aften venter en forrygende koncert\, når Ansgars Kirke får besøg af koret ROOTS under ledelse af Lene Høst.  \nKoret ROOTS er et ambitiøst kvindekor\, som så dagens lys i Odense i 2019. ROOTS arbejder bl.a. med principperne fra ”Det Intelligente Kor”\, som er inspireret af Circle Songs og Sound Painting. På legende vis arbejdes der med at udvikle hver enkelt sangers musikalitet og selvtillid til at tage ansvar for musikken\, som skabes i fællesskab.\nROOTS ledes af Lene Høst\, som er uddannet folkemusiker\, rytmisk sanger og korleder ved konservatorierne i Odense\, Aarhus og Stockholm.  \nVed koncerten i Ansgars Kirke folder ROOTS vingerne ud og tager publikum med på en spændende rundrejse til flere af verdens hjørner\, når koret synger traditionel musik fra mange egne\, som både rummer mange forskellige genrer og mange forskellige sprog. Der vil være groovy rytmer fra Sydafrika\, bløde rituelle toner fra Israel\, fine polskaer fra Sverige\, skarpe klange fra Balkan\, voldsomt og betvingende finsk\, og endelig vil ROOTS også servere sange på dansk.  \nGratis adgang og koncertcafé
URL:https://folkalender.dk/arrangement/koncert-med-roots/
LOCATION:Ansgars Kirke\, Odense\, Søndre Blvd. 1\, Odense\, 5000
CATEGORIES:Koncert
GEO:55.3914031;10.3781858
X-APPLE-STRUCTURED-LOCATION;VALUE=URI;X-ADDRESS=Ansgars Kirke Odense Søndre Blvd. 1 Odense 5000;X-APPLE-RADIUS=500;X-TITLE=Søndre Blvd. 1:geo:10.3781858,55.3914031
END:VEVENT
BEGIN:VEVENT
DTSTART;TZID=Europe/Helsinki:20221130T200000
DTEND;TZID=Europe/Helsinki:20221130T220000
DTSTAMP:20260420T231110
CREATED:20220220T134258Z
LAST-MODIFIED:20221108T194316Z
UID:2663-1669838400-1669845600@folkalender.dk
SUMMARY:Aoife Scott trio
DESCRIPTION:Aoife Scott er en prisvindende folkesanger og sangskriver baseret i Dublin\, Irland.\nFødt ind i den legendariske Black Family som datter af Frances Black\, stiger Aoife støt til toppen af den traditionelle folkemusikscene og har længe haft succes som en etableret kunstner. Skrøbelig og æterisk det ene minut og stærk og levende det næste.\nAoife har en unik lyd. Hendes dynamiske og dybe vokal udforsker de følelsesmæssige dybder af hendes tekster og hendes musik har et bredt kreativt spænd\, men hun er i høj grad påvirket af hendes egne rødder i folkemusik og traditionel irsk musik.\nEfter hendes meget berømte debutalbum\, ”Carry The Day”\, som blev lanceret på Temple Bar Tradfest i 2016 til begejstret anerkendelse\, udgav Aoife Scott sit længe ventede andet album “HomeBird” i januar 2020.\nProduceret af den 12 gange Grammy Award-vinder\, banjo- og guitarvirtuos Ron Block (Alison Krauss & Union Station\, & ‘Oh Brother Where art thou)\, er hendes andet album på mange måder et vendepunkt i hendes musikalske arv. “HomeBird” er indspillet i Nashville og Dublin i samarbejde med nogle af de bedste irske folkemusikere og Grammy-vindende Bluegrass-musikere Sierra Hull\, Stuart Duncan og producer Ron Block.\nDet er kun få år siden\, at Aoifes single “All Along the Wild Atlantic Way” væltede Ed Sheeran fra førstepladsen og blev kåret til “Song of the Year” ved Irish Folk Music Awards i 2017.
URL:https://folkalender.dk/arrangement/aoife-scott-trio/
LOCATION:KulturØen Middelfart\, Havnegade 6\, Middelfart\, 5500
CATEGORIES:Koncert
ORGANIZER;CN="Foreningen GUF%2C God Underholdende Folkemusik":MAILTO:jrahbek@stribnet.dk
GEO:55.5052311;9.7356812
X-APPLE-STRUCTURED-LOCATION;VALUE=URI;X-ADDRESS=KulturØen Middelfart Havnegade 6 Middelfart 5500;X-APPLE-RADIUS=500;X-TITLE=Havnegade 6:geo:9.7356812,55.5052311
END:VEVENT
BEGIN:VEVENT
DTSTART;TZID=Europe/Helsinki:20221202T200000
DTEND;TZID=Europe/Helsinki:20221202T220000
DTSTAMP:20260420T231110
CREATED:20220506T151152Z
LAST-MODIFIED:20220506T151152Z
UID:3697-1670011200-1670018400@folkalender.dk
SUMMARY:Dreamers' Circus feat. NOVO Quartet
DESCRIPTION:Koncerten arrangeres i samarbejde med Hvide Sande Masterclass \nDreamers’ Circus\nDen prisvindende trio med sin unikke stil\, hvor folkemusik møder såvel jazz- som popmusik\, turnérer verden rundt og tryllebinder sit publikum. De kommer nu til Ringkøbing for første gang. Her i en helt unik konstellation med den unge strygekvartet Novo Quartet.  \nDrag med på en uforglemmelig drømmerejse med et af Danmarks mest spændende orkestre. Omdrejningspunktet er skandinavisk folkemusik\, men med en organisk og flydende lethed svæver Ale Carr\, Rune Tonsgaard Sørensen og Nikolaj Busk igennem et cirkus af temaer\, harmonier og nye afkroge af musikken. \nMed sig på scenen får de igennem en del af koncerten Novo Quartet. De er udpeget af Hvide Sande Masterclass til dels at spille med under koncerten\, og til at modtage en åben masterclass tidligere på dagen. \nNOVO Quartet er en up-and-coming Dansk-Polsk strygekvartet med base i København. Etableret i 2018\, består kvartetten af Kaya Kato Møller og Nikolai Vasili Nedergaard\, violin; Daniel Sledzinski\, bratsch; og Signe Ebstrup Bitsch\, cello – alle studerer på Det Kongelige Danske Musikkonservatorium i København.
URL:https://folkalender.dk/arrangement/dreamers-circus-feat-novo-quartet/
LOCATION:Generator\, Kastengevej 3\, Ringkøbing\, 6950
CATEGORIES:Koncert
ORGANIZER;CN="Generator":MAILTO:info@spillestedet-generator.dk
GEO:56.0949691;8.2463432
X-APPLE-STRUCTURED-LOCATION;VALUE=URI;X-ADDRESS=Generator Kastengevej 3 Ringkøbing 6950;X-APPLE-RADIUS=500;X-TITLE=Kastengevej 3:geo:8.2463432,56.0949691
END:VEVENT
BEGIN:VEVENT
DTSTART;TZID=Europe/Helsinki:20221202T200000
DTEND;TZID=Europe/Helsinki:20221202T233000
DTSTAMP:20260420T231110
CREATED:20220512T131947Z
LAST-MODIFIED:20220512T131947Z
UID:3720-1670011200-1670023800@folkalender.dk
SUMMARY:Blueland besøger Bluegrass Music Denmark
DESCRIPTION:Efter en aflysning i starten af året har vi fået en ny aftale på plads med det slovakiske band. Klassisk bluegrass med bundsolid rytme\, gode vokalharmonier og godt valg af sange – alt sammen leveret med energi og entusiasme. Bandet har udgivet 5 albums\, tuneret det meste af Europa tyndt\, og har en særlig evne til at rekruttere fantastisk dygtige musikere. \nKARENS MINDE KULTURHUS\n2. DECEMBER – 20:00\nWagnersvej 19\, 2450 Kbh. SV \nBilletter kun i døren – intet forsalg
URL:https://folkalender.dk/arrangement/blueland-besoeger-bluegrass-music-denmark-2/
LOCATION:Karens Minde Kulturhus\, Wagnersvej 19\, København SV\, 2450
CATEGORIES:Koncert
ORGANIZER;CN="Bluegrass Music Denmark":MAILTO:bluegrassmusicdenmark@gmail.com
GEO:55.6464766;12.5292863
X-APPLE-STRUCTURED-LOCATION;VALUE=URI;X-ADDRESS=Karens Minde Kulturhus Wagnersvej 19 København SV 2450;X-APPLE-RADIUS=500;X-TITLE=Wagnersvej 19:geo:12.5292863,55.6464766
END:VEVENT
BEGIN:VEVENT
DTSTART;TZID=Europe/Helsinki:20221203T200000
DTEND;TZID=Europe/Helsinki:20221203T220000
DTSTAMP:20260420T231110
CREATED:20221107T110532Z
LAST-MODIFIED:20221107T110532Z
UID:4933-1670097600-1670104800@folkalender.dk
SUMMARY:Dreamers' Circus
DESCRIPTION:DREAMERS’ CIRCUS blev dannet i 2009 og består af Rune Tonsgaard Sørensen (violin)\, Ale Carr (cittern) og Nikolaj Busk (klaver og harmonika). Med tre vidt forskellige tilgange til musikken har trioen sammen skabt et fælles formsprog og en lyd på tværs af genrer\, der kan siges at være deres helt egen. Lyden er gennemsyret og præget af bandets nordiske rødder og balancerer mellem at være både munter og vemodig. \nTrioen\, som i 2010 udgav deres første EP\, står i dag bag fire anerkendte\, anmelderroste og ikke mindst prisvindende album\, der fra den spæde start har sikret bandet en betydelig plads på den internationale folk-scene. Med det seneste album Blue White Gold fra 2020 stadfæstede de folkemusikkens vedvarende relevans med priser ved både DMA Roots 2020 og Carl Prisen 2021\, flotte anmeldelser i pressen og en udnævnelse til et af de tre nye specialensembler af Statens Kunstfond. Gruppen er i 2021-2023 udnævnt ’’Stadsmusikanter’’ i Roskilde Kommune. I sommer\, midt imellem deres fjerde Japan turné og en turné rundtomkring i Europa\, kan man opleve Dreamers’ Circus på Roskilde Festival sammen med Den Danske Strygekvartet.
URL:https://folkalender.dk/arrangement/dreamers-circus-3/
LOCATION:Tøjhuset Fredericia\, Gothersgade 34\, Fredericia\, 7000
CATEGORIES:Koncert
GEO:55.5625282;9.756115
X-APPLE-STRUCTURED-LOCATION;VALUE=URI;X-ADDRESS=Tøjhuset Fredericia Gothersgade 34 Fredericia 7000;X-APPLE-RADIUS=500;X-TITLE=Gothersgade 34:geo:9.756115,55.5625282
END:VEVENT
BEGIN:VEVENT
DTSTART;TZID=Europe/Helsinki:20221204T140000
DTEND;TZID=Europe/Helsinki:20221204T154500
DTSTAMP:20260420T231110
CREATED:20220412T150815Z
LAST-MODIFIED:20220412T150815Z
UID:3518-1670162400-1670168700@folkalender.dk
SUMMARY:Zenobia
DESCRIPTION:Julekoncert med danske viser og sange samt Zenobias egne numre.\nVarighed 2 x 45 min. med kaffepause.
URL:https://folkalender.dk/arrangement/zenobia-18/
LOCATION:Hadsten Kulturhus Sløjfen\, Evald Tangs Allé 45\, 8370\, Hadsten
CATEGORIES:Koncert
GEO:56.3255629;10.044933
X-APPLE-STRUCTURED-LOCATION;VALUE=URI;X-ADDRESS=Hadsten Kulturhus Sløjfen Evald Tangs Allé 45 8370 Hadsten;X-APPLE-RADIUS=500;X-TITLE=Evald Tangs Allé 45:geo:10.044933,56.3255629
END:VEVENT
BEGIN:VEVENT
DTSTART;TZID=Europe/Helsinki:20221204T150000
DTEND;TZID=Europe/Helsinki:20221204T170000
DTSTAMP:20260420T231110
CREATED:20221115T192535Z
LAST-MODIFIED:20221201T120405Z
UID:4987-1670166000-1670173200@folkalender.dk
SUMMARY:Semester bal
DESCRIPTION:Kom til semester bal søndag d.4 december 2022 kl.15-17.  \nFolkemusikstuderende Nathasja Vosgerau Hansen\, hendes hovedfagslærer Kristine Heebøll og deres lærermester Poul Lendal spiller op til 1\,5 times bal i gymnastiksalen hos Kristine Heebøll (Stærmosevej 171\, 5690 Tommerup). Undervejs holdes en lille “kaffepause” hvor vi sørger for noget sødt til den kaffe/te man selv medbringer.  \nDer vil være moderart mængde instruktion undervejs\, hvorfor danseerfaring forventes.  \nDet er gratis at deltage\, dog kræves tilmelding\, da der er begrænsede antal pladser\, 30 personer.  \nTilmelding sendes til Kristine Heebøll på mail kristineheeboll@gmail.com
URL:https://folkalender.dk/arrangement/semester-bal/
CATEGORIES:Bal
END:VEVENT
BEGIN:VEVENT
DTSTART;TZID=Europe/Helsinki:20221204T160000
DTEND;TZID=Europe/Helsinki:20221204T170000
DTSTAMP:20260420T231110
CREATED:20221121T084015Z
LAST-MODIFIED:20221121T084015Z
UID:5026-1670169600-1670173200@folkalender.dk
SUMMARY:Musikgudstjeneste med Grabow og Guldhammer
DESCRIPTION:2. søndag i advent medvirker duoen Grabow og Guldhammer ved en gudstjeneste\, hvor julens toner veksler og blander sig med ord til eftertanke. \nSammen udforsker Sara Grabow og Mia Guldhammer klangfulde rum\, stærke melodier og kraftfulde tekster. \nMusikken bevæger sig i et poetisk univers bestående af stemmer og strengespil\, med rødder tilbage fra folkemusikken ind i et filosofisk univers\, der er med til at skabe ro i sjælen. \nTo stærke kvindestemmer – en lys og en mørk – der på deres helt egen særlige facon\, trækker essensen af visdom ud af ældgamle sange – så de vigtige menneskelige grundfortællinger fortælles på ny og bevæger nye hjerter. \nVelkommen til en smuk og anderledes optakt til julen! \nEfter gudstjenesten byder vi på en kop varmt og lidt sødt til ganen.
URL:https://folkalender.dk/arrangement/musikgudstjeneste-med-grabow-og-guldhammer/
LOCATION:Skt. Lukas Kirke\, Skt. Lucas Kirkeplads 1\, Aarhus C\, 8000
CATEGORIES:Gudstjeneste
ORGANIZER;CN="Skt. Lukas Kirke":MAILTO:lukaskirke@gmail.com
GEO:56.1447834;10.1940742
X-APPLE-STRUCTURED-LOCATION;VALUE=URI;X-ADDRESS=Skt. Lukas Kirke Skt. Lucas Kirkeplads 1 Aarhus C 8000;X-APPLE-RADIUS=500;X-TITLE=Skt. Lucas Kirkeplads 1:geo:10.1940742,56.1447834
END:VEVENT
BEGIN:VEVENT
DTSTART;TZID=Europe/Helsinki:20221204T170000
DTEND;TZID=Europe/Helsinki:20221204T183000
DTSTAMP:20260420T231110
CREATED:20221107T110237Z
LAST-MODIFIED:20221107T110237Z
UID:4930-1670173200-1670178600@folkalender.dk
SUMMARY:Dreamers' Circus
DESCRIPTION:Dreamers’ Circus et musikalsk festfyrværkeri. \nDreamers’ Circus spiller en kort serie koncerter i Danmark og gæster Musikhuset i december. Grib chancen for at opleve bandet\, hvis live koncerter afspejler de elementer\, der ligger i navnet – magi\, leg\, akrobatisk kreativitet\, sjov\, færdigheder og fantasi. \nDreamers’ Circus udforsker utrætteligt nye udfordringer. De trækker på deres solide baggrunde i traditionel folkemusik og tilføjer følsomhed\, jazzens improvisation og den klassiske musiks kompleksitet. Samtidig har de en åbenhed overfor populærmusikken. Resultatet er en musik\, der både er moderne\, rytmisk og melodisk fængslende. \nPianisten og harmonikaspilleren Nikolaj Busk har en baggrund i folkemusik\, men hans evne til at optræde har gjort ham stærkt efterspurgt også indenfor popmusik og jazz. Violinisten Rune Tonsgaard Sørensen voksede ganske vist op i en familie\, der elskede folkemusik\, men viste sig at være et stort talent indenfor klassisk musik. Allerede da han var i starten af tyverne\, blev han koncertmester for Copenhagen Phil. Svenskfødte Ale Carr kommer også fra en folkemusikglad familie\, og hans rytmiske citternspil understøtter bandets særlige sound.\n________________\nSpillested: Lille Sal\nForventet varighed: 1 time og 30 minutter\nArrangør: Musikhuset Aarhus
URL:https://folkalender.dk/arrangement/dreamers-circus-2/
LOCATION:Musikhuset Aarhus\, Thomas Jensens Allé 2\, Aarhus\, 8000
CATEGORIES:Koncert
GEO:56.1529577;10.199116
X-APPLE-STRUCTURED-LOCATION;VALUE=URI;X-ADDRESS=Musikhuset Aarhus Thomas Jensens Allé 2 Aarhus 8000;X-APPLE-RADIUS=500;X-TITLE=Thomas Jensens Allé 2:geo:10.199116,56.1529577
END:VEVENT
END:VCALENDAR