BEGIN:VCALENDAR
VERSION:2.0
PRODID:-//Folkalender - ECPv6.10.1.1//NONSGML v1.0//EN
CALSCALE:GREGORIAN
METHOD:PUBLISH
X-WR-CALNAME:Folkalender
X-ORIGINAL-URL:https://folkalender.dk
X-WR-CALDESC:Begivenheder for Folkalender
REFRESH-INTERVAL;VALUE=DURATION:PT1H
X-Robots-Tag:noindex
X-PUBLISHED-TTL:PT1H
BEGIN:VTIMEZONE
TZID:Europe/Helsinki
BEGIN:DAYLIGHT
TZOFFSETFROM:+0200
TZOFFSETTO:+0300
TZNAME:EEST
DTSTART:20260329T010000
END:DAYLIGHT
BEGIN:STANDARD
TZOFFSETFROM:+0300
TZOFFSETTO:+0200
TZNAME:EET
DTSTART:20261025T010000
END:STANDARD
END:VTIMEZONE
BEGIN:VEVENT
DTSTART;TZID=Europe/Helsinki:20261201T193000
DTEND;TZID=Europe/Helsinki:20261201T220000
DTSTAMP:20260420T023216
CREATED:20260203T153259Z
LAST-MODIFIED:20260203T153259Z
UID:14270-1796153400-1796162400@folkalender.dk
SUMMARY:Anne Iben og de Henslængte
DESCRIPTION:Anne Iben med band \nRoskildes egen Anne Iben udgav i 2024 albummet ”Til verdens ende” som er indspillet i Medley studiet med musikere som spiller med – eller har spillet med Anne Ibens egne musikalske forbilleder – Rune Kjeldsen (Savage Rose m.fl.)\, Eddi Jarl (Lars Lilholt m.fl.)\, Jesper Bo Hansen (Anne Linnet m.fl.)\, Jesper Haugaard (Kim Larsen m.fl.)\, Knud Møller (Johnny Madsen) \n“Stemninger og billeder er vel kønsløse\, så når folk som Erik Grip\, Eik Skaløe\, Skousen og Ingemann\, Kim Larsen og ikke mindst protestsangeren Jan Toftlund “flimrer frem fra støvet” fra de musikalske erindringer hos lytteren her\, må vi jo konkludere\, at vi er godt i gang med at bevæge os “Til verdens ende” med Anne Iben. \nMiss B. Haven med Lise Cabble er ej heller ikke langt væk i eksempelvis sangene “Napoleon” og “Hun lå som redt”.\nAnne Iben synger albummet igennem ufortrødent og uden tilbageholdenhed\, og naturligvis med “tro på egne evner” sig frem i ord og billeder med noget på hjerte.\nBrian Sandgaard \n‘Til Verdens Ende’ er et album der fra start til slut ved hvorhen det vil\, det er fremragende produceret\, har kant og stil og sange som titelnummeret selv (Til Verdens Ende) og ‘På Tynd Is’ er fremragende skrevet og sunget af Anne Iben – hvis stemme henfører mig til bl.a. ‘Anne Grete’\, ‘Bifrost’ og ‘Chrissie Hynde’. Efter 5 aflytninger af albummet\, fremstår det lige stærkt!\nKlaus Handsome \nAlbummet kan høres her: https://open.spotify.com/album/1wHhCI6IeQGDJrCnwzttWm?si=kqb4-cwGTZ2uZ6EyQLA_SA \nDenne aften spiller Anne Iben med bandet ”de Henslængte” som består af Roskilde lokale musikere: Anders Hvidberg\, Remy Frederiksen og Kasper Bruhn \nHør Anne Iben og de Henslængte her:\nKoncert i Kunstsmedjen 2025\nAnne Iben & de Henslængte på Musicon i Roskilde oktober 2025 – YouTube: www.youtube.com/shorts/pG7yr56um0Q \nBogart Julesession 2025\n24. januar 2026 – YouTube: www.youtube.com/watch?v=bzsSNHKk0yA \nAnne Iben er desuden ophavskvinde til fredssangen ”Fredsduer” som er skrevet sammen med Camilla Tiedt. Sangen er indtil videre blevet sunget af tusindvis af børn og voksne og er nået vidt omkring; den er bl.a. blevet sunget i skoler\, på Klimafolkemødet\, af kor\, på festivaler\, på gader og stræder\, i kirker og på plænen i Tivoli i forbindelse med fejring af 80 året for befrielsen. Hør fredssangen her: Fredsduer – ny fredssang til fri download — Roskilde Synger
URL:https://folkalender.dk/arrangement/anne-iben-og-de-henslaengte/
LOCATION:Gimle\, Roskilde\, Helligkorsvej 2\, Roskilde\, 4000
CATEGORIES:Koncert
ATTACH;FMTTYPE=image/jpeg:https://folkalender.dk/wp-content/uploads/2026/02/AnneIben_Pressefoto_1000x1000.jpg
GEO:55.6398348;12.0714186
X-APPLE-STRUCTURED-LOCATION;VALUE=URI;X-ADDRESS=Gimle Roskilde Helligkorsvej 2 Roskilde 4000;X-APPLE-RADIUS=500;X-TITLE=Helligkorsvej 2:geo:12.0714186,55.6398348
END:VEVENT
BEGIN:VEVENT
DTSTART;TZID=Europe/Helsinki:20261206T140000
DTEND;TZID=Europe/Helsinki:20261206T170000
DTSTAMP:20260420T023216
CREATED:20240425T110350Z
LAST-MODIFIED:20240425T110350Z
UID:10812-1796565600-1796576400@folkalender.dk
SUMMARY:Søndagsdans på Museum Rebild
DESCRIPTION:Hver søndag eftermiddag året rundt inviterer Rebild Spillemændene til gammeldans i museets sal. Repertoiret er for alle\, også nybegyndere i gammeldans og folkedans.  \nTraditionen med søndagsdans har eksisteret siden museets start i 1951. Her vedligeholdes den himmerlandske dansetradition\, som den har været kendt i mange generationer. Det foregår som et regulært bal\, hvor musikken leveres af en af gruppe fra Rebild Spillemandslaug.  \nSom nybegynder er der rig mulighed for at danse med rutinerede dansere\, hvilket er en god måde at lære trinene på. Alle kan deltage\, selv om de ikke kender til folkedans i forvejen. Der er erfarne dansere\, som kan lære fra sig\, så alle får et par sjove og lærerige timer og måske bliver bidt af folkedansen. Der danses i et par timer\, afbrudt af en kaffepause\, hvor der kan købes kaffe og brød i museets cafe. Café og butik er åben søndage fra kl 13. Der er mulighed for at forudbestille kaffe og kage kl.14 når musikken starter\, så er det klar til pausen kl. 15.30.
URL:https://folkalender.dk/arrangement/soendagsdans-paa-museum-rebild/2026-12-06/
LOCATION:Museum Rebild\, Rebildvej 25B\, Rebild\, Skørping\, 9520
CATEGORIES:Bal,Legestue
ATTACH;FMTTYPE=image/jpeg:https://folkalender.dk/wp-content/uploads/2024/04/dans_i_Salen.jpg
ORGANIZER;CN="Museum Rebild":MAILTO:spillemandsmuseet@mail.dk
END:VEVENT
BEGIN:VEVENT
DTSTART;TZID=Europe/Helsinki:20261213T140000
DTEND;TZID=Europe/Helsinki:20261213T170000
DTSTAMP:20260420T023216
CREATED:20240425T110350Z
LAST-MODIFIED:20240425T110350Z
UID:10855-1797170400-1797181200@folkalender.dk
SUMMARY:Søndagsdans på Museum Rebild
DESCRIPTION:Hver søndag eftermiddag året rundt inviterer Rebild Spillemændene til gammeldans i museets sal. Repertoiret er for alle\, også nybegyndere i gammeldans og folkedans.  \nTraditionen med søndagsdans har eksisteret siden museets start i 1951. Her vedligeholdes den himmerlandske dansetradition\, som den har været kendt i mange generationer. Det foregår som et regulært bal\, hvor musikken leveres af en af gruppe fra Rebild Spillemandslaug.  \nSom nybegynder er der rig mulighed for at danse med rutinerede dansere\, hvilket er en god måde at lære trinene på. Alle kan deltage\, selv om de ikke kender til folkedans i forvejen. Der er erfarne dansere\, som kan lære fra sig\, så alle får et par sjove og lærerige timer og måske bliver bidt af folkedansen. Der danses i et par timer\, afbrudt af en kaffepause\, hvor der kan købes kaffe og brød i museets cafe. Café og butik er åben søndage fra kl 13. Der er mulighed for at forudbestille kaffe og kage kl.14 når musikken starter\, så er det klar til pausen kl. 15.30.
URL:https://folkalender.dk/arrangement/soendagsdans-paa-museum-rebild/2026-12-13/
LOCATION:Museum Rebild\, Rebildvej 25B\, Rebild\, Skørping\, 9520
CATEGORIES:Bal,Legestue
ATTACH;FMTTYPE=image/jpeg:https://folkalender.dk/wp-content/uploads/2024/04/dans_i_Salen.jpg
ORGANIZER;CN="Museum Rebild":MAILTO:spillemandsmuseet@mail.dk
END:VEVENT
BEGIN:VEVENT
DTSTART;TZID=Europe/Helsinki:20261220T140000
DTEND;TZID=Europe/Helsinki:20261220T170000
DTSTAMP:20260420T023216
CREATED:20240425T110350Z
LAST-MODIFIED:20240425T110350Z
UID:10870-1797775200-1797786000@folkalender.dk
SUMMARY:Søndagsdans på Museum Rebild
DESCRIPTION:Hver søndag eftermiddag året rundt inviterer Rebild Spillemændene til gammeldans i museets sal. Repertoiret er for alle\, også nybegyndere i gammeldans og folkedans.  \nTraditionen med søndagsdans har eksisteret siden museets start i 1951. Her vedligeholdes den himmerlandske dansetradition\, som den har været kendt i mange generationer. Det foregår som et regulært bal\, hvor musikken leveres af en af gruppe fra Rebild Spillemandslaug.  \nSom nybegynder er der rig mulighed for at danse med rutinerede dansere\, hvilket er en god måde at lære trinene på. Alle kan deltage\, selv om de ikke kender til folkedans i forvejen. Der er erfarne dansere\, som kan lære fra sig\, så alle får et par sjove og lærerige timer og måske bliver bidt af folkedansen. Der danses i et par timer\, afbrudt af en kaffepause\, hvor der kan købes kaffe og brød i museets cafe. Café og butik er åben søndage fra kl 13. Der er mulighed for at forudbestille kaffe og kage kl.14 når musikken starter\, så er det klar til pausen kl. 15.30.
URL:https://folkalender.dk/arrangement/soendagsdans-paa-museum-rebild/2026-12-20/
LOCATION:Museum Rebild\, Rebildvej 25B\, Rebild\, Skørping\, 9520
CATEGORIES:Bal,Legestue
ATTACH;FMTTYPE=image/jpeg:https://folkalender.dk/wp-content/uploads/2024/04/dans_i_Salen.jpg
ORGANIZER;CN="Museum Rebild":MAILTO:spillemandsmuseet@mail.dk
END:VEVENT
BEGIN:VEVENT
DTSTART;TZID=Europe/Helsinki:20261226T180000
DTEND;TZID=Europe/Helsinki:20261226T233000
DTSTAMP:20260420T023216
CREATED:20221223T162849Z
LAST-MODIFIED:20221223T162849Z
UID:10871-1798308000-1798327800@folkalender.dk
SUMMARY:Folkemusik jam i Flensborg
DESCRIPTION:Violin-spiller Andreas von Hippel fra Flensborg organiserer normalt hver 4. Lørdag i måneden en jam i Flensborg\ni “Kulturcafe Tableau”. I kan forvente musik fra de\nanglo-skandinaviske egne.\nDet er et hyggeligt mødested især for danske og tyske folk-musikere. Spørsmål? Skriv til jensis@gmail.com\nHilsen\, Jens W. \nDer Geigenspieler Andreas von Hippel aus Flensburg organisiert jeden 4. Samstag im Monat eine Session\nim Kulturcafe Tableau in Flensburg. Es soll gerne um Folkmusik\naus dem anglo-skandinavischen Raum gehen. An der Schnittstelle zwischen Deutschland und Dänemark ist\ndie Session insbesondere ein Treffpunkt zwischen deutschen und dänischen Folk-Musikern.\nE-mail: jensis@gmail.com
URL:https://folkalender.dk/arrangement/folkemusik-session-i-flensborg/2026-12-26/
LOCATION:Kulturcafe Tableau\, Kurze Straße 1\, Flensborg\, 24937
CATEGORIES:Jam
ATTACH;FMTTYPE=image/png:https://folkalender.dk/wp-content/uploads/2022/12/flensburg_session_dezember2022_screenshot.png
GEO:54.7875536;9.439317
X-APPLE-STRUCTURED-LOCATION;VALUE=URI;X-ADDRESS=Kulturcafe Tableau Kurze Straße 1 Flensborg 24937;X-APPLE-RADIUS=500;X-TITLE=Kurze Straße 1:geo:9.439317,54.7875536
END:VEVENT
BEGIN:VEVENT
DTSTART;TZID=Europe/Helsinki:20261227T140000
DTEND;TZID=Europe/Helsinki:20261227T170000
DTSTAMP:20260420T023216
CREATED:20240425T110350Z
LAST-MODIFIED:20240425T110350Z
UID:10884-1798380000-1798390800@folkalender.dk
SUMMARY:Søndagsdans på Museum Rebild
DESCRIPTION:Hver søndag eftermiddag året rundt inviterer Rebild Spillemændene til gammeldans i museets sal. Repertoiret er for alle\, også nybegyndere i gammeldans og folkedans.  \nTraditionen med søndagsdans har eksisteret siden museets start i 1951. Her vedligeholdes den himmerlandske dansetradition\, som den har været kendt i mange generationer. Det foregår som et regulært bal\, hvor musikken leveres af en af gruppe fra Rebild Spillemandslaug.  \nSom nybegynder er der rig mulighed for at danse med rutinerede dansere\, hvilket er en god måde at lære trinene på. Alle kan deltage\, selv om de ikke kender til folkedans i forvejen. Der er erfarne dansere\, som kan lære fra sig\, så alle får et par sjove og lærerige timer og måske bliver bidt af folkedansen. Der danses i et par timer\, afbrudt af en kaffepause\, hvor der kan købes kaffe og brød i museets cafe. Café og butik er åben søndage fra kl 13. Der er mulighed for at forudbestille kaffe og kage kl.14 når musikken starter\, så er det klar til pausen kl. 15.30.
URL:https://folkalender.dk/arrangement/soendagsdans-paa-museum-rebild/2026-12-27/
LOCATION:Museum Rebild\, Rebildvej 25B\, Rebild\, Skørping\, 9520
CATEGORIES:Bal,Legestue
ATTACH;FMTTYPE=image/jpeg:https://folkalender.dk/wp-content/uploads/2024/04/dans_i_Salen.jpg
ORGANIZER;CN="Museum Rebild":MAILTO:spillemandsmuseet@mail.dk
END:VEVENT
END:VCALENDAR