BEGIN:VCALENDAR
VERSION:2.0
PRODID:-//Folkalender - ECPv6.10.1.1//NONSGML v1.0//EN
CALSCALE:GREGORIAN
METHOD:PUBLISH
X-ORIGINAL-URL:https://folkalender.dk
X-WR-CALDESC:Begivenheder for Folkalender
REFRESH-INTERVAL;VALUE=DURATION:PT1H
X-Robots-Tag:noindex
X-PUBLISHED-TTL:PT1H
BEGIN:VTIMEZONE
TZID:Europe/Helsinki
BEGIN:DAYLIGHT
TZOFFSETFROM:+0200
TZOFFSETTO:+0300
TZNAME:EEST
DTSTART:20260329T010000
END:DAYLIGHT
BEGIN:STANDARD
TZOFFSETFROM:+0300
TZOFFSETTO:+0200
TZNAME:EET
DTSTART:20261025T010000
END:STANDARD
END:VTIMEZONE
BEGIN:VEVENT
DTSTART;TZID=Europe/Helsinki:20261113T170000
DTEND;TZID=Europe/Helsinki:20261115T130000
DTSTAMP:20260419T202117
CREATED:20260401T155551Z
LAST-MODIFIED:20260401T203607Z
UID:14761-1794589200-1794747600@folkalender.dk
SUMMARY:Jamcon – spilleweekend
DESCRIPTION:Hvis du elsker at spille folkemusik\, så kom til de Sydfynske Alper.\nVi mødes ca. 20 mennesker og spiller og danser en hel weekend væk.\nMan kan være med om man kan en enkelt melodi på sit instrument eller har spillet hele sit liv. Vores fokus er at skabe musik sammen i et trygt jam-rum\, hvor man tør udfordre sig selv\, fordi vi tager kærligt imod alle hinandens musikalske indspark. \nPris: 650 kr (150 hvis man er under 25 eller studerende) \nTilmelding: www.jamcon.dk \nSå\, pak dit instrument\, tag din bedste melodi under armen og skru danseskoene på – vi ses på Jamcon!
URL:https://folkalender.dk/arrangement/jamcon-spilleweekend/
LOCATION:Tørvelong 22\, Stenstrup\, Tørvelong 22\, Stenstrup
CATEGORIES:Jam,Spilleworkshop,Stævne
ATTACH;FMTTYPE=image/jpeg:https://folkalender.dk/wp-content/uploads/2026/04/IMG_20251108_2015152.jpg
ORGANIZER;CN="Jamcon":MAILTO:JamCon@JamCon.dk
GEO:55.0977124;10.4990895
X-APPLE-STRUCTURED-LOCATION;VALUE=URI;X-ADDRESS=Tørvelong 22 Stenstrup Tørvelong 22 Stenstrup;X-APPLE-RADIUS=500;X-TITLE=Tørvelong 22:geo:10.4990895,55.0977124
END:VEVENT
BEGIN:VEVENT
DTSTART;TZID=Europe/Helsinki:20261115T140000
DTEND;TZID=Europe/Helsinki:20261115T170000
DTSTAMP:20260419T202117
CREATED:20240425T110350Z
LAST-MODIFIED:20241121T121548Z
UID:10516-1794751200-1794762000@folkalender.dk
SUMMARY:Søndagsdans på Museum Rebild
DESCRIPTION:Hver søndag eftermiddag året rundt inviterer Rebild Spillemændene til gammeldans i museets sal. Repertoiret er for alle\, også nybegyndere i gammeldans og folkedans.  \nTraditionen med søndagsdans har eksisteret siden museets start i 1951. Her vedligeholdes den himmerlandske dansetradition\, som den har været kendt i mange generationer. Det foregår som et regulært bal\, hvor musikken leveres af en af gruppe fra Rebild Spillemandslaug.  \nSom nybegynder er der rig mulighed for at danse med rutinerede dansere\, hvilket er en god måde at lære trinene på. Alle kan deltage\, selv om de ikke kender til folkedans i forvejen. Der er erfarne dansere\, som kan lære fra sig\, så alle får et par sjove og lærerige timer og måske bliver bidt af folkedansen. Der danses i et par timer\, afbrudt af en kaffepause\, hvor der kan købes kaffe og brød i museets cafe. Café og butik er åben søndage fra kl 13. Der er mulighed for at forudbestille kaffe og kage kl.14 når musikken starter\, så er det klar til pausen kl. 15.30.
URL:https://folkalender.dk/arrangement/soendagsdans-paa-museum-rebild/2026-11-15/
LOCATION:Museum Rebild\, Rebildvej 25B\, Rebild\, Skørping\, 9520
CATEGORIES:Bal,Legestue
ATTACH;FMTTYPE=image/jpeg:https://folkalender.dk/wp-content/uploads/2024/04/dans_i_Salen.jpg
ORGANIZER;CN="Museum Rebild":MAILTO:spillemandsmuseet@mail.dk
END:VEVENT
END:VCALENDAR