BEGIN:VCALENDAR
VERSION:2.0
PRODID:-//Folkalender - ECPv6.10.1.1//NONSGML v1.0//EN
CALSCALE:GREGORIAN
METHOD:PUBLISH
X-ORIGINAL-URL:https://folkalender.dk
X-WR-CALDESC:Begivenheder for Folkalender
REFRESH-INTERVAL;VALUE=DURATION:PT1H
X-Robots-Tag:noindex
X-PUBLISHED-TTL:PT1H
BEGIN:VTIMEZONE
TZID:Europe/Helsinki
BEGIN:DAYLIGHT
TZOFFSETFROM:+0200
TZOFFSETTO:+0300
TZNAME:EEST
DTSTART:20260329T010000
END:DAYLIGHT
BEGIN:STANDARD
TZOFFSETFROM:+0300
TZOFFSETTO:+0200
TZNAME:EET
DTSTART:20261025T010000
END:STANDARD
END:VTIMEZONE
BEGIN:VEVENT
DTSTART;TZID=Europe/Helsinki:20261111T193000
DTEND;TZID=Europe/Helsinki:20261111T220000
DTSTAMP:20260419T171401
CREATED:20260203T153106Z
LAST-MODIFIED:20260203T153106Z
UID:14265-1794425400-1794434400@folkalender.dk
SUMMARY:David Francey
DESCRIPTION:David Francey er en af Canadas bedste sangskrivere. Han har gæstet Tønder Festivalen flere gange\, senest i 2012 og har også turneret i Danmark. \nDavid Francey er født i Skotland men flyttede som barn med sine forældre til Canada. Oprindelig var han tømrer\, og han gjorde først sin entré på musikscenen i en sen alder – han har dog ikke spildt tiden: Tolv albums er det indtil videre blevet til\, fire gange har han vundet Canadas fornemste musik pris\, JUNO award (senest i 2024 for albummet The Breath Between)\, fire gange har han fået en Canadian Folk Music Award\, og i 2008 fik han den prestigefyldte SOCAN Folk Music Award – bare for at nævne nogle af de mange officielle anerkendelser\, han har hentet. Men priser eller ej – først og fremmest\, så skriver han dog nogle fantastiske sange\, der går rent hjem hos de fleste. \nSom avisdreng i Ayrshire i Skotland fik han en forsmag på arbejdslivet. Han slugte avisens nyheder med stor appetit og grundlagde en livslang interesse for politik og verdens begivenheder\, mens han udviklede den sociale bevidsthed\, der danner baggrunden i hans sange. \nDa han var 12 år emigrerede han og hans familie til Toronto i Canada. De mange familieudflugter i det sydlige Ontario – med flerstemmig sang i bilen – gav ham en kærlighed til landskaberne\, historien og menneskerne i hans adopterede hjemland. \nDe tætte bånd til Canada og den almindelige canadier voksede gennem Davids blaffeture på tværs af landet\, arbejdet på Torontos rangerbanegårde\, i Yukons bush og på byggepladserne i Quebecs Eastern Townships. Denne tilknytning skinner i gennem i hans sange om jernbanelinjerne\, gårdene og søvejen langs St. Lawrence River. \nPå scenen er David Francey både sanger og historiefortæller. Han er en mand\, der udstråler ærlighed og varme\, og hans skæve humor og skarpe iagttagelser kombineret med hans åbenhjertige sangstil har vundet mange loyale fans. \nPå turnéen i Danmark ledsages David af en guitarist
URL:https://folkalender.dk/arrangement/david-francey/
LOCATION:Gimle\, Roskilde\, Helligkorsvej 2\, Roskilde\, 4000
CATEGORIES:Koncert
ATTACH;FMTTYPE=image/jpeg:https://folkalender.dk/wp-content/uploads/2026/02/David_Francey_1_1000x1000.jpg
GEO:55.6398348;12.0714186
X-APPLE-STRUCTURED-LOCATION;VALUE=URI;X-ADDRESS=Gimle Roskilde Helligkorsvej 2 Roskilde 4000;X-APPLE-RADIUS=500;X-TITLE=Helligkorsvej 2:geo:12.0714186,55.6398348
END:VEVENT
END:VCALENDAR