BEGIN:VCALENDAR
VERSION:2.0
PRODID:-//Folkalender - ECPv6.10.1.1//NONSGML v1.0//EN
CALSCALE:GREGORIAN
METHOD:PUBLISH
X-WR-CALNAME:Folkalender
X-ORIGINAL-URL:https://folkalender.dk
X-WR-CALDESC:Begivenheder for Folkalender
REFRESH-INTERVAL;VALUE=DURATION:PT1H
X-Robots-Tag:noindex
X-PUBLISHED-TTL:PT1H
BEGIN:VTIMEZONE
TZID:Europe/Helsinki
BEGIN:DAYLIGHT
TZOFFSETFROM:+0200
TZOFFSETTO:+0300
TZNAME:EEST
DTSTART:20250330T010000
END:DAYLIGHT
BEGIN:STANDARD
TZOFFSETFROM:+0300
TZOFFSETTO:+0200
TZNAME:EET
DTSTART:20251026T010000
END:STANDARD
END:VTIMEZONE
BEGIN:VEVENT
DTSTART;TZID=Europe/Helsinki:20250205T120000
DTEND;TZID=Europe/Helsinki:20250514T170000
DTSTAMP:20260421T010757
CREATED:20241229T131032Z
LAST-MODIFIED:20241229T131718Z
UID:10898-1738756800-1747242000@folkalender.dk
SUMMARY:Violin – Folkemusik – Skanderborg
DESCRIPTION:Violin for alle\nEt kursusforløb består af 12 gange à 30 minutter. Undervisningen foregår hos AOF Skanderborg\, Asylgade 18. Tidspunkt og dag aftales ved at maile til underviseren.\nMaja Kjær Jacobsen træffes på: maja.k.jacobsen@gmail.com \nOm undervisningen\nVil du lære at spille alle de sange du kender – med eller uden noder? Eller er du nysgerrig på folkemusik? Så start til folkemusik-violin hos Maja Kjær! For Maja er det vigtigt\, at det er sjovt at beskæftige sig med musik\, uanset om man er begynder eller øvet og ambitiøs. Undervisningen bliver derfor altid tilpasset den enkelte elevs ønsker og niveau. Vi kan bl.a. tage fat på grundlæggende teknik\, repertoire\, nodelære og rytmisk forståelse\, udenadslære\, spillestil eller improvisation (folkemusik). \nUndervisningen er for alle: Begyndere\, let øvede og øvede\, og du behøver ikke kende til genren når du starter.So­lo­un­der­vis­ning 30 min. pr. elev. Det er muligt at lægge timerne sammen til hold med flere elever.Tidspunkt er onsdag mellem 12.00 og 17.00. Online undervisning er også en mulighed. Individuelle hensyn aftales med Maja. \nMulighed for leje af violin\, kr. 30\,00 pr. uge eller kr. 400\,00 for en sæson. \nKursusdetaljer\nAOF\, Asylgade 18\, 8660 Skanderborg\nOnsdag\, 12:00 – 17:00\n12 lektioner\, 12 mødegange\nHold nr.: 7525107310\nKontakt: Skanderborg-Odder AOF\n1.650 kr./person \nUnderviser \nMaja Kjær Jacobsen\nMaja Kjær er violinist\, tra­di­tions­bæ­rer og komponist indenfor dansk og nordisk folkemusik/spil­le­mands­mu­sik. Hun har ca. 15 års erfaring som underviser\, bl.a. på mange musikskoler og aftenskoler i hele landet\, samt workshops i udlandet i forb. m. sine mange turnéer. Derudover har hun udgivet en nodebog\, en podcast og 6 musikalbums med forskellige bands.Maja er uddannet violinist ved Syddansk Mu­sik­kon­ser­va­to­ri­um i Odense som BA i 2009 og KA i 2012\, har været på udveksling i Limerick (Irland) og taget yderligere kurser i Norsk Folkelig Dans på NTNU i Trondheim (Norge). Lige nu er hun i gang med at afslutte uddannelsen som solist på linjen Contemporary Creative Artist på Syddansk Mu­sik­kon­ser­va­to­ri­um i Esbjerg\, hvor hun spiller sin debutkoncert i marts 2025.
URL:https://folkalender.dk/arrangement/violin-folkemusik-silkeborg/
LOCATION:AOF Skanderborg\, Asylgade 18\, Skanderborg\, 8660
CATEGORIES:Kursus
ATTACH;FMTTYPE=image/jpeg:https://folkalender.dk/wp-content/uploads/2024/12/241014FruSkagerrak0016-cropped-kopi-1.jpg
ORGANIZER;CN="AOF Skanderborg":MAILTO:skan-odder@aof.dk
END:VEVENT
BEGIN:VEVENT
DTSTART;TZID=Europe/Helsinki:20250321T190000
DTEND;TZID=Europe/Helsinki:20250321T220000
DTSTAMP:20260421T010757
CREATED:20250119T212114Z
LAST-MODIFIED:20250120T210305Z
UID:11152-1742583600-1742594400@folkalender.dk
SUMMARY:Trio Mio og Henrik Larsen – koncertbal
DESCRIPTION:Koncert-bal med Trio Mio og Henrik Larsen 21. marts 2025 \nMåske nogen har kigget længe efter vort traditionsrige Vintherbal?\nI år bliver det et forårsbal med Trio Mio\, som vi glæder os til at danse og lytte til.\nDette i samarbejde med Henrik Larsen\, der styrer dansens gang med trin\, tramp og tricks\nVi kalder det koncert-bal\, da det både i den ene side af salen er muligt at nyde musikken og i den anden side af salen vil være muligt at danse\, – og dette med Henriks kyndige vejledning.\nNogle Trio Mio-numre vil være “kun til ørerne”\, og dansere kan få et hvil og et smut til baren. \nHenrik Larsen vil desuden sammen med Kristine holde en lille hurtig workshop fra kl 19-19.30\, programmet vil blive lagt\, så der er en naturlig øgning af dansenes sværhedsgrad hen over aftenen\, så alle kan følge med.  \nKoncert-ballet holdes i Truckhallen.  \nOm Trio Mio:\nI hjertet af Trio Mio´s musik ligger et brændende ønske om at give nyt liv til dansk/svensk folkemusik. De spiller musikken på deres egen måde\, gør den til nutidig musik som bevarer dyb respekt for den tradition hvoraf musikken er rundet.\nResultatet er ny\, forfriskende og helt særegen: kontemporær folkemusik skabt fra det specielle punkt hvor traditionen møder nutiden og lader sig inspirere af andre stilarter som jazz og klassisk musik.\nMan er aldrig helt sikker på hvad der skal ske: Smukke\, rolige og luftige melodier bliver afløst af hurtige\, uforudsigelige og til tider vilde improvisationer. Men sikkert er det\, at musikken spilles med intensitet\, virtuositet og glæde\, som efterlader lytteren åndeløs – og smilende.\nTRIO MIO består af\nKristine Heebøll : violin\nJens Ulvsand : bouzouki\, guitar og sang\nPeter Rosendal : klaver\, wurlitzer og flugabone \nHenrik Larsen:\nHenrik Larsen har været på Klaverfabrikken flere gange og holdt danse-kursus.\nHenrik formår at holde trin og retning med sin inspirerende og pædagogiske tilgang til de danske folkedanse.  \nHenrik vil være på gulvet hele aftenen og sørge for trin og retning i dansene.
URL:https://folkalender.dk/arrangement/trio-mio-og-henrik-larsen-koncertbal/
LOCATION:Klaverfabrikken\, Hillerød\, Fredensvej 12A\, Hillerød\, 3400
CATEGORIES:Bal
ATTACH;FMTTYPE=image/jpeg:https://folkalender.dk/wp-content/uploads/2025/01/trio-mio-til-folkalender.jpg
ORGANIZER;CN="KlaverfabrikkenFOLK":MAILTO:thougaard@c.dk
GEO:55.9273762;12.2969322
X-APPLE-STRUCTURED-LOCATION;VALUE=URI;X-ADDRESS=Klaverfabrikken Hillerød Fredensvej 12A Hillerød 3400;X-APPLE-RADIUS=500;X-TITLE=Fredensvej 12A:geo:12.2969322,55.9273762
END:VEVENT
BEGIN:VEVENT
DTSTART;TZID=Europe/Helsinki:20250321T193000
DTEND;TZID=Europe/Helsinki:20250321T220000
DTSTAMP:20260421T010757
CREATED:20250121T173330Z
LAST-MODIFIED:20250121T173330Z
UID:11211-1742585400-1742594400@folkalender.dk
SUMMARY:Laugsaften med Ribe Danse- og Spillemandslaug
DESCRIPTION:Har du lyst til at danse\, spille\, lytte eller se\, så er det her det foregår.\nVi spiller til dans fra kl. 19:30 – ca. 22.30. Der vil blive instrueret i dansene efter behov så kom frit frem både nybegyndere og øvede. Midt på aftenen drikker vi kaffe og spiser hjemmebagt kage.\nI kaffepausen kan der være forskelligt underholdning så som\, fælles sang\, div. solooptræden med musik eller sang og historie fortælling mm.\nKom og deltag i de hyggelige aftener som lauget har afholdt i mere end 40 år
URL:https://folkalender.dk/arrangement/laugsaften-med-ribe-danse-og-spillemandslaug-12/
LOCATION:Rosen Alle 3\, 6760 Ribe\, Rosen Alle 3\, Ribe\, 6760
CATEGORIES:Bal
ATTACH;FMTTYPE=image/jpeg:https://folkalender.dk/wp-content/uploads/2025/01/Logo_Ribelaug-1-1.jpg
ORGANIZER;CN="Ribe Danse- og Spillemandslaug":MAILTO:ribelaug@gmail.com
GEO:55.3285578;8.7700979
X-APPLE-STRUCTURED-LOCATION;VALUE=URI;X-ADDRESS=Rosen Alle 3 6760 Ribe Rosen Alle 3 Ribe 6760;X-APPLE-RADIUS=500;X-TITLE=Rosen Alle 3:geo:8.7700979,55.3285578
END:VEVENT
BEGIN:VEVENT
DTSTART;TZID=Europe/Helsinki:20250321T193000
DTEND;TZID=Europe/Helsinki:20250321T223000
DTSTAMP:20260421T010757
CREATED:20240917T143017Z
LAST-MODIFIED:20250205T164822Z
UID:9951-1742585400-1742596200@folkalender.dk
SUMMARY:Dansting
DESCRIPTION:Dansting med Nøkkens Galocher & Vanløse Almindelige Danseorkester. \nTingluti inviterer til Dansting fredag d. 15. november kl. 19.30 – 22.30 \nmed danske/nordiske og internationale folkedanse med orkestrene: \nNøkkens Galocher: kl. 19.30 – 20.45 cirka\, \nVanløse Almindelige Danseorkester: kl. 21.15 – 22.30 \ni Osramhuset i Valhalsgade 4 på 1. sal \nDøren er låst\, så ring på den opsatte dørklokke eller på mobilnummeret\, så kommer vi og åbner døren. \nDet er gratis at deltage. \nDer kan købes brød\, øl og vand til rimelige priser. \nHvis du holder af at danse og er nysgerrig på at lære nyt\, er det en oplagt mulighed. Det er ikke nødvendigt at have en partner for at deltage. \nBus 6A holder nær Valhalsgade.\nNærmeste S-togsstation er Bispebjerg St.\nNærmeste Metrostation er Skjolds Plads (100 m)
URL:https://folkalender.dk/arrangement/dansting-7/
LOCATION:Osramhuset\, Valhalsgade 4\, København\, 2200 N
CATEGORIES:Legestue
ATTACH;FMTTYPE=image/jpeg:https://folkalender.dk/wp-content/uploads/2024/09/Mariann2023-09-04thumbnail_IMG_6525.jpg
GEO:55.7029919;12.5495133
X-APPLE-STRUCTURED-LOCATION;VALUE=URI;X-ADDRESS=Osramhuset Valhalsgade 4 København 2200 N;X-APPLE-RADIUS=500;X-TITLE=Valhalsgade 4:geo:12.5495133,55.7029919
END:VEVENT
END:VCALENDAR