BEGIN:VCALENDAR
VERSION:2.0
PRODID:-//Folkalender - ECPv6.10.1.1//NONSGML v1.0//EN
CALSCALE:GREGORIAN
METHOD:PUBLISH
X-WR-CALNAME:Folkalender
X-ORIGINAL-URL:https://folkalender.dk
X-WR-CALDESC:Begivenheder for Folkalender
REFRESH-INTERVAL;VALUE=DURATION:PT1H
X-Robots-Tag:noindex
X-PUBLISHED-TTL:PT1H
BEGIN:VTIMEZONE
TZID:Europe/Helsinki
BEGIN:DAYLIGHT
TZOFFSETFROM:+0200
TZOFFSETTO:+0300
TZNAME:EEST
DTSTART:20250330T010000
END:DAYLIGHT
BEGIN:STANDARD
TZOFFSETFROM:+0300
TZOFFSETTO:+0200
TZNAME:EET
DTSTART:20251026T010000
END:STANDARD
END:VTIMEZONE
BEGIN:VEVENT
DTSTART;TZID=Europe/Helsinki:20250205T120000
DTEND;TZID=Europe/Helsinki:20250514T170000
DTSTAMP:20260421T010757
CREATED:20241229T131032Z
LAST-MODIFIED:20241229T131718Z
UID:10898-1738756800-1747242000@folkalender.dk
SUMMARY:Violin – Folkemusik – Skanderborg
DESCRIPTION:Violin for alle\nEt kursusforløb består af 12 gange à 30 minutter. Undervisningen foregår hos AOF Skanderborg\, Asylgade 18. Tidspunkt og dag aftales ved at maile til underviseren.\nMaja Kjær Jacobsen træffes på: maja.k.jacobsen@gmail.com \nOm undervisningen\nVil du lære at spille alle de sange du kender – med eller uden noder? Eller er du nysgerrig på folkemusik? Så start til folkemusik-violin hos Maja Kjær! For Maja er det vigtigt\, at det er sjovt at beskæftige sig med musik\, uanset om man er begynder eller øvet og ambitiøs. Undervisningen bliver derfor altid tilpasset den enkelte elevs ønsker og niveau. Vi kan bl.a. tage fat på grundlæggende teknik\, repertoire\, nodelære og rytmisk forståelse\, udenadslære\, spillestil eller improvisation (folkemusik). \nUndervisningen er for alle: Begyndere\, let øvede og øvede\, og du behøver ikke kende til genren når du starter.So­lo­un­der­vis­ning 30 min. pr. elev. Det er muligt at lægge timerne sammen til hold med flere elever.Tidspunkt er onsdag mellem 12.00 og 17.00. Online undervisning er også en mulighed. Individuelle hensyn aftales med Maja. \nMulighed for leje af violin\, kr. 30\,00 pr. uge eller kr. 400\,00 for en sæson. \nKursusdetaljer\nAOF\, Asylgade 18\, 8660 Skanderborg\nOnsdag\, 12:00 – 17:00\n12 lektioner\, 12 mødegange\nHold nr.: 7525107310\nKontakt: Skanderborg-Odder AOF\n1.650 kr./person \nUnderviser \nMaja Kjær Jacobsen\nMaja Kjær er violinist\, tra­di­tions­bæ­rer og komponist indenfor dansk og nordisk folkemusik/spil­le­mands­mu­sik. Hun har ca. 15 års erfaring som underviser\, bl.a. på mange musikskoler og aftenskoler i hele landet\, samt workshops i udlandet i forb. m. sine mange turnéer. Derudover har hun udgivet en nodebog\, en podcast og 6 musikalbums med forskellige bands.Maja er uddannet violinist ved Syddansk Mu­sik­kon­ser­va­to­ri­um i Odense som BA i 2009 og KA i 2012\, har været på udveksling i Limerick (Irland) og taget yderligere kurser i Norsk Folkelig Dans på NTNU i Trondheim (Norge). Lige nu er hun i gang med at afslutte uddannelsen som solist på linjen Contemporary Creative Artist på Syddansk Mu­sik­kon­ser­va­to­ri­um i Esbjerg\, hvor hun spiller sin debutkoncert i marts 2025.
URL:https://folkalender.dk/arrangement/violin-folkemusik-silkeborg/
LOCATION:AOF Skanderborg\, Asylgade 18\, Skanderborg\, 8660
CATEGORIES:Kursus
ATTACH;FMTTYPE=image/jpeg:https://folkalender.dk/wp-content/uploads/2024/12/241014FruSkagerrak0016-cropped-kopi-1.jpg
ORGANIZER;CN="AOF Skanderborg":MAILTO:skan-odder@aof.dk
END:VEVENT
BEGIN:VEVENT
DTSTART;TZID=Europe/Helsinki:20250320T193000
DTEND;TZID=Europe/Helsinki:20250320T213000
DTSTAMP:20260421T010757
CREATED:20250117T142649Z
LAST-MODIFIED:20250117T142845Z
UID:11098-1742499000-1742506200@folkalender.dk
SUMMARY:Phønix & Sangka – Thy Folkemusik – Stenbjerg Kro
DESCRIPTION:Et unikt musikalsk kulturmøde mellem øst og vest! \nDer er lagt op til en helt speciel koncertoplevelse\, når Phønix inviterer den kinesiske Guzhengspiller SangKa med på scenen. Sammen skaber de et helt nyt og unikt lydunivers\, i mødet mellem to meget forskellige musikalske traditioner. Guzheng’en har en drømmende harpe-agtig pentaton lyd\, som på smuk vis spiller op imod Phønix’ energiske og groovende melodier og sange. Det bliver en koncert på højt musikalsk niveau\, med vægt på nærvær\, energi\, virtuositet og et stærkt visuelt udtryk. \n“Phønix og SangKa præsenterer albummets 9 numre så rafineret\, at det lyder som en homogen enhed. Livlige og rolige passager veksler med hinanden. “Groovy Guzheng” er en fantastisk præstation uden at gå på kompromis” – Global Music Magazine \nEventyret mellem øst og vest begyndte i en rå fabrikshal i Beijings nye art district 798. Ved åbningen af det nye danske kulturinstitut i Beijing i 2014\, skulle Phønix spille dansk folkemusik i den ene ende af en stor fabrikshal\, mens SangKa stod i den anden ende og lod tonerne flyde fra sit kinesiske instrument. Siden har de spillet sammen flere gange\, på SPOT-festival\, Kulturmødet på Mors\, Musik i Tide festival samt på koncerturnéer i Danmark og Guangdong-provins i Kina. \nBilletpris: 200 kr.\nBilletpris medlemmer: 175 kr.\nHusk at tilkøbe den lækre kroplatte\, der serveres kl 18.00!\npris kun 155.-
URL:https://folkalender.dk/arrangement/phoenix-sangka-thy-folkemusik-stenbjerg-kro/
LOCATION:Stenbjerg Kro\, Stenbjerg Kirke Vej 21\, Snedsted\, 7752\, Danmark
CATEGORIES:Koncert
ATTACH;FMTTYPE=image/jpeg:https://folkalender.dk/wp-content/uploads/2025/01/PH-Pressefoto25.jpg
GEO:56.9175785;8.3647412
X-APPLE-STRUCTURED-LOCATION;VALUE=URI;X-ADDRESS=Stenbjerg Kro Stenbjerg Kirke Vej 21 Snedsted 7752 Danmark;X-APPLE-RADIUS=500;X-TITLE=Stenbjerg Kirke Vej 21:geo:8.3647412,56.9175785
END:VEVENT
BEGIN:VEVENT
DTSTART;TZID=Europe/Helsinki:20250320T193000
DTEND;TZID=Europe/Helsinki:20250320T220000
DTSTAMP:20260421T010757
CREATED:20241209T170549Z
LAST-MODIFIED:20241209T170549Z
UID:10826-1742499000-1742508000@folkalender.dk
SUMMARY:Som Os
DESCRIPTION:Årets Nye Rootsnavn ved DMA Roots 2024\n​\nDen vidtfavnende folk-kvintet Som Os sammensætter deres mange musikalske billeder til en samlet Mosaik\, der på smuk vis fremviser bredden af folkemusikken og dens mange grene ud i genrehorisonten. Her bliver du ført fra rock/funk\, over jazz til de mange forskellige folkemusikalske traditioner\, som musikerne tilsammen afspejler med deres brogede baggrund. \nBandet har allerede slået deres navn fast med koncerter rundt omkring i Danmark og på nogle af landets største folkefestivaler bl.a Tønder Festival\, Nordic Folk Alliance\, Musik over Præstø fjord og Copenhagen Jazz Festival. Som Os modtog i november 2024 prisen som Årets Nye navn ved DMA Roots\, og var også nomineret med deres debutalbum – Mosaik\, som Årets Roots udgivelse.\nDebutalbummet Mosaik udkom i september 6. 2023. \nDen instrumentale musik fortæller historier om steder\, situationer og oplevelser\, som musikerne har oplevet sammen\, og hver for sig er blevet rundet af. Det er disse fortællinger\, som du bliver inviteret ind i\, når bandet kommer rundt i landet for at vise hvad folkemusikken også kan.  \nSom Os er:\nAnnelene Toft Christensen – Violin\nTim Ewé Jensen  – Kornet/trompet\nJakob Kragesand – Kontrabas\nMichael Hornhaver – Guitar\nChris Falkenberg – Trommer
URL:https://folkalender.dk/arrangement/som-os/
LOCATION:Gimle\, Roskilde\, Helligkorsvej 2\, Roskilde\, 4000
CATEGORIES:Koncert
ATTACH;FMTTYPE=image/jpeg:https://folkalender.dk/wp-content/uploads/2024/12/SomOs-1190x1190-1.jpg
GEO:55.6398348;12.0714186
X-APPLE-STRUCTURED-LOCATION;VALUE=URI;X-ADDRESS=Gimle Roskilde Helligkorsvej 2 Roskilde 4000;X-APPLE-RADIUS=500;X-TITLE=Helligkorsvej 2:geo:12.0714186,55.6398348
END:VEVENT
END:VCALENDAR