BEGIN:VCALENDAR
VERSION:2.0
PRODID:-//Folkalender - ECPv6.10.1.1//NONSGML v1.0//EN
CALSCALE:GREGORIAN
METHOD:PUBLISH
X-WR-CALNAME:Folkalender
X-ORIGINAL-URL:https://folkalender.dk
X-WR-CALDESC:Begivenheder for Folkalender
REFRESH-INTERVAL;VALUE=DURATION:PT1H
X-Robots-Tag:noindex
X-PUBLISHED-TTL:PT1H
BEGIN:VTIMEZONE
TZID:Europe/Helsinki
BEGIN:DAYLIGHT
TZOFFSETFROM:+0200
TZOFFSETTO:+0300
TZNAME:EEST
DTSTART:20250330T010000
END:DAYLIGHT
BEGIN:STANDARD
TZOFFSETFROM:+0300
TZOFFSETTO:+0200
TZNAME:EET
DTSTART:20251026T010000
END:STANDARD
END:VTIMEZONE
BEGIN:VEVENT
DTSTART;TZID=Europe/Helsinki:20250205T120000
DTEND;TZID=Europe/Helsinki:20250514T170000
DTSTAMP:20260420T233718
CREATED:20241229T131032Z
LAST-MODIFIED:20241229T131718Z
UID:10898-1738756800-1747242000@folkalender.dk
SUMMARY:Violin – Folkemusik – Skanderborg
DESCRIPTION:Violin for alle\nEt kursusforløb består af 12 gange à 30 minutter. Undervisningen foregår hos AOF Skanderborg\, Asylgade 18. Tidspunkt og dag aftales ved at maile til underviseren.\nMaja Kjær Jacobsen træffes på: maja.k.jacobsen@gmail.com \nOm undervisningen\nVil du lære at spille alle de sange du kender – med eller uden noder? Eller er du nysgerrig på folkemusik? Så start til folkemusik-violin hos Maja Kjær! For Maja er det vigtigt\, at det er sjovt at beskæftige sig med musik\, uanset om man er begynder eller øvet og ambitiøs. Undervisningen bliver derfor altid tilpasset den enkelte elevs ønsker og niveau. Vi kan bl.a. tage fat på grundlæggende teknik\, repertoire\, nodelære og rytmisk forståelse\, udenadslære\, spillestil eller improvisation (folkemusik). \nUndervisningen er for alle: Begyndere\, let øvede og øvede\, og du behøver ikke kende til genren når du starter.So­lo­un­der­vis­ning 30 min. pr. elev. Det er muligt at lægge timerne sammen til hold med flere elever.Tidspunkt er onsdag mellem 12.00 og 17.00. Online undervisning er også en mulighed. Individuelle hensyn aftales med Maja. \nMulighed for leje af violin\, kr. 30\,00 pr. uge eller kr. 400\,00 for en sæson. \nKursusdetaljer\nAOF\, Asylgade 18\, 8660 Skanderborg\nOnsdag\, 12:00 – 17:00\n12 lektioner\, 12 mødegange\nHold nr.: 7525107310\nKontakt: Skanderborg-Odder AOF\n1.650 kr./person \nUnderviser \nMaja Kjær Jacobsen\nMaja Kjær er violinist\, tra­di­tions­bæ­rer og komponist indenfor dansk og nordisk folkemusik/spil­le­mands­mu­sik. Hun har ca. 15 års erfaring som underviser\, bl.a. på mange musikskoler og aftenskoler i hele landet\, samt workshops i udlandet i forb. m. sine mange turnéer. Derudover har hun udgivet en nodebog\, en podcast og 6 musikalbums med forskellige bands.Maja er uddannet violinist ved Syddansk Mu­sik­kon­ser­va­to­ri­um i Odense som BA i 2009 og KA i 2012\, har været på udveksling i Limerick (Irland) og taget yderligere kurser i Norsk Folkelig Dans på NTNU i Trondheim (Norge). Lige nu er hun i gang med at afslutte uddannelsen som solist på linjen Contemporary Creative Artist på Syddansk Mu­sik­kon­ser­va­to­ri­um i Esbjerg\, hvor hun spiller sin debutkoncert i marts 2025.
URL:https://folkalender.dk/arrangement/violin-folkemusik-silkeborg/
LOCATION:AOF Skanderborg\, Asylgade 18\, Skanderborg\, 8660
CATEGORIES:Kursus
ATTACH;FMTTYPE=image/jpeg:https://folkalender.dk/wp-content/uploads/2024/12/241014FruSkagerrak0016-cropped-kopi-1.jpg
ORGANIZER;CN="AOF Skanderborg":MAILTO:skan-odder@aof.dk
END:VEVENT
BEGIN:VEVENT
DTSTART;TZID=Europe/Helsinki:20250314T160000
DTEND;TZID=Europe/Helsinki:20250316T130000
DTSTAMP:20260420T233718
CREATED:20250128T104427Z
LAST-MODIFIED:20250128T105304Z
UID:11292-1741968000-1742130000@folkalender.dk
SUMMARY:Jamcon 5700
DESCRIPTION:Jamconweekend for novicer og gengangere:\nVi mødes på Sydfyn og skaber sammen en weekend fyldt med musik\, dans\, hygge og stjernekiggeri. \nTilmelding foregår via hjemmesiden – https://www.jamcon.dk/\nOBS! tilmelding pr. mail\, først gældende når deltagergebyr 550 kr.\, er betalt (450 for studerende)  \nEgebjeghytten\, har plads til dans\, sovesale\, bjælkevæg og masser af stemning.\nSå pak instrumenter og dansesko og send os en mail om at du kommer! \nDu er velkommen om du er nybegynder eller super erfaren\, høj eller lav\, til vuggende vals eller hæsblæsende hopsa\n– vi glæder os bare til at se dig. \nI prisen er alle måltider inkluderet.\nDrikkelse sælges til meget billige priser (øl\, vin\, sodavand og G&T).
URL:https://folkalender.dk/arrangement/jamcon-3/
LOCATION:Egebjerghytten Ollerup
CATEGORIES:Jam
ATTACH;FMTTYPE=image/jpeg:https://folkalender.dk/wp-content/uploads/2025/01/Jamconlogo.jpg
ORGANIZER;CN="Jamcon":MAILTO:JamCon@JamCon.dk
END:VEVENT
BEGIN:VEVENT
DTSTART;TZID=Europe/Helsinki:20250316T100000
DTEND;TZID=Europe/Helsinki:20250316T160000
DTSTAMP:20260420T233718
CREATED:20250209T145911Z
LAST-MODIFIED:20250308T110228Z
UID:11424-1742119200-1742140800@folkalender.dk
SUMMARY:OBS: Lokaleændring!  Kursus/workshop i tyske danse
DESCRIPTION:Vi skal danse\nLandlere\,\nZwiefachere\,\nMazurka\,\nBoarisch\,\n2-pars danse\,\nKvadrilledanse\,\nDiverse pardanse samt\nen kredsdans fra Schweitz \nVores motto er:\nDet skal være sjovt at danse – og jo mere man kan\, jo sjovere bliver det. \n	Instruktører:  Katrine Jakobsen og Jørgen Eskild Larsen\n	Musik:	     Stein M. Larsen
URL:https://folkalender.dk/arrangement/kursus-workshop-i-tyske-danse/
LOCATION:Gerbrandskolen\, Gerbrandsvej 9\, København S\, 2300
CATEGORIES:Danseworkshop,Folkedanserforening,Kursus
ATTACH;FMTTYPE=image/jpeg:https://folkalender.dk/wp-content/uploads/2025/02/KATJEL-1088x816-1.jpg
ORGANIZER;CN="Folkedanserforeningen Fejltrin":MAILTO:fejltrin@fejltrin.dk
END:VEVENT
BEGIN:VEVENT
DTSTART;TZID=Europe/Helsinki:20250316T130000
DTEND;TZID=Europe/Helsinki:20250316T180000
DTSTAMP:20260420T233718
CREATED:20250228T115554Z
LAST-MODIFIED:20250228T115729Z
UID:11673-1742130000-1742148000@folkalender.dk
SUMMARY:Copenhagen St. Patrick’s Day Parade 2025
DESCRIPTION:”Everyone is Irish on St. Patrick’s Day!”  \nKom med til højstemt irsk kulturfest i København\, når vi fejrer 20 år med Copenhagen St. Patrick’s Day Parade på Rådhuspladsen\, søndag d. 16. marts. \nOplev svingende irsk folkemusik og dans\, ansigtsmaling\, ulvehunde og sækkepibemusik. Det hele kulminerer i et stort grønt festoptog. \nDer er nu gået 20 år siden København fik sin egen St. Patrick’s Day parade. Den blev startet af den irske danseskole Dark Green School of Irish Dancing og har siden udviklet sig til at en sand folkfest med mange deltagende grupper indenfor irsk sport\, sprog\, dans og musik.   \nKom og mød klubberne Copenhagen GAA og The Viking Gaels\, der udøver de særlige irske sportsgrene gælisk fodbold og hurling. Det irske sprog-community Pop-Up Gaeltacht Cobánhávan står klar ved deres banner og inviterer til samtale på gælisk. Man kan købe irsk kaffe og varm kakao og til  lækkersultne børn og voksne flot pyntede St. Patrick’s Day cookies. Prøv også en grøn øl eller ægte irsk stout.  \nPå scenen præsenterer St. Patrick et forrygende show med irsk folkemusik og festlig irsk stepdans med The Early House\, Dark Green School of Irish Dancing og  Copenhagen Irish Set Dancers. \nAlle klædt i noget grønt kan deltage i paraden. Så find det grønne pynt frem og tag hele familien med i paraden: et tørklæde\, en hat\, paraply. Kun fantasien sætter grænser.\nBørnene har mulighed for at få lagt flot St. Patrick’s Day ansigtsmaling af Sminketeatret\, helt gratis.  \nParaden – det grønne festoptog \nSt. Patrick fører de glade grøntklædte deltagere gennem Indre Bys gader. Stemningen holdes i top hele vejen af de populære Gordon Pipes & Drums med deres keltiske sækkepipemusik. Andre deltagere i paraden er et bodhránorkester på irsk håndtromme\, Dark Green School of Irish Dancing\,  Irske ulvehunde\, GAA\, Pop-UP Gaeltacht\, Irish Culture Association Denmark.   \nPROGRAM på Rådhuspladsen:\n13.00–18.00 Irsk festtelt er åbent\n15.00–17.00 Ansigtsmaling for børn\n15.30–17.00 Show med irsk musik og dans\n17.00–17.40 Parade \nDer er gratis adgang. \nParaderute:\nRådhuspladsen – Vester Voldgade – Stormgade – Vindebrogade – Højbro Plads Gammelstrand – Nybrogade – Rådhusstræde – Gl. Torv – Nytorv – Slutterigade – Lavendelstræde – Vester Voldgade – Rådhuspladsen.\n(Det er ikke tilladt at medbringe alkohol i paraden)
URL:https://folkalender.dk/arrangement/copenhagen-st-patricks-day-parade-2025/
LOCATION:Rådhuspladsen\, København\, Rådhuspladsen\, Købehavn\, 1599
CATEGORIES:Festival
ATTACH;FMTTYPE=image/jpeg:https://folkalender.dk/wp-content/uploads/2025/02/facebookeventcover20yrs_slide5.jpg
ORGANIZER;CN="Copenhagen St. Patrick's Day Parade":MAILTO:info@stpatricksdayparade.dk
GEO:55.6763101;12.5693733
X-APPLE-STRUCTURED-LOCATION;VALUE=URI;X-ADDRESS=Rådhuspladsen København Rådhuspladsen Købehavn 1599;X-APPLE-RADIUS=500;X-TITLE=Rådhuspladsen:geo:12.5693733,55.6763101
END:VEVENT
BEGIN:VEVENT
DTSTART;TZID=Europe/Helsinki:20250316T133000
DTEND;TZID=Europe/Helsinki:20250316T153000
DTSTAMP:20260420T233718
CREATED:20241129T120156Z
LAST-MODIFIED:20250221T111826Z
UID:10722-1742131800-1742139000@folkalender.dk
SUMMARY:FAMILIEDANS
DESCRIPTION:Poul Strunk instruerer og Folkemusiklauget Fynboerne spiller til.  Alle kan være med til at danse\, små og store og alle er velkomne. Arrangementet er støttet af Nordea fonden: Liv i det lokale @nordeafonden
URL:https://folkalender.dk/arrangement/familiedans-5/
LOCATION:Kulturmaskinen Odense\, Farvergården 7\, Odense\, 5000
CATEGORIES:Bal
ATTACH;FMTTYPE=image/jpeg:https://folkalender.dk/wp-content/uploads/2024/11/20241013_135036.jpg
GEO:55.3955926;10.3808671
X-APPLE-STRUCTURED-LOCATION;VALUE=URI;X-ADDRESS=Kulturmaskinen Odense Farvergården 7 Odense 5000;X-APPLE-RADIUS=500;X-TITLE=Farvergården 7:geo:10.3808671,55.3955926
END:VEVENT
BEGIN:VEVENT
DTSTART;TZID=Europe/Helsinki:20250316T140000
DTEND;TZID=Europe/Helsinki:20250316T170000
DTSTAMP:20260420T233718
CREATED:20240425T110350Z
LAST-MODIFIED:20241121T121530Z
UID:8726-1742133600-1742144400@folkalender.dk
SUMMARY:Søndagsdans på Museum Rebild
DESCRIPTION:Hver søndag eftermiddag året rundt inviterer Rebild Spillemændene til gammeldans i museets sal. Repertoiret er for alle\, også nybegyndere i gammeldans og folkedans.  \nTraditionen med søndagsdans har eksisteret siden museets start i 1951. Her vedligeholdes den himmerlandske dansetradition\, som den har været kendt i mange generationer. Det foregår som et regulært bal\, hvor musikken leveres af en af gruppe fra Rebild Spillemandslaug.  \nSom nybegynder er der rig mulighed for at danse med rutinerede dansere\, hvilket er en god måde at lære trinene på. Alle kan deltage\, selv om de ikke kender til folkedans i forvejen. Der er erfarne dansere\, som kan lære fra sig\, så alle får et par sjove og lærerige timer og måske bliver bidt af folkedansen. Der danses i et par timer\, afbrudt af en kaffepause\, hvor der kan købes kaffe og brød i museets cafe. Café og butik er åben søndage fra kl 13. Der er mulighed for at forudbestille kaffe og kage kl.14 når musikken starter\, så er det klar til pausen kl. 15.30.
URL:https://folkalender.dk/arrangement/soendagsdans-paa-museum-rebild/2025-03-16/
LOCATION:Museum Rebild\, Rebildvej 25B\, Rebild\, Skørping\, 9520
CATEGORIES:Bal,Legestue
ATTACH;FMTTYPE=image/jpeg:https://folkalender.dk/wp-content/uploads/2024/04/dans_i_Salen.jpg
ORGANIZER;CN="Museum Rebild":MAILTO:spillemandsmuseet@mail.dk
END:VEVENT
BEGIN:VEVENT
DTSTART;TZID=Europe/Helsinki:20250316T150000
DTEND;TZID=Europe/Helsinki:20250316T163000
DTSTAMP:20260420T233718
CREATED:20250114T125505Z
LAST-MODIFIED:20250114T125505Z
UID:11065-1742137200-1742142600@folkalender.dk
SUMMARY:Big Blue Band & Miriam Mandipira
DESCRIPTION:Swing-jazz i fusion med afrikanske rytmer med jazz\, soul og pop.  \nDer er velspillet\, swingende bigbandmusik på programmet\, når det 18 mand store Big Blue Band sammen med bandets egen sangerinde Helen Ann og under ledelse af den anerkendte dirigent Peter Harbeck\, slipper musikken løs med gæstesolist Miriam Mandipira. \nDen zimbabwisk-danske sangerinde Miriam Mandipira er kendt for sin ubeskriveligt flotte stemme og evne til at fusionere afrikanske rytmer med jazz\, soul og pop. Hendes musik har vundet stor anerkendelse og udløst bl.a. en Danish Music Award. \nBig Blue Bands dirigent\, Peter Harbeck\, har en lang karriere som professionel dirigent og orkesterleder for både klassisk og jazzmusik\, bag sig. Som Big Blue Bands nye dirigent får han orkestret til at spille med dynamik\, samhørighed og stor energi. \nKoncerten vil også byde på bandets egen talentfulde sangerinde Helen Ann\, der har været en markant figur på den danske jazzscene i mange år. Hendes evne til at blande jazzens historiske elementer med moderne klange vil berige koncertens musikalske rejse. \nSammen med Miriam Mandipira spiller Big Blue Band op til en uforglemmelig eftermiddag med både traditionelt swing og moderne rytmer. \nLøssalg: 160\,-\nSiddepladser ved caféborde samt rækker på balkon. \nDørene til salen åbner kl. 14:30.\nKoncerten varer ca. 80 minutter \nArrangør: Big Blue Band
URL:https://folkalender.dk/arrangement/big-blue-band-miriam-mandipira/
LOCATION:Baltoppen LIVE\, Baltorpvej 20\, Ballerup\, 2750
CATEGORIES:Koncert
ATTACH;FMTTYPE=image/jpeg:https://folkalender.dk/wp-content/uploads/2025/01/Fra_Kataloget.jpg
GEO:55.7305364;12.3522152
X-APPLE-STRUCTURED-LOCATION;VALUE=URI;X-ADDRESS=Baltoppen LIVE Baltorpvej 20 Ballerup 2750;X-APPLE-RADIUS=500;X-TITLE=Baltorpvej 20:geo:12.3522152,55.7305364
END:VEVENT
END:VCALENDAR