BEGIN:VCALENDAR
VERSION:2.0
PRODID:-//Folkalender - ECPv6.10.1.1//NONSGML v1.0//EN
CALSCALE:GREGORIAN
METHOD:PUBLISH
X-ORIGINAL-URL:https://folkalender.dk
X-WR-CALDESC:Begivenheder for Folkalender
REFRESH-INTERVAL;VALUE=DURATION:PT1H
X-Robots-Tag:noindex
X-PUBLISHED-TTL:PT1H
BEGIN:VTIMEZONE
TZID:Europe/Helsinki
BEGIN:DAYLIGHT
TZOFFSETFROM:+0200
TZOFFSETTO:+0300
TZNAME:EEST
DTSTART:20250330T010000
END:DAYLIGHT
BEGIN:STANDARD
TZOFFSETFROM:+0300
TZOFFSETTO:+0200
TZNAME:EET
DTSTART:20251026T010000
END:STANDARD
END:VTIMEZONE
BEGIN:VEVENT
DTSTART;TZID=Europe/Helsinki:20250205T120000
DTEND;TZID=Europe/Helsinki:20250514T170000
DTSTAMP:20260420T233914
CREATED:20241229T131032Z
LAST-MODIFIED:20241229T131718Z
UID:10898-1738756800-1747242000@folkalender.dk
SUMMARY:Violin – Folkemusik – Skanderborg
DESCRIPTION:Violin for alle\nEt kursusforløb består af 12 gange à 30 minutter. Undervisningen foregår hos AOF Skanderborg\, Asylgade 18. Tidspunkt og dag aftales ved at maile til underviseren.\nMaja Kjær Jacobsen træffes på: maja.k.jacobsen@gmail.com \nOm undervisningen\nVil du lære at spille alle de sange du kender – med eller uden noder? Eller er du nysgerrig på folkemusik? Så start til folkemusik-violin hos Maja Kjær! For Maja er det vigtigt\, at det er sjovt at beskæftige sig med musik\, uanset om man er begynder eller øvet og ambitiøs. Undervisningen bliver derfor altid tilpasset den enkelte elevs ønsker og niveau. Vi kan bl.a. tage fat på grundlæggende teknik\, repertoire\, nodelære og rytmisk forståelse\, udenadslære\, spillestil eller improvisation (folkemusik). \nUndervisningen er for alle: Begyndere\, let øvede og øvede\, og du behøver ikke kende til genren når du starter.So­lo­un­der­vis­ning 30 min. pr. elev. Det er muligt at lægge timerne sammen til hold med flere elever.Tidspunkt er onsdag mellem 12.00 og 17.00. Online undervisning er også en mulighed. Individuelle hensyn aftales med Maja. \nMulighed for leje af violin\, kr. 30\,00 pr. uge eller kr. 400\,00 for en sæson. \nKursusdetaljer\nAOF\, Asylgade 18\, 8660 Skanderborg\nOnsdag\, 12:00 – 17:00\n12 lektioner\, 12 mødegange\nHold nr.: 7525107310\nKontakt: Skanderborg-Odder AOF\n1.650 kr./person \nUnderviser \nMaja Kjær Jacobsen\nMaja Kjær er violinist\, tra­di­tions­bæ­rer og komponist indenfor dansk og nordisk folkemusik/spil­le­mands­mu­sik. Hun har ca. 15 års erfaring som underviser\, bl.a. på mange musikskoler og aftenskoler i hele landet\, samt workshops i udlandet i forb. m. sine mange turnéer. Derudover har hun udgivet en nodebog\, en podcast og 6 musikalbums med forskellige bands.Maja er uddannet violinist ved Syddansk Mu­sik­kon­ser­va­to­ri­um i Odense som BA i 2009 og KA i 2012\, har været på udveksling i Limerick (Irland) og taget yderligere kurser i Norsk Folkelig Dans på NTNU i Trondheim (Norge). Lige nu er hun i gang med at afslutte uddannelsen som solist på linjen Contemporary Creative Artist på Syddansk Mu­sik­kon­ser­va­to­ri­um i Esbjerg\, hvor hun spiller sin debutkoncert i marts 2025.
URL:https://folkalender.dk/arrangement/violin-folkemusik-silkeborg/
LOCATION:AOF Skanderborg\, Asylgade 18\, Skanderborg\, 8660
CATEGORIES:Kursus
ATTACH;FMTTYPE=image/jpeg:https://folkalender.dk/wp-content/uploads/2024/12/241014FruSkagerrak0016-cropped-kopi-1.jpg
ORGANIZER;CN="AOF Skanderborg":MAILTO:skan-odder@aof.dk
END:VEVENT
BEGIN:VEVENT
DTSTART;TZID=Europe/Helsinki:20250312T193000
DTEND;TZID=Europe/Helsinki:20250312T230000
DTSTAMP:20260420T233914
CREATED:20250114T125135Z
LAST-MODIFIED:20250114T125135Z
UID:11060-1741807800-1741820400@folkalender.dk
SUMMARY:Folkedansebal med Vågspel (SE)
DESCRIPTION:Danseworkshop kl. 17 efterfulgt af koncert kl. 19:30. \nDe to västergötlandske violinister Alice Klint og Kristin Kennemark har længe begejstret lyttere i Sverige med deres på én gang fyrige og elegante greb om den svenske folkemusik. Vågspel kanaliserer livets sorger og glæder\, moderne erfaringer og tidløse betragtninger ind i sin musik. Et lyslevende eksempel på folkemusikkens vitalitet og Vågspels kombination af et højt teknisk niveau og en lidenskabelig og legesyg tilgang den. \nVågspel formidler rige musikalske traditioner fra Västergötland. Selv kalder Vågspel musikken for “party polskor”. Her er både lyrisk nerve\, dansable rytmer og melodier\, som fejer benene væk under dig og får dit hjerte til at synge. \nDuoen har modtaget flere priser i Sverige. Efter udgivelsen af debutalbummet i 2017 blev de udråbt til årets nye navn på The Folk and World Music Gala. Deres seneste album “I nöd och lust” (2022) blev nomineret til en svensk grammy og blev samtidig kåret til årets trad-album i det svenske magasin Lira. Et nyt album er på vej i sommeren 2025. \nI Danmark har Vågspel vakt stor begejstring på bl.a. Fanø Free Folk Festival (2023)\, KLEINs Free Folk Monday (2023) og Folk Alliance i Roskilde (2024). Glæd dig til at opleve dem til Folkedansebal i Baltoppen LIVE! \nPROGRAM\nKl. 17:00 inviterer danseinstruktør Kirstine Nurdug Jensen til workshop\, hvor både begyndere og øvede danser moderne folkedans. Kirstine vil fokusere på polskaen.\nDanseworkshoppen laves i samarbejde med Nordisk Dans i København – http://nordiskdans.dk. \nKl. 18:00 serveres der forudbestilt menu/sandwich i Baltoppen LIVEs café. Se mere i det følgende. \nKl. 19:30 er der koncert og dansebal. \nBILLETTER/PRISER\nDanseinstruktion: 40\,-\nDansebal: 100\,-\nROD/FOD rabatpris til dansebal: 55\,- (rabatten kan benyttes af alle aktive folkedansere eller musikere). \nDanseballets varighed: ca. 3 x 35 minutter.\nSiddepladser ved caféborde / dansegulv. \nMenu/sandwich i Baltoppen LIVEs café kl. 18:00:\nHjemmelavet krydret og cremet tomatsuppe med ostebrød. 65\,-\nSandwich med oksefilet i tynde skiver\, salat\, tomat og søde bagte løg. Smurt med chilimayo. 55\,- \nMenu/sandwich skal forudbestilles senest 2 hverdage før arrangementet. Kan købes samtidig med at du køber dine billetter eller tilkøbes her: https://baltoppenlive.dk/cafe/spisning
URL:https://folkalender.dk/arrangement/folkedansebal-med-vaagspel-se/
LOCATION:Baltoppen LIVE\, Baltorpvej 20\, Ballerup\, 2750
CATEGORIES:Koncert
ATTACH;FMTTYPE=image/jpeg:https://folkalender.dk/wp-content/uploads/2025/01/Baltoppen_LIVE_468x260_Vaagspel.jpg
GEO:55.7305364;12.3522152
X-APPLE-STRUCTURED-LOCATION;VALUE=URI;X-ADDRESS=Baltoppen LIVE Baltorpvej 20 Ballerup 2750;X-APPLE-RADIUS=500;X-TITLE=Baltorpvej 20:geo:12.3522152,55.7305364
END:VEVENT
BEGIN:VEVENT
DTSTART;TZID=Europe/Helsinki:20250312T200000
DTEND;TZID=Europe/Helsinki:20250312T213000
DTSTAMP:20260420T233914
CREATED:20241004T104305Z
LAST-MODIFIED:20241004T104428Z
UID:10151-1741809600-1741815000@folkalender.dk
SUMMARY:Ensemble MidtVest & Bjarte Eike: Mellem kirke og værtshus
DESCRIPTION:Der er lagt op til stjernestunder\, når Ensemble MidtVest og Bjarte Eike tager publikum gennem folkemusikkens vandring gennem de forskellige genrer – en vandring der både har ført folkemusikken gennem kirken og ind på værtshuset. \nKoncerten præsenterer en blanding af renæssance-\, barok- og folkemusik for at vise forbindelsen mellem disse forskellige æraer og genrer i musik. \nEn vigtig del af koncerten er formidling – i et format som både underholder og undrer. Violinisten Bjarte Eike\, aftenens norske stjernesolist\, er kendt for at udforske alternative måder at gribe klassisk musik an på. \nSelvom han praktiserer “historically informed performance\,” stræber han efter at inkludere andre kunstneriske aspekter i sine forestillinger ved at bruge billedkunst\, dans\, historiefortælling og improvisation.
URL:https://folkalender.dk/arrangement/ensemble-midtvest-bjarte-eike-mellem-kirke-og-vaertshus/
LOCATION:Fermaten\, Smallegade 4\, Herning\, 7400
CATEGORIES:Koncert
ATTACH;FMTTYPE=image/jpeg:https://folkalender.dk/wp-content/uploads/2024/10/Skaerme-horisontal.jpg
ORGANIZER;CN="Fermaten":MAILTO:mail@fermaten.dk
GEO:56.1368467;8.970104
X-APPLE-STRUCTURED-LOCATION;VALUE=URI;X-ADDRESS=Fermaten Smallegade 4 Herning 7400;X-APPLE-RADIUS=500;X-TITLE=Smallegade 4:geo:8.970104,56.1368467
END:VEVENT
BEGIN:VEVENT
DTSTART;TZID=Europe/Helsinki:20250312T200000
DTEND;TZID=Europe/Helsinki:20250312T220000
DTSTAMP:20260420T233914
CREATED:20240816T181147Z
LAST-MODIFIED:20240816T181147Z
UID:9345-1741809600-1741816800@folkalender.dk
SUMMARY:Jane & Shane 25 års Jubilæumskoncert
DESCRIPTION:Engelske Jane Clark og irske Shane Donnelly mødtes i 2000 tilfældigt til en jam-session på en irsk\npub i et land\, der var nyt for dem begge. Violin og guitar slog gnister og fra første tone føltes det\nsom om\, de havde spillet sammen for evigt. Deres fælles kærlighed til musikken og nærmest\nsymbiotiske samspil blev til duoen Jane & Shane\, der hurtigt vandt danskernes hjerter. \nNu fejrer Jane & Shane de første 25 år med Danmark\, publikum og hinanden med en særlig\njubilæumsgave til publikum: En festlig cocktail af deres mest elskede melodier og helt nye sange\nspecielt udvalgt og skrevet til jubilæumskoncerterne.
URL:https://folkalender.dk/arrangement/jane-shane-25-aars-jubilaeumskoncert/
LOCATION:KulturØen Middelfart\, Havnegade 6\, Middelfart\, 5500
CATEGORIES:Koncert
ATTACH;FMTTYPE=image/jpeg:https://folkalender.dk/wp-content/uploads/2024/08/JS25_IG_1080x1080px_bottom.jpg
ORGANIZER;CN="Foreningen GUF%2C God Underholdende Folkemusik":MAILTO:jrahbek@stribnet.dk
GEO:55.5052311;9.7356812
X-APPLE-STRUCTURED-LOCATION;VALUE=URI;X-ADDRESS=KulturØen Middelfart Havnegade 6 Middelfart 5500;X-APPLE-RADIUS=500;X-TITLE=Havnegade 6:geo:9.7356812,55.5052311
END:VEVENT
END:VCALENDAR