BEGIN:VCALENDAR
VERSION:2.0
PRODID:-//Folkalender - ECPv6.10.1.1//NONSGML v1.0//EN
CALSCALE:GREGORIAN
METHOD:PUBLISH
X-ORIGINAL-URL:https://folkalender.dk
X-WR-CALDESC:Begivenheder for Folkalender
REFRESH-INTERVAL;VALUE=DURATION:PT1H
X-Robots-Tag:noindex
X-PUBLISHED-TTL:PT1H
BEGIN:VTIMEZONE
TZID:Europe/Helsinki
BEGIN:DAYLIGHT
TZOFFSETFROM:+0200
TZOFFSETTO:+0300
TZNAME:EEST
DTSTART:20250330T010000
END:DAYLIGHT
BEGIN:STANDARD
TZOFFSETFROM:+0300
TZOFFSETTO:+0200
TZNAME:EET
DTSTART:20251026T010000
END:STANDARD
END:VTIMEZONE
BEGIN:VEVENT
DTSTART;TZID=Europe/Helsinki:20250205T120000
DTEND;TZID=Europe/Helsinki:20250514T170000
DTSTAMP:20260420T220102
CREATED:20241229T131032Z
LAST-MODIFIED:20241229T131718Z
UID:10898-1738756800-1747242000@folkalender.dk
SUMMARY:Violin – Folkemusik – Skanderborg
DESCRIPTION:Violin for alle\nEt kursusforløb består af 12 gange à 30 minutter. Undervisningen foregår hos AOF Skanderborg\, Asylgade 18. Tidspunkt og dag aftales ved at maile til underviseren.\nMaja Kjær Jacobsen træffes på: maja.k.jacobsen@gmail.com \nOm undervisningen\nVil du lære at spille alle de sange du kender – med eller uden noder? Eller er du nysgerrig på folkemusik? Så start til folkemusik-violin hos Maja Kjær! For Maja er det vigtigt\, at det er sjovt at beskæftige sig med musik\, uanset om man er begynder eller øvet og ambitiøs. Undervisningen bliver derfor altid tilpasset den enkelte elevs ønsker og niveau. Vi kan bl.a. tage fat på grundlæggende teknik\, repertoire\, nodelære og rytmisk forståelse\, udenadslære\, spillestil eller improvisation (folkemusik). \nUndervisningen er for alle: Begyndere\, let øvede og øvede\, og du behøver ikke kende til genren når du starter.So­lo­un­der­vis­ning 30 min. pr. elev. Det er muligt at lægge timerne sammen til hold med flere elever.Tidspunkt er onsdag mellem 12.00 og 17.00. Online undervisning er også en mulighed. Individuelle hensyn aftales med Maja. \nMulighed for leje af violin\, kr. 30\,00 pr. uge eller kr. 400\,00 for en sæson. \nKursusdetaljer\nAOF\, Asylgade 18\, 8660 Skanderborg\nOnsdag\, 12:00 – 17:00\n12 lektioner\, 12 mødegange\nHold nr.: 7525107310\nKontakt: Skanderborg-Odder AOF\n1.650 kr./person \nUnderviser \nMaja Kjær Jacobsen\nMaja Kjær er violinist\, tra­di­tions­bæ­rer og komponist indenfor dansk og nordisk folkemusik/spil­le­mands­mu­sik. Hun har ca. 15 års erfaring som underviser\, bl.a. på mange musikskoler og aftenskoler i hele landet\, samt workshops i udlandet i forb. m. sine mange turnéer. Derudover har hun udgivet en nodebog\, en podcast og 6 musikalbums med forskellige bands.Maja er uddannet violinist ved Syddansk Mu­sik­kon­ser­va­to­ri­um i Odense som BA i 2009 og KA i 2012\, har været på udveksling i Limerick (Irland) og taget yderligere kurser i Norsk Folkelig Dans på NTNU i Trondheim (Norge). Lige nu er hun i gang med at afslutte uddannelsen som solist på linjen Contemporary Creative Artist på Syddansk Mu­sik­kon­ser­va­to­ri­um i Esbjerg\, hvor hun spiller sin debutkoncert i marts 2025.
URL:https://folkalender.dk/arrangement/violin-folkemusik-silkeborg/
LOCATION:AOF Skanderborg\, Asylgade 18\, Skanderborg\, 8660
CATEGORIES:Kursus
ATTACH;FMTTYPE=image/jpeg:https://folkalender.dk/wp-content/uploads/2024/12/241014FruSkagerrak0016-cropped-kopi-1.jpg
ORGANIZER;CN="AOF Skanderborg":MAILTO:skan-odder@aof.dk
END:VEVENT
BEGIN:VEVENT
DTSTART;TZID=Europe/Helsinki:20250307T170000
DTEND;TZID=Europe/Helsinki:20250309T130000
DTSTAMP:20260420T220102
CREATED:20241118T170741Z
LAST-MODIFIED:20241118T170741Z
UID:10518-1741366800-1741525200@folkalender.dk
SUMMARY:Europæisk Ungdomsstævne
DESCRIPTION:European Youth Dance Festival er for unge mellem 15 – 30 år. Der vil være workshops med danse og undervisere fra forskellige lande i Europa\, samt en musik workshop med dansk folkemusik med Rasmus Grams Nielsen som instruktør. Hver aften vil der være bal med skøn spillemands musik leveret af fantastisk dygtige danske og udenlandske spillefolk!\nPrisen inkluderer kost og skolelogi\, lærerige workshops\, skøn live musik og fantastisk samvær med andre unge fra forskellige destinationer i Europa.
URL:https://folkalender.dk/arrangement/europaeisk-ungdomsstaevne-2/
LOCATION:Store Heddinge skole\, Kronhøjvej 4\, Store Heddinge\, 4660
CATEGORIES:Danseworkshop,Spilleworkshop,Stævne
ORGANIZER;CN="Stevns Folkedansere":MAILTO:stevns.folkedansere@gmail.com
GEO:55.314798;12.385724
X-APPLE-STRUCTURED-LOCATION;VALUE=URI;X-ADDRESS=Store Heddinge skole Kronhøjvej 4 Store Heddinge 4660;X-APPLE-RADIUS=500;X-TITLE=Kronhøjvej 4:geo:12.385724,55.314798
END:VEVENT
BEGIN:VEVENT
DTSTART;TZID=Europe/Helsinki:20250308T150000
DTEND;TZID=Europe/Helsinki:20250308T173000
DTSTAMP:20260420T220102
CREATED:20250119T210715Z
LAST-MODIFIED:20250125T100345Z
UID:11143-1741446000-1741455000@folkalender.dk
SUMMARY:Rødder\, – en stuekoncert på Klaverfabrikken
DESCRIPTION:RØDDER – dansk/svensk folk  \nDenne eftermiddag kan godt gå hen og blive mindeværdig!  \nRØDDER spiller folkemusik fra de nordiske lande – måske med en lille afstikker til Irland – og de gør det indlevet og smittende.  \nFor tiden har de kastet sig over en gammel kærlighed\, nemlig svenske ’Folk och Rackare’\, som er kendt for fremragende vokalarbejde og arrangementer af gamle almueviser og sømandssange.\nInd imellem sangene puttes hits fra Rødder’s righoldige repertoire af spillemandsmusik.  \nAndre inspirationskilder er fx gruppen ’Norrlåtar’ fra det nordligste Sverige og ’Folque’ fra Norge.\nRødder afholder sig dog ikke fra at spille nykomponeret musik af fx Mats Edén (’Groupa’) og Ale Carr (’Dreamers’ Circus’).  \nSå mød op og få en ’folkelig’ eftermiddag med god musik og sang!\nKoncerten holdes som en “stuekoncert”\, hvor det er gratis at komme ind\,  man er velkommen til at give en skærv til musikken på vej ud\, så tag et par mønter med\, så lader vi hatten gå rundt. .. \nRØDDER er:  \nElisabeth Lange: harmonika\nTroels Nielsen: blokfløjter\, sang og percussion\nAnders Nielsen: guitar og sang\nPeter Aakjær: violin\, drejelire og sang
URL:https://folkalender.dk/arrangement/roedder-en-stuekoncert-paa-klaverfabrikken/
LOCATION:Klaverfabrikken\, Hillerød\, Fredensvej 12A\, Hillerød\, 3400
CATEGORIES:Koncert
ATTACH;FMTTYPE=image/jpeg:https://folkalender.dk/wp-content/uploads/2025/01/250308-Roedder.jpg
ORGANIZER;CN="KlaverfabrikkenFOLK":MAILTO:thougaard@c.dk
GEO:55.9273762;12.2969322
X-APPLE-STRUCTURED-LOCATION;VALUE=URI;X-ADDRESS=Klaverfabrikken Hillerød Fredensvej 12A Hillerød 3400;X-APPLE-RADIUS=500;X-TITLE=Fredensvej 12A:geo:12.2969322,55.9273762
END:VEVENT
BEGIN:VEVENT
DTSTART;TZID=Europe/Helsinki:20250308T193000
DTEND;TZID=Europe/Helsinki:20250308T230000
DTSTAMP:20260420T220102
CREATED:20250120T155801Z
LAST-MODIFIED:20250120T160531Z
UID:11174-1741462200-1741474800@folkalender.dk
SUMMARY:Bal med Kristine Heebøl og Den Matriarkalske Masterplan
DESCRIPTION:I en tid med fokus på kønsulighed i musikbranchen vil vi fejre folkekulturens tradition for stærke kvinder\, også som udøvende musikere. Kristine Heebøll og et stærkt hold af spillekvinder har lagt en matriarkalsk masterplan for at spille en råsvingende koncert\, hvor vi også bliver lokket til at udfolde os på dansegulvet. Det traditionelle og det nye går hånd i hånd ved denne koncert\, hvor musikerne optræder som både kvintet\, som solister og alt ind imellem.\nMusikken leveres af:\nKristine Heebøll\, violin & klaver\nNathasja Vosgerau\, violin\nKaren Mose\, sang & klaver\nSiri Iversen\, sang & klarinet\nTina Quartey\, percussion \nArrangementet sker i samarbejde med det lokale 8. marts-initiativ i Sorø Kommune.
URL:https://folkalender.dk/arrangement/bal-med-kristine-heeboel-og-den-matriarkalske-masterplan/
LOCATION:Broby Gamle Skole\, Broby\, Sorø\, Suserupvej 55\, Sorø\, 4180
CATEGORIES:Bal
ATTACH;FMTTYPE=image/jpeg:https://folkalender.dk/wp-content/uploads/2025/01/Matriarkalsk-masterplan-5a.jpg
ORGANIZER;CN="Folkekulturv&aelig%3Brkstedet Broby Gamle Skole":MAILTO:pha@bgsbroby.dk
GEO:55.3960755;11.6182675
X-APPLE-STRUCTURED-LOCATION;VALUE=URI;X-ADDRESS=Broby Gamle Skole Broby Sorø Suserupvej 55 Sorø 4180;X-APPLE-RADIUS=500;X-TITLE=Suserupvej 55:geo:11.6182675,55.3960755
END:VEVENT
BEGIN:VEVENT
DTSTART;TZID=Europe/Helsinki:20250308T200000
DTEND;TZID=Europe/Helsinki:20250308T220000
DTSTAMP:20260420T220102
CREATED:20241115T153906Z
LAST-MODIFIED:20250209T105049Z
UID:10511-1741464000-1741471200@folkalender.dk
SUMMARY:Ray Weaver i Haslev Folk Club
DESCRIPTION:Ray Weaver er en amerikansk singersongwriter\, der har slået sig ned i Danmark. Han har taget sit store talent for sangskrivning med sig til Danmark\, og det resulterer stadig i optrædener rundt omkring i Danmark\, Europa og USA. Allervigtigst så resulterer det i en masse gode sange med iørefaldende melodier og vedkommende tekster. Man kommer til at tænke på sangskrivere som Townes van Zandt og Steve Earle. \nEn koncert med Ray Weaver vil indeholde en masse gode sange\, godt guitarspil\, men også en mængde gode historier og nærvær.  \nRay Weaver har inden for de seneste år været en del af DR’s Karrierekanon. Sangskrivertalentet har også medført\, at Ray Weaver har været leverandør af sange til andre kunstnere\, bl.a. Jes Holtsø.  \nNår Ray Weaver besøger Haslev Folk Club\, har han sin datter\, Savannah\, med som backing vocalist. \nHaslev Folk Club er støttet af Statens Kunstråd og Faxe Kommune
URL:https://folkalender.dk/arrangement/ray-weaver-i-haslev-folk-club/
LOCATION:Haslev Bibliotek\, Mødesalen\, Jernbanegade 62\, Haslev\, 4690
CATEGORIES:Koncert
ATTACH;FMTTYPE=image/jpeg:https://folkalender.dk/wp-content/uploads/2024/11/RayWeaver-clip.jpg
GEO:55.3245439;11.9633135
X-APPLE-STRUCTURED-LOCATION;VALUE=URI;X-ADDRESS=Haslev Bibliotek Mødesalen Jernbanegade 62 Haslev 4690;X-APPLE-RADIUS=500;X-TITLE=Jernbanegade 62:geo:11.9633135,55.3245439
END:VEVENT
END:VCALENDAR