BEGIN:VCALENDAR
VERSION:2.0
PRODID:-//Folkalender - ECPv6.10.1.1//NONSGML v1.0//EN
CALSCALE:GREGORIAN
METHOD:PUBLISH
X-ORIGINAL-URL:https://folkalender.dk
X-WR-CALDESC:Begivenheder for Folkalender
REFRESH-INTERVAL;VALUE=DURATION:PT1H
X-Robots-Tag:noindex
X-PUBLISHED-TTL:PT1H
BEGIN:VTIMEZONE
TZID:Europe/Helsinki
BEGIN:DAYLIGHT
TZOFFSETFROM:+0200
TZOFFSETTO:+0300
TZNAME:EEST
DTSTART:20240331T010000
END:DAYLIGHT
BEGIN:STANDARD
TZOFFSETFROM:+0300
TZOFFSETTO:+0200
TZNAME:EET
DTSTART:20241027T010000
END:STANDARD
END:VTIMEZONE
BEGIN:VEVENT
DTSTART;VALUE=DATE:20240923
DTEND;VALUE=DATE:20240925
DTSTAMP:20260421T154455
CREATED:20240815T075715Z
LAST-MODIFIED:20240827T034115Z
UID:9313-1727049600-1727222399@folkalender.dk
SUMMARY:RADIOFOLK SENDER PÅ ENGELSK PÅ EUROPEAN FOLK DAY 2024
DESCRIPTION:Når European Folk Day 2024 løber af stablen på mandag d. 23. september sender RadioFolk.dk selvfølgelig døgnet rundt\, men ligesom sidste år er alle podcasts og  playlister på sendefladen formidlet på engelsk den dag. Lyt til RadioFolk.dk døgnet rundt på www.radiofolk.dk \nWhen European Folk Days 2024 celebrates folk music around the world on September 23rd\, and the days around that date\, RadioFolk.dk will be offering 24 hours of folk music from Denmark\, hosted in English. Listen to RadioFolk.dk around the clock at www.radiofolk.dk
URL:https://folkalender.dk/arrangement/radiofolk-sender-paa-engelsk-paa-european-folk-day/
LOCATION:www.radiofolk.dk
CATEGORIES:Koncert
ATTACH;FMTTYPE=image/png:https://folkalender.dk/wp-content/uploads/2024/08/RadioFolk-original-1.png
ORGANIZER;CN="RadioFolk.dk":MAILTO:redaktion@radiofolk.dk
END:VEVENT
BEGIN:VEVENT
DTSTART;TZID=Europe/Helsinki:20240923T170000
DTEND;TZID=Europe/Helsinki:20240923T180000
DTSTAMP:20260421T154455
CREATED:20240912T115026Z
LAST-MODIFIED:20240912T133300Z
UID:9837-1727110800-1727114400@folkalender.dk
SUMMARY:GAMLE DANSE FRA ROSKILDEEGNEN / European Folk Day
DESCRIPTION:SÆRARRANGEMENT i anledning af EUROPEAN FOLK DAY.\nKom og nyd gammel musik og dans fra Roskildeegnen. Projekt Kontradans har udgravet og rekonstrueret 80 traditionelle danse og 180 melodier fra Roskilde/Lejreegnen. De skal nu igen spilles og danses i swing. Læs om projektet og se et halvt hundrede videoer med  danse og og musik fra vores egn på www.kontradans.dk.\nVi begynder kl. 17 (dørene åbner et kvarter før) med en times gratis fyraftens-aha-oplevelser leveret af Kontra-Orkestret og Kontra-Forsøgskvadrillen. Vi spiller og danser for\, på en måde så alle deltagere kan være med umiddelbart.\nSe hvad det handler om på hjemmesiden\, hvor der pt. ligger et halvt hundrede videoer med fed musik og dans\, alle med eget særpræg fra Roskilde/Lejreegnen.\nGratis adgang.\nSamme aften kan man evt. tage toget direkte til Biblioteket på Lejre Station\, hvor vi vil spille og danse Lejre-danse\, se særskilt opslag.
URL:https://folkalender.dk/arrangement/gamle-danse-fra-roskildeegnen-european-folk-day/
LOCATION:Roskilde Bibliotek\, Dronning Margrethes Vej\, Roskilde\, 4000\, Denmark
CATEGORIES:Bal
ATTACH;FMTTYPE=image/jpeg:https://folkalender.dk/wp-content/uploads/2024/09/Step-In-Dans_folkalender.jpg
ORGANIZER;CN="Kontradans":MAILTO:mail@kontradans.dk
GEO:55.6422023;12.088269
X-APPLE-STRUCTURED-LOCATION;VALUE=URI;X-ADDRESS=Roskilde Bibliotek Dronning Margrethes Vej Roskilde 4000 Denmark;X-APPLE-RADIUS=500;X-TITLE=Dronning Margrethes Vej:geo:12.088269,55.6422023
END:VEVENT
BEGIN:VEVENT
DTSTART;TZID=Europe/Helsinki:20240923T180000
DTEND;TZID=Europe/Helsinki:20240923T220000
DTSTAMP:20260421T154455
CREATED:20240701T123931Z
LAST-MODIFIED:20240701T124054Z
UID:9078-1727114400-1727128800@folkalender.dk
SUMMARY:Twang
DESCRIPTION:Glæd dig til European Folk Day i Tøjhuset d. 23. september med bandet Twang. De 3 musikere vil starte ud med en talk på caféscenen\, som vil tage udgangspunkt i bandets forhold til folkemusikken\, hvordan de ser sig selv som en del af den moderne folkemusik\, hvor improvisation er et fundamentalt grundlag og genre grænserne langsomt rykkes. Derudover fortæller de om deres tekstunivers der forholder sig til en moderne nutidig verden. Spørgsmål fra publikum er meget velkomne. Efter talken vil der blive en kort pause og derefter koncert med Twang i salen. \nDørene åbner kl. 17:00 \nTalk kl. 18:00 \nKoncert kl. 20:00 \nTwang leger med traditionerne. \nEt anderledes bud på amerikansk folkemusik! \nEn koncert med Twang er uforudsigelig. Koncerten er fyldt med humor og varme\, når de tre musikere gårpå scenen og samles om deres fælles mikrofon. \nTwangs besætning med guitar\, violin\, banjo\, kontrabas og trestemmig sang er måske nokessensen af den amerikanske folkemusik\, men samtidig er trioen kendt for at blande stilarter og epokersammen\, med alt fra jazz til Appalachia-musik og violinbaserede hiphop beats. De har fundet deres helteget udtryk uden at slippe traditionen. \nTwang er kendt for deres nærvær\, ærlighed og tætte samspil med publikum og hinanden. Det er ikkeunormalt\, at publikum til deres koncerter både får tårer i øjenkrogen og griner højlydt med bandet.Publikum husker Twang for deres fænomenale trestemmige sang og deres instrumentskift\, når guitaristenog banjospilleren skiftes til at spille kontrabas. Med musikalsk overskud\, historier\, anekdoter og drillerierbinder trioen sangene sammen til en levende koncertoplevelse. \nDeres egne numre rummer alt fra den dybe\, hudløse melankoli til hoppende\, humoristiske og satiriske hits.Og deres fortolkninger af den klassiske amerikanske sangskat løfter taget\, når de medkærlighed til traditionen krydrer sangene med deres særlige Twang! \nTwang består af: \nTHYGE VAN DASSEN -VIOLIN OG VOKAL \nSPENCER GROSS – GUITAR\,KONTRABAS OG VOKAL \nPETER BANKS – BANJO\,KONTRABAS OG VOKALT \nEn del af European Folk Day(s) 2024 \nStøttet af Koda Kultur\, Nordeafonden og Tempi
URL:https://folkalender.dk/arrangement/twang-3/
LOCATION:Tøjhuset Fredericia\, Gothersgade 34\, Fredericia\, 7000
CATEGORIES:Koncert,Spilleworkshop
ATTACH;FMTTYPE=image/png:https://folkalender.dk/wp-content/uploads/2024/07/ArtworkFBcover.png
ORGANIZER;CN="T%C3%B8jhuset":MAILTO:info-tojhuset@fredericia.dk
GEO:55.5625282;9.756115
X-APPLE-STRUCTURED-LOCATION;VALUE=URI;X-ADDRESS=Tøjhuset Fredericia Gothersgade 34 Fredericia 7000;X-APPLE-RADIUS=500;X-TITLE=Gothersgade 34:geo:9.756115,55.5625282
END:VEVENT
BEGIN:VEVENT
DTSTART;TZID=Europe/Helsinki:20240923T190000
DTEND;TZID=Europe/Helsinki:20240923T200000
DTSTAMP:20260421T154455
CREATED:20240528T130858Z
LAST-MODIFIED:20240528T131041Z
UID:8848-1727118000-1727121600@folkalender.dk
SUMMARY:Flach | Østerby
DESCRIPTION:Træd ind i en verden hvor toner\, harmonier og overtoner forenes i små instrumentale fortællinger.\nMed instrumenterne accordion\, nøgleharpe og hardingfele inviterer Anna og Henriette dig ind i deres nordiske lydunivers af originalmusik. \nBegge har gennem mange år komponeret musik med rødder i det traditionelle\, og det har været en drivkraft og en vigtig del af deres musikalske udtryk – både i fællesskab og hver for sig. Flach | Østerby er i efteråret 2024 aktuelle med deres første album som duo. \nAnna Østerby:\nAccordion \nHenriette Flach:\nNøgleharpe og hardingfele \nEn del af European Folk Day(s) 2024\nStøttet af Koda Kultur\, Nordeafonden og Tempi
URL:https://folkalender.dk/arrangement/flach-oesterby/
LOCATION:Kulturmaskinen\, Frølageret\, Odense\, Farvergården 7\, Odense\, 5000
ATTACH;FMTTYPE=image/jpeg:https://folkalender.dk/wp-content/uploads/2024/05/flach.jpg
ORGANIZER;CN="Kulturmaskinen":MAILTO:kulturmaskinen@odense.dk
GEO:55.3949194;10.3811208
X-APPLE-STRUCTURED-LOCATION;VALUE=URI;X-ADDRESS=Kulturmaskinen Frølageret Odense Farvergården 7 Odense 5000;X-APPLE-RADIUS=500;X-TITLE=Farvergården 7:geo:10.3811208,55.3949194
END:VEVENT
BEGIN:VEVENT
DTSTART;TZID=Europe/Helsinki:20240923T190000
DTEND;TZID=Europe/Helsinki:20240923T210000
DTSTAMP:20260421T154455
CREATED:20240913T073655Z
LAST-MODIFIED:20240913T073655Z
UID:9864-1727118000-1727125200@folkalender.dk
SUMMARY:Folk-jam på INSP! i Roskilde
DESCRIPTION:I anledning af European Folk Day er Kulturskolen Roskilde og INSP! gået sammen om at arrangere folk-jam! Det bliver en rigtig hyggelig aften\nAlle er meget velkomne uanset niveau og erfaring med folkemusik.\nDet er jo en jam og al folk-melodier og det der minder om er med i puljen\, men her er en dropbox med et par melodier\, hvis man vil forberede sig!\nhttps://www.dropbox.com/…/ACDT5-SUlWVjDNKR1oQpukw…\n(Opdateres løbende med flere melodier og transponerede stemmer)\nVært for jammen er Tim Ewé fra Kulturskolen og som også er kendt fra cross-over folk-bands som TINGO og Som Os og som gennem mange år arbejdet med at spille nordisk folkemusik på trompet.\nLæs mere om European Folk Day her: https://www.europeanfolkday.eu\nOg se andre spændende arrangementer her på folkkalender.dk
URL:https://folkalender.dk/arrangement/folk-jam-paa-insp-i-roskilde/
LOCATION:INSP Roskilde\, Slagteristræde 9\, Roskilde\, 4000
CATEGORIES:Jam
ATTACH;FMTTYPE=image/png:https://folkalender.dk/wp-content/uploads/2024/09/IMG_0811.png
GEO:55.6363153;12.0803039
X-APPLE-STRUCTURED-LOCATION;VALUE=URI;X-ADDRESS=INSP Roskilde Slagteristræde 9 Roskilde 4000;X-APPLE-RADIUS=500;X-TITLE=Slagteristræde 9:geo:12.0803039,55.6363153
END:VEVENT
BEGIN:VEVENT
DTSTART;TZID=Europe/Helsinki:20240923T190000
DTEND;TZID=Europe/Helsinki:20240923T220000
DTSTAMP:20260421T154455
CREATED:20240618T095310Z
LAST-MODIFIED:20240618T095310Z
UID:9004-1727118000-1727128800@folkalender.dk
SUMMARY:European Folk Days - på Huset
DESCRIPTION:Vi planlægger at holde et bal i folkemusikkens tegn!  \nMere information kommer senere..
URL:https://folkalender.dk/arrangement/european-folk-days-paa-huset/
LOCATION:HUSET Aalborg
ATTACH;FMTTYPE=image/jpeg:https://folkalender.dk/wp-content/uploads/2024/06/431561595_734035885502196_5776833736619500802_n.jpg
ORGANIZER;CN="Nordisk Dans Aalborg":MAILTO:nordiskdansaalborg@gmail.com
GEO:57.0469375;9.9102198
END:VEVENT
BEGIN:VEVENT
DTSTART;TZID=Europe/Helsinki:20240923T190000
DTEND;TZID=Europe/Helsinki:20240923T220000
DTSTAMP:20260421T154455
CREATED:20240911T101023Z
LAST-MODIFIED:20240911T101023Z
UID:9785-1727118000-1727128800@folkalender.dk
SUMMARY:European Folk Day(s): Romane Danish Star (MK/KV/DK)
DESCRIPTION:Kom og lad dig rive med\, når Romane Danish Star indtager ALICE med deres storsvingende take på romansk bryllupsmusik fra Balkan-regionen. Mangt en fest har de fyldt med kærlighed\, glade toner og dansable klassikere\, og det bliver ingen undtagelse denne aften på Nørrebro. Koncerten er gratis og en del af European Folk Day\, arrangeret af Tempi. \nRomane Danish Star er en 4-mands ensemble\, der er dybt forankret i traditionerne fra romansk bryllupsmusik fra Balkan-regionen. Inspireret af legender som Saban Bajramovic og Esma Redjepova\, optræder Sabani-brødrene Ferdi (saxofon)\, Sevki (keyboard) og Senad (violin og vokal) sammen med percussionisten Faruk Demiri\, og spiller klassikere i en moderne stil så det storsvinger. Romane Danish Star inkorporerer elektroniske lyde\, arrangementer med pop- og jazzelementer og hæsblæsende tempoer\, der fremhæver deres enestående evner til improvisation. For fans af Amza Tairov\, Ivo Papasov og Dzafer og Ork Neco King er denne koncert ikke til at gå glip af. \nKoncerten er gratis og en del af European Folk Day. Bemærk at det er nødvendigt at booke billet til koncerten.
URL:https://folkalender.dk/arrangement/european-folk-days-romane-danish-star-mk-kv-dk/
LOCATION:Alice\, Nørre Allé 7\, København N\, 2200
CATEGORIES:Koncert
ATTACH;FMTTYPE=image/jpeg:https://folkalender.dk/wp-content/uploads/2024/09/Romane-Danish-Star-1-647x440-1.jpg
GEO:55.6865501;12.4917973
X-APPLE-STRUCTURED-LOCATION;VALUE=URI;X-ADDRESS=Alice Nørre Allé 7 København N 2200;X-APPLE-RADIUS=500;X-TITLE=Nørre Allé 7:geo:12.4917973,55.6865501
END:VEVENT
BEGIN:VEVENT
DTSTART;TZID=Europe/Helsinki:20240923T193000
DTEND;TZID=Europe/Helsinki:20240923T203000
DTSTAMP:20260421T154455
CREATED:20240912T132422Z
LAST-MODIFIED:20240912T133327Z
UID:9849-1727119800-1727123400@folkalender.dk
SUMMARY:GAMLE DANSE FRA LEJREEGNEN / European Folk Day
DESCRIPTION:SÆRARRANGEMENT i anledning af EUROPEAN FOLK DAY.\nKom og nyd gammel musik og dans fra Lejreegnen. Projekt Kontradans har udgravet og rekonstrueret 80 traditionelle danse og 180 melodier fra Roskilde/Lejreegnen. De skal nu igen spilles og danses i swing. Læs om projektet og se et halvt hundrede videoer med  danse og og musik fra vores egn på www.kontradans.dk.\nVi begynder kl. 19.30 (dørene åbner en halv time før) med en times gratis fyraftens-aha-oplevelser leveret af Kontra-Orkestret og Kontra-Forsøgskvadrillen. Vi spiller og danser for\, på en måde så alle deltagere kan være med umiddelbart.\nSe hvad det handler om på hjemmesiden\, hvor der pt. ligger et halvt hundrede videoer med fed musik og dans\, alle med eget særpræg fra Roskilde/Lejreegnen.\nGratis adgang.\nUmiddelbart før dette arrangement er der tilsvarende Roskildedanse på Roskilde Bibliotek. Se særskilt opslag
URL:https://folkalender.dk/arrangement/gamle-danse-fra-lejreegnen-european-folk-day/
LOCATION:Lejre Bibliotek\, Stationsvej\, Lejre\, 4320\, Denmark
CATEGORIES:Bal
ATTACH;FMTTYPE=image/jpeg:https://folkalender.dk/wp-content/uploads/2024/09/Step-In-Dans_folkalender-1.jpg
ORGANIZER;CN="Kontradans":MAILTO:mail@kontradans.dk
GEO:55.6046434;11.9714109
X-APPLE-STRUCTURED-LOCATION;VALUE=URI;X-ADDRESS=Lejre Bibliotek Stationsvej Lejre 4320 Denmark;X-APPLE-RADIUS=500;X-TITLE=Stationsvej:geo:11.9714109,55.6046434
END:VEVENT
END:VCALENDAR