BEGIN:VCALENDAR
VERSION:2.0
PRODID:-//Folkalender - ECPv6.10.1.1//NONSGML v1.0//EN
CALSCALE:GREGORIAN
METHOD:PUBLISH
X-WR-CALNAME:Folkalender
X-ORIGINAL-URL:https://folkalender.dk
X-WR-CALDESC:Begivenheder for Folkalender
REFRESH-INTERVAL;VALUE=DURATION:PT1H
X-Robots-Tag:noindex
X-PUBLISHED-TTL:PT1H
BEGIN:VTIMEZONE
TZID:Europe/Helsinki
BEGIN:DAYLIGHT
TZOFFSETFROM:+0200
TZOFFSETTO:+0300
TZNAME:EEST
DTSTART:20230326T010000
END:DAYLIGHT
BEGIN:STANDARD
TZOFFSETFROM:+0300
TZOFFSETTO:+0200
TZNAME:EET
DTSTART:20231029T010000
END:STANDARD
END:VTIMEZONE
BEGIN:VEVENT
DTSTART;TZID=Europe/Helsinki:20231108T200000
DTEND;TZID=Europe/Helsinki:20231108T220000
DTSTAMP:20260423T103154
CREATED:20230810T173323Z
LAST-MODIFIED:20231007T161825Z
UID:6783-1699473600-1699480800@folkalender.dk
SUMMARY:Nuala Kennedy / Eamon O’Leary / Gerry O’Connor (Irl)
DESCRIPTION:De musikalske legekammerater Nuala Kennedy (fløjte\, sang) fra County Louth og Eamon O’Leary (guitar\, sang) fra Dublin har spillet sammen siden 2011\, da Nuala flyttede til New York\, hvor Eamon er bosiddende siden mere end 20 år. De fandt en fælles interesse for og kærlighed til den traditionelle irske og skotske musik samt det at arrangere og skrive nye sange. \nNuala og Eamon er begge to garvede musikanter\, der har turneret vidt og bredt sammen og spillet både på store festivaler i Europa\, Nordamerika\, Australien og på små\, akustiske spillesteder i mere fjerne egne såsom Newfoundland\, Alaska og ved polarcirklen. De er begge kendt for deres instrumentale færdigheder og smukke vokalharmonier\, men også for deres varierede repertoire af traditionelle og nyskrevne sange. Med en underspillet virtuositet præsenterer de to en tidløs samling sange – med historier om kærlighed og frieri\, om arbejde og ritualer\, om emigration\, krig og mange andre temaer. \nPå deres Danmarksturné medbringer Nuala og Eamon den fremragende violinist Gerry O’Connor\, der ligesom Nuala er fra Dundalk i County Louth. Gerry har været med til at danne bands som Lá Lugh\, Skylark og Oirialla – sidstnævnte i øvrigt sammen med Nuala. Gerrys violinspil er kendetegnet ved en livlighed og pulserende rytme\, som han tilskriver sine tidlige år som stepdanser. Udover sit virke som violinist\, så er Gerry O’Connor også en velrenommeret violinbygger og producer samt en meget efterspurgt violintutor. \nSammen præsenterer Nuala\, Eamon og Gerry et flot koncertaften\, der byder på både traditionsrig\, nyfortolket og nyskrevet irsk musik.\nTrioens turné i Danmark er støttet af organisationen Culture Ireland.
URL:https://folkalender.dk/arrangement/nuala-kennedy-eamon-oleary-gerry-oconnor-irl/
LOCATION:KulturØen Middelfart\, Havnegade 6\, Middelfart\, 5500
CATEGORIES:Koncert
ATTACH;FMTTYPE=image/jpeg:https://folkalender.dk/wp-content/uploads/2023/08/Gerry-Nuala-Eamon-scaled-1.jpg
ORGANIZER;CN="Foreningen GUF%2C God Underholdende Folkemusik":MAILTO:jrahbek@stribnet.dk
GEO:55.5052311;9.7356812
X-APPLE-STRUCTURED-LOCATION;VALUE=URI;X-ADDRESS=KulturØen Middelfart Havnegade 6 Middelfart 5500;X-APPLE-RADIUS=500;X-TITLE=Havnegade 6:geo:9.7356812,55.5052311
END:VEVENT
BEGIN:VEVENT
DTSTART;TZID=Europe/Helsinki:20231108T200000
DTEND;TZID=Europe/Helsinki:20231108T220000
DTSTAMP:20260423T103154
CREATED:20230815T221722Z
LAST-MODIFIED:20230828T002551Z
UID:6810-1699473600-1699480800@folkalender.dk
SUMMARY:Koncert med David Rovics (US)
DESCRIPTION:David Rovics er en venstreorienteret\, amerikansk singer/songwriter\, der har turneret over hele verden de sidste 25 år og er sandsynligvis en af de allermest produktive sangskrivere i nyere tid.\nHans sange spænder over nutidige politiske og sociale kampe\, historiske bevægelser og satiriske samtids-betragtninger. Han giver stemme til de oversete og skaber en platform for forandring gennem musikken på en måde\, som kun de allerstørste protestmusikere har kunnet gøre.\nDet illustreres meget godt af\, hvad Andy Kershaw fra BBC skrev: “Hvis den store Phil Ochs skulle genopstå i dag\, ville han sandsynligvis blive hyldet som den nye David Rovics.” og Pete Seegers opfordring: “Lyt til David Rovics.”\nSelvom han synger på amerikansk\, synger han med så overbevisende kraft\, at man uden store engelskkundskaber forstår sangenes intention. \nHan kan opleves onsdag d. 8. november kl. 20 på Ali Baba\, Vestergade 14\, Auning.  \nBilletter koster 120 kr.\nStuderende\, folk på overførselsindkomst og fattige pensionister kan dog få billetter til 60 kr. \nhttps://www.davidrovics.com\nhttps://www.youtube.com/@drovics\nhttps://www.facebook.com/davidrovicsmusic
URL:https://folkalender.dk/arrangement/koncert-med-david-rovics-us/
LOCATION:Ali Babas Pizza & Gastronomi\, Vestergade 14\, Auning\, 8963\, Danmark
CATEGORIES:Koncert
ATTACH;FMTTYPE=image/jpeg:https://folkalender.dk/wp-content/uploads/2023/08/FCayNYgVIAMnNrC.jpg
ORGANIZER;CN="Ali Babas Pizza &amp%3B Gastronomi":MAILTO:kontakt@alibabasgastronomi.dk
GEO:56.4310954;10.3746262
X-APPLE-STRUCTURED-LOCATION;VALUE=URI;X-ADDRESS=Ali Babas Pizza & Gastronomi Vestergade 14 Auning 8963 Danmark;X-APPLE-RADIUS=500;X-TITLE=Vestergade 14:geo:10.3746262,56.4310954
END:VEVENT
END:VCALENDAR