BEGIN:VCALENDAR
VERSION:2.0
PRODID:-//Folkalender - ECPv6.10.1.1//NONSGML v1.0//EN
CALSCALE:GREGORIAN
METHOD:PUBLISH
X-ORIGINAL-URL:https://folkalender.dk
X-WR-CALDESC:Begivenheder for Folkalender
REFRESH-INTERVAL;VALUE=DURATION:PT1H
X-Robots-Tag:noindex
X-PUBLISHED-TTL:PT1H
BEGIN:VTIMEZONE
TZID:Europe/Helsinki
BEGIN:DAYLIGHT
TZOFFSETFROM:+0200
TZOFFSETTO:+0300
TZNAME:EEST
DTSTART:20230326T010000
END:DAYLIGHT
BEGIN:STANDARD
TZOFFSETFROM:+0300
TZOFFSETTO:+0200
TZNAME:EET
DTSTART:20231029T010000
END:STANDARD
END:VTIMEZONE
BEGIN:VEVENT
DTSTART;TZID=Europe/Helsinki:20231107T193000
DTEND;TZID=Europe/Helsinki:20231107T230000
DTSTAMP:20260423T103453
CREATED:20230824T183722Z
LAST-MODIFIED:20230824T183913Z
UID:6878-1699385400-1699398000@folkalender.dk
SUMMARY:Paul McKenna Band (SCO)
DESCRIPTION:Stærkt skotsk nutidig band med rige rødder \nPaul McKenna Band har slået sit navn fast på den internationale folkscene gennem en omfattende koncertvirksomhed gennem de sidste ti år. \nPaul McKenna’s musik trækker på den rige irske og skotske tradition\, som han blander med nutidig sangskrivning\, men med stor respekt for rødderne. \nI de seneste år har de givet fremragende koncerter på bl.a. Celtic Connections\, Cambridge Folk Festival\, Tønder Festival\, Milwaukee Irish Festival i USA og Edmonton Folk Festival i Canada samt turneret i Australien. \nDe fem medlemmer har modtaget adskillige individuelle priser og er eftertragtede ekvilibrister\, der udover Paul McKenna Band ofte ses i andre bandkonstellationer. \nLine-up:\nPaul McKenna – Vokal\, guitar\, bouzouki\nDavid McNee – Bouzouki\, tenor guitar\, vokal\nSean Gray – Fløjte\, whistles\, guitar\, vokal\nEwan Baird – Bodhran\, cajon\, vokal\nMike Vass – Violin\, banjo\, vokal \n“The best folk band to have come out of Scotland in the last twenty years”\nNew York Times \n”The best band of their generation”\nThe Living Tradition \n“A band with the potential to dominate the Scottish/Irish traditional scene for the next twenty years”\nFatea Magazine \n150\,-\nSiddepladser på balkon\nSkotsk/Irsk Musikscene \nMenu kan tilkøbes (fra kl. 18:00): Sæson buffet: 180\,- \nDenne koncert er en del af ’Skotsk & Irsk Musikscene’\, der præsenterer 10 keltiske folkemusikkoncerter i sæsonen fra september til maj – på tirsdage ca. én gang om måneden. Årskortbillet for sæson 2023/2024 kan købes her for 600\,- indtil nytår: https://baltoppen.billetten.dk/index/eventdetails/eventno/114158
URL:https://folkalender.dk/arrangement/paul-mckenna-band-sco/
LOCATION:Baltoppen LIVE\, Baltorpvej 20\, Ballerup\, 2750
CATEGORIES:Koncert
ATTACH;FMTTYPE=image/jpeg:https://folkalender.dk/wp-content/uploads/2023/08/Poul_Mckenna_Band_1024px.jpg
GEO:55.7305364;12.3522152
X-APPLE-STRUCTURED-LOCATION;VALUE=URI;X-ADDRESS=Baltoppen LIVE Baltorpvej 20 Ballerup 2750;X-APPLE-RADIUS=500;X-TITLE=Baltorpvej 20:geo:12.3522152,55.7305364
END:VEVENT
END:VCALENDAR