BEGIN:VCALENDAR
VERSION:2.0
PRODID:-//Folkalender - ECPv6.10.1.1//NONSGML v1.0//EN
CALSCALE:GREGORIAN
METHOD:PUBLISH
X-ORIGINAL-URL:https://folkalender.dk
X-WR-CALDESC:Begivenheder for Folkalender
REFRESH-INTERVAL;VALUE=DURATION:PT1H
X-Robots-Tag:noindex
X-PUBLISHED-TTL:PT1H
BEGIN:VTIMEZONE
TZID:Europe/Helsinki
BEGIN:DAYLIGHT
TZOFFSETFROM:+0200
TZOFFSETTO:+0300
TZNAME:EEST
DTSTART:20230326T010000
END:DAYLIGHT
BEGIN:STANDARD
TZOFFSETFROM:+0300
TZOFFSETTO:+0200
TZNAME:EET
DTSTART:20231029T010000
END:STANDARD
END:VTIMEZONE
BEGIN:VEVENT
DTSTART;VALUE=DATE:20231028
DTEND;VALUE=DATE:20231030
DTSTAMP:20260423T072518
CREATED:20230512T182255Z
LAST-MODIFIED:20230512T182946Z
UID:6357-1698451200-1698623999@folkalender.dk
SUMMARY:Thyregodtræf 2023 - folkemusik og folkedans
DESCRIPTION:Masser af spillemandsmusik\, folkedans og hyggeligt samvær. Der er undervisning i grupper og orkesterspil.\nDagen slutter med folkedansebal\, Fanøbal og Irsk Jam
URL:https://folkalender.dk/arrangement/thyregodtraef-2023-folkemusik-og-folkedans/
LOCATION:Thyregod Skole\, Skolegade 4\, Thyregod\, Give\, 7323\, Danmark
CATEGORIES:Spilleworkshop
ATTACH;FMTTYPE=image/jpeg:https://folkalender.dk/wp-content/uploads/2023/05/Thyregodtraef-Forside.jpg
ORGANIZER;CN="Thyregod Spillem%C3%A6nd/Manny":MAILTO:mannyskj@gmail.com
GEO:55.9070639;9.260561
X-APPLE-STRUCTURED-LOCATION;VALUE=URI;X-ADDRESS=Thyregod Skole Skolegade 4 Thyregod Give 7323 Danmark;X-APPLE-RADIUS=500;X-TITLE=Skolegade 4\, Thyregod:geo:9.260561,55.9070639
END:VEVENT
BEGIN:VEVENT
DTSTART;VALUE=DATE:20231029
DTEND;VALUE=DATE:20231030
DTSTAMP:20260423T072518
CREATED:20230924T191555Z
LAST-MODIFIED:20230924T192736Z
UID:7089-1698537600-1698623999@folkalender.dk
SUMMARY:Spillemandsmessen i Skårup kirke
DESCRIPTION:Søndag d. 29. oktober kl. 16.00-17.00 opføres Spillemandsmessen i Skårup kirke. \nSpillemandsmessen er en gudstjeneste iklædt dansk folkemusik\, og den første af sin art på dansk. Teksten er skrevet af Holger Lissner og musikken er komponeret af Ivan Bjerre Damgård og Michael Sommer\, med udgangspunkt i dansk traditionel dansemusik. \nDen har sit afsæt i den romersk-katolske messe der som bekendt består af en række faste led: Kyrie\, Gloria\, Credo\, Sanctus og Agnus Dei. Gennem årene har mange forskellige komponister sat musik til disse messeled\, og i starten af 00’erne fik vi med spillemandmessen en dansk udgave. I spillemandsmessen er musikken skabt med en stærk forankring i den traditionelle dansemusik\, og udfolder sig i sit møde med kirkens liturgi og kor.\n \nMedvirkende er Skårup Lejlighedskor\, under ledsagelse af kirkesanger Erik Jakobsen\, samt violinist Michael Graubæk\, klarinettist Martin Strange Lorenzen\, sopran Maja Aaerøe Freese og kirkens organist Jonathan Fjord Bredholt på klaver.
URL:https://folkalender.dk/arrangement/spillemandsmessen-i-skaarup-kirke/
LOCATION:Skårup kirke\, Skårup Kirkebakke 1\, Skårup Fyn\, 5881
CATEGORIES:Koncert
ATTACH;FMTTYPE=image/jpeg:https://folkalender.dk/wp-content/uploads/2023/09/kalk2.jpeg
GEO:55.0937886;10.687069
X-APPLE-STRUCTURED-LOCATION;VALUE=URI;X-ADDRESS=Skårup kirke Skårup Kirkebakke 1 Skårup Fyn 5881;X-APPLE-RADIUS=500;X-TITLE=Skårup Kirkebakke 1:geo:10.687069,55.0937886
END:VEVENT
BEGIN:VEVENT
DTSTART;TZID=Europe/Helsinki:20231029T150000
DTEND;TZID=Europe/Helsinki:20231029T173000
DTSTAMP:20260423T072518
CREATED:20230213T164951Z
LAST-MODIFIED:20230317T091541Z
UID:5740-1698591600-1698600600@folkalender.dk
SUMMARY:The Dublin Legends / The Dubliners
DESCRIPTION:Glæd jer til en aften i selskab med musikalske legender og velkendte sange og klassikere. Whiskey in The Jar\, Dirty Old Town\, The Wild Rover\, Seven Drunken Nights\, The Rare Auld Times\, Finnegan’s Wake\, Molly Malone\, The Monto\, Hand Me Down Me Bible\, The Irish Rover\, Black Velvet Band og mange mange flere. \nOplev legenderne i irsk folkemusik Sean Cannon\, Shay Kavanagh\, Paul Watchorn og Gerry O’Connor\, når de under navnet The Dublin Legends viderefører arven efter The Dubliners\, der stoppede som band\, da “Banjo” Barney McKenna desværre døde. Drengene ser meget frem til igen at møde og underholde alle deres fans overalt på kloden og vil fortsætte med at spille alle de verdensberømte klassikere\, som The Dubliners er kendt for.
URL:https://folkalender.dk/arrangement/the-dublin-legends-the-dubliners-9/
LOCATION:Horsens Ny Teater\, Teatertorvet\, Horsens\, 8700
CATEGORIES:Koncert
ATTACH;FMTTYPE=image/jpeg:https://folkalender.dk/wp-content/uploads/2023/02/Pressefoto-2018-bred-8-scaled.jpg
ORGANIZER;CN="Art &amp%3B Music Scandinavia":MAILTO:bent@art-music.dk
GEO:55.8629442;9.8470965
X-APPLE-STRUCTURED-LOCATION;VALUE=URI;X-ADDRESS=Horsens Ny Teater Teatertorvet Horsens 8700;X-APPLE-RADIUS=500;X-TITLE=Teatertorvet:geo:9.8470965,55.8629442
END:VEVENT
END:VCALENDAR