BEGIN:VCALENDAR
VERSION:2.0
PRODID:-//Folkalender - ECPv6.10.1.1//NONSGML v1.0//EN
CALSCALE:GREGORIAN
METHOD:PUBLISH
X-ORIGINAL-URL:https://folkalender.dk
X-WR-CALDESC:Begivenheder for Folkalender
REFRESH-INTERVAL;VALUE=DURATION:PT1H
X-Robots-Tag:noindex
X-PUBLISHED-TTL:PT1H
BEGIN:VTIMEZONE
TZID:Europe/Helsinki
BEGIN:DAYLIGHT
TZOFFSETFROM:+0200
TZOFFSETTO:+0300
TZNAME:EEST
DTSTART:20230326T010000
END:DAYLIGHT
BEGIN:STANDARD
TZOFFSETFROM:+0300
TZOFFSETTO:+0200
TZNAME:EET
DTSTART:20231029T010000
END:STANDARD
END:VTIMEZONE
BEGIN:VEVENT
DTSTART;TZID=Europe/Helsinki:20231026T133000
DTEND;TZID=Europe/Helsinki:20231026T153000
DTSTAMP:20260423T072612
CREATED:20231006T213430Z
LAST-MODIFIED:20231006T214002Z
UID:7149-1698327000-1698334200@folkalender.dk
SUMMARY:Mette Kathrine\, Vejle
DESCRIPTION:Foredraget Fra Thy til Christiania \nEntre: 150\,- indsættes på 0758-3225641438 (husk navn)\nog man skal samtidigt tilmelde sig til Kirsten Jensen\npå 2721 9556 eller dansekirsten@gmail.com
URL:https://folkalender.dk/arrangement/mette-kathrine-vejle/
LOCATION:Hotel Bredehus\, Kirkegade 25\, Bredsten\, 7182
CATEGORIES:Foredrag
ATTACH;FMTTYPE=image/jpeg:https://folkalender.dk/wp-content/uploads/2023/10/230811Zenobia0106-2-scaled.jpg
GEO:55.7020056;9.3701301
X-APPLE-STRUCTURED-LOCATION;VALUE=URI;X-ADDRESS=Hotel Bredehus Kirkegade 25 Bredsten 7182;X-APPLE-RADIUS=500;X-TITLE=Kirkegade 25:geo:9.3701301,55.7020056
END:VEVENT
BEGIN:VEVENT
DTSTART;TZID=Europe/Helsinki:20231026T200000
DTEND;TZID=Europe/Helsinki:20231026T230000
DTSTAMP:20260423T072612
CREATED:20230213T163657Z
LAST-MODIFIED:20230317T091424Z
UID:5729-1698350400-1698361200@folkalender.dk
SUMMARY:The Dublin Legends / The Dubliners
DESCRIPTION:Glæd jer til en aften i selskab med musikalske legender og velkendte sange og klassikere. Whiskey in The Jar\, Dirty Old Town\, The Wild Rover\, Seven Drunken Nights\, The Rare Auld Times\, Finnegan’s Wake\, Molly Malone\, The Monto\, Hand Me Down Me Bible\, The Irish Rover\, Black Velvet Band og mange mange flere. \nOplev legenderne i irsk folkemusik Sean Cannon\, Shay Kavanagh\, Paul Watchorn og Gerry O’Connor\, når de under navnet The Dublin Legends viderefører arven efter The Dubliners\, der stoppede som band\, da “Banjo” Barney McKenna desværre døde. Drengene ser meget frem til igen at møde og underholde alle deres fans overalt på kloden og vil fortsætte med at spille alle de verdensberømte klassikere\, som The Dubliners er kendt for.
URL:https://folkalender.dk/arrangement/the-dublin-legends-the-dubliners-6/
LOCATION:Gram Slot\, Slotsvej 54\, Gram\, 6510
CATEGORIES:Koncert
ATTACH;FMTTYPE=image/jpeg:https://folkalender.dk/wp-content/uploads/2023/02/Pressefoto-2018-bred-6-scaled.jpg
ORGANIZER;CN="Art &amp%3B Music Scandinavia":MAILTO:bent@art-music.dk
GEO:55.2952156;9.0573555
X-APPLE-STRUCTURED-LOCATION;VALUE=URI;X-ADDRESS=Gram Slot Slotsvej 54 Gram 6510;X-APPLE-RADIUS=500;X-TITLE=Slotsvej 54:geo:9.0573555,55.2952156
END:VEVENT
END:VCALENDAR