BEGIN:VCALENDAR
VERSION:2.0
PRODID:-//Folkalender - ECPv6.10.1.1//NONSGML v1.0//EN
CALSCALE:GREGORIAN
METHOD:PUBLISH
X-ORIGINAL-URL:https://folkalender.dk
X-WR-CALDESC:Begivenheder for Folkalender
REFRESH-INTERVAL;VALUE=DURATION:PT1H
X-Robots-Tag:noindex
X-PUBLISHED-TTL:PT1H
BEGIN:VTIMEZONE
TZID:Europe/Helsinki
BEGIN:DAYLIGHT
TZOFFSETFROM:+0200
TZOFFSETTO:+0300
TZNAME:EEST
DTSTART:20230326T010000
END:DAYLIGHT
BEGIN:STANDARD
TZOFFSETFROM:+0300
TZOFFSETTO:+0200
TZNAME:EET
DTSTART:20231029T010000
END:STANDARD
END:VTIMEZONE
BEGIN:VEVENT
DTSTART;TZID=Europe/Helsinki:20231025T190000
DTEND;TZID=Europe/Helsinki:20231025T220000
DTSTAMP:20260423T072613
CREATED:20221227T135742Z
LAST-MODIFIED:20221227T135810Z
UID:5182-1698260400-1698271200@folkalender.dk
SUMMARY:Kom og dans
DESCRIPTION:Folkemusiklauget Fynboerne spiller op til dans og alle er velkomne til at danse med. Allerede kl. 18.30 kan du komme og lære nogle grundtrin så du lettere kan være med når ballet starter
URL:https://folkalender.dk/arrangement/kom-og-dans-7/
LOCATION:Kulturmaskinen Odense\, Farvergården 7\, Odense\, 5000
CATEGORIES:Bal
GEO:55.3955926;10.3808671
X-APPLE-STRUCTURED-LOCATION;VALUE=URI;X-ADDRESS=Kulturmaskinen Odense Farvergården 7 Odense 5000;X-APPLE-RADIUS=500;X-TITLE=Farvergården 7:geo:10.3808671,55.3955926
END:VEVENT
BEGIN:VEVENT
DTSTART;TZID=Europe/Helsinki:20231025T200000
DTEND;TZID=Europe/Helsinki:20231025T230000
DTSTAMP:20260423T072613
CREATED:20230213T163529Z
LAST-MODIFIED:20230317T091358Z
UID:5725-1698264000-1698274800@folkalender.dk
SUMMARY:The Dublin Legends / The Dubliners
DESCRIPTION:Glæd jer til en aften i selskab med musikalske legender og velkendte sange og klassikere. Whiskey in The Jar\, Dirty Old Town\, The Wild Rover\, Seven Drunken Nights\, The Rare Auld Times\, Finnegan’s Wake\, Molly Malone\, The Monto\, Hand Me Down Me Bible\, The Irish Rover\, Black Velvet Band og mange mange flere. \nOplev legenderne i irsk folkemusik Sean Cannon\, Shay Kavanagh\, Paul Watchorn og Gerry O’Connor\, når de under navnet The Dublin Legends viderefører arven efter The Dubliners\, der stoppede som band\, da “Banjo” Barney McKenna desværre døde. Drengene ser meget frem til igen at møde og underholde alle deres fans overalt på kloden og vil fortsætte med at spille alle de verdensberømte klassikere\, som The Dubliners er kendt for.
URL:https://folkalender.dk/arrangement/the-dublin-legends-the-dubliners-5/
LOCATION:Skråen i Nordkraft\, Kjellerups Torv 5\, Aalborg\, 9000
CATEGORIES:Koncert
ATTACH;FMTTYPE=image/jpeg:https://folkalender.dk/wp-content/uploads/2023/02/Pressefoto-2018-bred-5-scaled.jpg
ORGANIZER;CN="Art &amp%3B Music Scandinavia":MAILTO:bent@art-music.dk
GEO:57.046356;9.931501
X-APPLE-STRUCTURED-LOCATION;VALUE=URI;X-ADDRESS=Skråen i Nordkraft Kjellerups Torv 5 Aalborg 9000;X-APPLE-RADIUS=500;X-TITLE=Kjellerups Torv 5:geo:9.931501,57.046356
END:VEVENT
END:VCALENDAR