BEGIN:VCALENDAR
VERSION:2.0
PRODID:-//Folkalender - ECPv6.10.1.1//NONSGML v1.0//EN
CALSCALE:GREGORIAN
METHOD:PUBLISH
X-WR-CALNAME:Folkalender
X-ORIGINAL-URL:https://folkalender.dk
X-WR-CALDESC:Begivenheder for Folkalender
REFRESH-INTERVAL;VALUE=DURATION:PT1H
X-Robots-Tag:noindex
X-PUBLISHED-TTL:PT1H
BEGIN:VTIMEZONE
TZID:Europe/Helsinki
BEGIN:DAYLIGHT
TZOFFSETFROM:+0200
TZOFFSETTO:+0300
TZNAME:EEST
DTSTART:20230326T010000
END:DAYLIGHT
BEGIN:STANDARD
TZOFFSETFROM:+0300
TZOFFSETTO:+0200
TZNAME:EET
DTSTART:20231029T010000
END:STANDARD
END:VTIMEZONE
BEGIN:VEVENT
DTSTART;TZID=Europe/Helsinki:20231020T193000
DTEND;TZID=Europe/Helsinki:20231020T230000
DTSTAMP:20260423T055048
CREATED:20230918T161517Z
LAST-MODIFIED:20230918T161744Z
UID:7040-1697830200-1697842800@folkalender.dk
SUMMARY:Bal med Ribe Danse- og Spillemandslaug
DESCRIPTION:Der vil blive instrueret i dansene efter behov så kom frit frem både nybegyndere og øvede. Midt på aftenen drikker vi kaffe og spiser hjemmebagt kage.\nI kaffepausen kan der være forskelligt underholdning så som\, fælles sang\, div. solooptræden med musik eller sang og historie fortælling mm.\nKom og vær med til en glad aften.
URL:https://folkalender.dk/arrangement/bal-med-ribe-danse-og-spillemandslaug-5/
LOCATION:Rosen Alle 3\, 6760 Ribe\, Rosen Alle 3\, Ribe\, 6760
CATEGORIES:Bal
ATTACH;FMTTYPE=image/jpeg:https://folkalender.dk/wp-content/uploads/2023/09/Logo_Ribelaug-1.jpg
ORGANIZER;CN="Ribe Danse- og Spillemandslaug":MAILTO:ribelaug@gmail.com
GEO:55.3285578;8.7700979
X-APPLE-STRUCTURED-LOCATION;VALUE=URI;X-ADDRESS=Rosen Alle 3 6760 Ribe Rosen Alle 3 Ribe 6760;X-APPLE-RADIUS=500;X-TITLE=Rosen Alle 3:geo:8.7700979,55.3285578
END:VEVENT
BEGIN:VEVENT
DTSTART;TZID=Europe/Helsinki:20231020T200000
DTEND;TZID=Europe/Helsinki:20231020T230000
DTSTAMP:20260423T055048
CREATED:20230213T161414Z
LAST-MODIFIED:20230317T091203Z
UID:5707-1697832000-1697842800@folkalender.dk
SUMMARY:The Dublin Legends / The Dubliners
DESCRIPTION:Glæd jer til en aften i selskab med musikalske legender og velkendte sange og klassikere. Whiskey in The Jar\, Dirty Old Town\, The Wild Rover\, Seven Drunken Nights\, The Rare Auld Times\, Finnegan’s Wake\, Molly Malone\, The Monto\, Hand Me Down Me Bible\, The Irish Rover\, Black Velvet Band og mange mange flere. \nOplev legenderne i irsk folkemusik Sean Cannon\, Shay Kavanagh\, Paul Watchorn og Gerry O’Connor\, når de under navnet The Dublin Legends viderefører arven efter The Dubliners\, der stoppede som band\, da “Banjo” Barney McKenna desværre døde. Drengene ser meget frem til igen at møde og underholde alle deres fans overalt på kloden og vil fortsætte med at spille alle de verdensberømte klassikere\, som The Dubliners er kendt for.
URL:https://folkalender.dk/arrangement/the-dublin-legends-the-dubliners/
LOCATION:Sidesporet\, Ahlgade 1B\, Holbæk\, 4300
CATEGORIES:Koncert
ATTACH;FMTTYPE=image/jpeg:https://folkalender.dk/wp-content/uploads/2023/02/Pressefoto-2018-bred-scaled.jpg
ORGANIZER;CN="Art &amp%3B Music Scandinavia":MAILTO:bent@art-music.dk
GEO:55.7189773;11.7070118
X-APPLE-STRUCTURED-LOCATION;VALUE=URI;X-ADDRESS=Sidesporet Ahlgade 1B Holbæk 4300;X-APPLE-RADIUS=500;X-TITLE=Ahlgade 1B:geo:11.7070118,55.7189773
END:VEVENT
END:VCALENDAR