BEGIN:VCALENDAR
VERSION:2.0
PRODID:-//Folkalender - ECPv6.10.1.1//NONSGML v1.0//EN
CALSCALE:GREGORIAN
METHOD:PUBLISH
X-WR-CALNAME:Folkalender
X-ORIGINAL-URL:https://folkalender.dk
X-WR-CALDESC:Begivenheder for Folkalender
REFRESH-INTERVAL;VALUE=DURATION:PT1H
X-Robots-Tag:noindex
X-PUBLISHED-TTL:PT1H
BEGIN:VTIMEZONE
TZID:Europe/Helsinki
BEGIN:DAYLIGHT
TZOFFSETFROM:+0200
TZOFFSETTO:+0300
TZNAME:EEST
DTSTART:20230326T010000
END:DAYLIGHT
BEGIN:STANDARD
TZOFFSETFROM:+0300
TZOFFSETTO:+0200
TZNAME:EET
DTSTART:20231029T010000
END:STANDARD
END:VTIMEZONE
BEGIN:VEVENT
DTSTART;TZID=Europe/Helsinki:20230928T130000
DTEND;TZID=Europe/Helsinki:20231001T183000
DTSTAMP:20260422T222239
CREATED:20230823T120242Z
LAST-MODIFIED:20230823T123403Z
UID:6840-1695906000-1696185000@folkalender.dk
SUMMARY:Aarhus Folk Festival
DESCRIPTION:For 8. år i træk inviterer Aarhus Folk Festival til oplevelser med traditionel musik og dans. Fra d. 28. september og fire dage frem kan man opleve folkemusikken på forskellige måder og lokationer – lige fra kæmpebal i Vejlby-Risskovhallen til lækker svensk musik og jam på midtbyens spillesteder. Koncerterne bevæger sig inden for spektret af dansk\, nordisk\, europæisk og nordamerikansk musik\, samt inddrager crossover-projekter og lokale miljøer inden for traditionel musik og dans. Udover regulære scenekoncerter tilbydes også udviklingsprojekter\, workshops\, jamsessions\, traditionel dans og anden vidensformidling af folkekultur.  \nPartoutbillet koster 490 – det er også muligt at købe dagsbilletter.\nLink til billetkøb: \ndagsbillet fredag – https://www.place2book.com/da/sw2/sales/p9da80oax9 \ndagsbillet lørdag – https://www.place2book.com/da/sw2/sales/nkhecaxjx7 \ndagsbillet søndag – https://www.place2book.com/da/sw2/sales/lckga6l3yk
URL:https://folkalender.dk/arrangement/aarhus-folk-festival/
LOCATION:Aarhus\, Aarhus C\, 8000
CATEGORIES:Festival
ATTACH;FMTTYPE=image/jpeg:https://folkalender.dk/wp-content/uploads/2023/08/AarhusFolkFestival_FacebookCover_2023.jpg
GEO:56.1460465;10.202726
END:VEVENT
BEGIN:VEVENT
DTSTART;TZID=Europe/Helsinki:20230928T190000
DTEND;TZID=Europe/Helsinki:20230928T220000
DTSTAMP:20260422T222239
CREATED:20230909T080158Z
LAST-MODIFIED:20230909T081121Z
UID:6966-1695927600-1695938400@folkalender.dk
SUMMARY:Folk Lovers: Skotsk Aften
DESCRIPTION:Folk Lovers spiller nogle af Skotlands smukkeste\, vildeste\, mest medrivende\, og dejligste sange. Fælles for sangene er at de er skrevet for over 250 år siden. Men de bliver stadig spillet rundt overalt i Skotland! Vi spiller også nogle nyere\, så der noget for enhver smag. \nInd mellem sangene får i nogle gode historier om digterne og sangene. \nVil du vide mere om Folk Lovers kan du se vores hjemmeside her: https://folklovers.dk \nFri entré
URL:https://folkalender.dk/arrangement/folk-lovers-skotsk-aften-2/
LOCATION:Bramming Egnsmuseum\, Pederstræde 4\, Bramming\, 6740
CATEGORIES:Koncert
ATTACH;FMTTYPE=image/jpeg:https://folkalender.dk/wp-content/uploads/2023/09/DSC_0547-scaled.jpg
GEO:55.4643173;8.7000811
X-APPLE-STRUCTURED-LOCATION;VALUE=URI;X-ADDRESS=Bramming Egnsmuseum Pederstræde 4 Bramming 6740;X-APPLE-RADIUS=500;X-TITLE=Pederstræde 4:geo:8.7000811,55.4643173
END:VEVENT
BEGIN:VEVENT
DTSTART;TZID=Europe/Helsinki:20230928T193000
DTEND;TZID=Europe/Helsinki:20230928T203000
DTSTAMP:20260422T222239
CREATED:20230701T191335Z
LAST-MODIFIED:20230706T083716Z
UID:6560-1695929400-1695933000@folkalender.dk
SUMMARY:FANTILEJA (S/DK)
DESCRIPTION:TBA FYN \nFANTILEJA er et ungt\, svensk/dansk og yderst talentfuldt og spændende folkband\, som under deres år på Skurup Folkhögskola på tværs af jazz- og folklinjen fandt en fælles platform omkring den nordiske folkemusik.  \nSammen skriver FANTILEJA ny musik\, udforsker traditionen og undersøger\, hvordan deres forskellige musikalske baggrunde kan bidrage til hinanden.   \nSiden 2021 har bandet spillet adskillige koncerter på begge sider af Øresund i kirker\, på spillesteder og på festivaler. Senest har de været tilknyttet et mentorforløb med Dreamers Circus.\nAlle går nu den professionelle musikervej\, og der er ingen tvivl om\, at FANTILEJA er et af de navne\, man i den grad skal holde øje med og uden tvivl kommer til at høre meget mere til. \nMed deres legende melodier\, energiske og glædesfyldte samspil og flotte arrangementer spiller FANTILEJA sig ind i bølgen af nye bands på den unge folkemusikscene og giver deres bud på\, hvordan folkemusik anno 2023 kan lyde.  \nFantileja er:\nSigne Kierkgaard Schmidt: Violin (DK)\nRasmus Erlandsson: Cittern (SE)\nAnna Østerby: Accordion (DK)\nJohannes Bäckström: Kontrabas (SE)\nIsidor Abdelkader: Percussion (SE)
URL:https://folkalender.dk/arrangement/fantileja-s-dk-2/
LOCATION:Ollerup kirke\, Svendborgvej 102\, Svendborg\, 5762 Vester Skerninge
CATEGORIES:Koncert
ATTACH;FMTTYPE=image/jpeg:https://folkalender.dk/wp-content/uploads/2023/07/fantileja_foto-thomas-brorsoe.jpg
GEO:55.0724232;10.4863691
X-APPLE-STRUCTURED-LOCATION;VALUE=URI;X-ADDRESS=Ollerup kirke Svendborgvej 102 Svendborg 5762 Vester Skerninge;X-APPLE-RADIUS=500;X-TITLE=Svendborgvej 102:geo:10.4863691,55.0724232
END:VEVENT
BEGIN:VEVENT
DTSTART;TZID=Europe/Helsinki:20230928T200000
DTEND;TZID=Europe/Helsinki:20230928T213000
DTSTAMP:20260422T222239
CREATED:20230810T132641Z
LAST-MODIFIED:20230810T132802Z
UID:6779-1695931200-1695936600@folkalender.dk
SUMMARY:Big Daddy Wilson
DESCRIPTION:Når Big Daddy Wilson afholder koncert\, er klubberne overalt efterhånden udsolgt. \nSangeren og sangskriver Big Daddy Wilson forlod North Carolina\, USA i 1979\, og bandt sig til US Army og blev kort tid efter sendt til Tyskland. Efter værnepligten besluttede han sig for at blive i Tyskland\, hvor han for første gang kom i berøring med den vidunderlige musik ”blues”. \n”Jeg kendte intet til blues\, jeg vidste ikke\, hvad det var\, men jeg fik det i blodet\, det kaldte på mig HØJT og TYDELIGT.” Big Daddy Wilson efterkom kaldet og har siden dengang sunget blues hver nat. I de forgangne 20 år turnerede Wilson gennem hele verden. Han havde det privilegium\, at have sunget i klubber\, teatre\, på festivaler\, i radioen og på tv i mere end 15 forskellige lande. \nHan og hans musikere spiller i den højeste liga og er enestående med deres blanding af akustisk præget bluesmusik. At en sanger også spiller trommer er i sig selv en sjældenhed. Sam Lay er et sådant usædvanligt talent og Big Daddy Wilson naturligvis også. Således lykkes det for ham at give ret forskelligartede musikstykker sin helt egen umiskendelige touch og at genoplive dem på sin helt egen facon. Big Daddy Wilson siger:” Blues is a feeling\, feel me.” \nHans fantastiske guitarist Cesare Nolli\, bassisten Paolo Legramandi og trommespilleren Nik Taccori understøtter ham i dette foretagende. Dette band med deres enestående groove lader Big Daddy Wilsons mægtige undtagelses-stemme blive til en fornøjelse. \nAfslutningsvis kan man sige\, at alle disse punkter er parret med en utrolig stærk scenetilstedeværelse og en udstråling\, som ingen kan unddrage sig.
URL:https://folkalender.dk/arrangement/big-daddy-wilson/
LOCATION:Fermaten\, Smallegade 4\, Herning\, 7400
CATEGORIES:Koncert
ATTACH;FMTTYPE=image/jpeg:https://folkalender.dk/wp-content/uploads/2023/08/Design-uden-navn-4.jpg
ORGANIZER;CN="Fermaten":MAILTO:mail@fermaten.dk
GEO:56.1368467;8.970104
X-APPLE-STRUCTURED-LOCATION;VALUE=URI;X-ADDRESS=Fermaten Smallegade 4 Herning 7400;X-APPLE-RADIUS=500;X-TITLE=Smallegade 4:geo:8.970104,56.1368467
END:VEVENT
BEGIN:VEVENT
DTSTART;TZID=Europe/Helsinki:20230928T200000
DTEND;TZID=Europe/Helsinki:20230928T220000
DTSTAMP:20260422T222239
CREATED:20230216T091829Z
LAST-MODIFIED:20230908T153708Z
UID:5790-1695931200-1695938400@folkalender.dk
SUMMARY:Väsen & Ale Möller – et unikt møde!
DESCRIPTION:Multiinstrumentalisten Ale Möller møder Väsen\, Olov Johansson og Mikael Marin\, i et repertoire af nykomponeret og traditionel musik. Det bliver en meget legesyg og humørfyldt koncert\, hvor genregrænser ophører og musikerskabet og sammenspillet står i centrum.\nI mere end 30 år har disse musikere som få andre spredt svensk folkemusik ikke bare i Sverige men rundt om i hele verden. Väsen for sig og Ale for sig. Nu gør de fælles sag og skaber musikglæde sammen!\n– ”Ale Möller var gæst hos Väsen på et udsolgt Reginateatern i Uppsala i april 2022\, og vi blev hurtigt enige om\, at vi måtte spille mere sammen. Nu gør vi det”! \n– Ale Möller er en international og meget anerkendt kunstner med stjernestatus\, ikke kun i Sverige men også på de store festivalscener rundt om i verden. Han er en legende og bliver også kaldt ”Svensk folkemusiks gudfar”. Er flere gange Grammyvinder og var i en årrække også adjungeret professor ved Syddansk Musikkonservatorium i Esbjerg.\nI februar i år fejredes Ale Möller for sine imponerende 50 år i musikkens tjeneste ved en række festlige koncerter og ikke mindst ved den store jubilæumskoncert på Stadsteatern i Stockholm d. 7. marts. \nAle Möller er en multi-instrumentalist og spiller en bred vifte af instrumenter\, fra bouzouki\, mandola til harmonika\, mundharmonika\, trompet\, fløjter\, dulcimer og kohorn.\nDet hele startede tilbage i ungdomsårene med trompeten og et stærkt forhold til jazzen\, voksede til et hedt kærlighedsforhold til græsk musik og fortsatte i et dybfølt forhold til den svenske folkemusik.\nHan bevæger sig på tværs af alle genrer og spiller foruden med Ale Möller Trio og Ale Möller Band i adskillige andre konstellationer\, og frem for alt er Ale Möller en musiker\, der arbejder sig helt ind i kernen af den traditionelle musik han møder\, det være sig en græsk rembetiko eller en stædig svensk polska: ”Jeg leder altid efter en lyd\, hvor en tone fortæller en historie. Man skal finde den rigtige tone og spille den”.  \n– Väsen har gennem mere end tre årtiers intenst sammenspil og tournéliv forfinet deres lyd og sceniske nærvær\, så de i dag er unikke indenfor deres genre. Med deres legende og perfekte samspil synes de næsten at trodse fysikkens love i en nærmest telepatisk kommunikation.  \nMusikken er intens\, dynamisk og fuld af humor. Ikke mindst ved hjælp af øjeblikkets inspiration skaber de deres eget musikalske sprog\, som i sin tiltrækningskraft er lige så moderne som ældgammel. Med fundamentet solidt forankret i generationer af upplandsk spillemands-tradition har de altid øjnene nysgerrigt rettet mod nye musikalske mål. \nNu drager de ud på eventyr blandt gamle fine spillemænd\, historier og traditionel musik. Med deres nye lyd og en række nye kompositioner betræder de nye stier. Til at hjælpe sig har de bl.a. sølvbasharpe\, oktavharpe\, tre-linjers nøgleharpe\, violoncello da spalla\, bratsch og også en blå elektrisk bratsch. \nOlov Johansson og Mikael Marin har spillet sammen siden 1983\, da de mødtes på Oktoberstämman i Uppsala og opdagede\, at de havde et stort fælles repertoire\, og ydermere at deres spillestil var meget lig hinanden. Det udsprang af\, at Micke havde lært af Ivar Tallroth i Uppsala og Olov af Curt Tallroth i Harbo\, som videregav fra den rige Bohlin/Tallroth-tradition. Olov og Mikael begyndte derefter at spille intensivt sammen og udgav i 1985 deres første udgivelse “Det rister i Örat”.\nDeres første fælles album ”Väsen Duo” udkom i sommeren 2021\, og det næste album ”Melliken” i marts 2023. Titlen er inspireret af spillemanden Per Persson Menlös från Hedesunda\, og flere af hans numre er med på indspilningen.
URL:https://folkalender.dk/arrangement/vasen-ale-moller-5/
LOCATION:Maskinhallen\, Frederikshavn\, Skolegade 8\, Frederikshavn\, 9900
CATEGORIES:Koncert
ATTACH;FMTTYPE=image/jpeg:https://folkalender.dk/wp-content/uploads/2023/02/vasen-ale-2023_1-Kopi-5-scaled.jpg
GEO:57.4421931;10.5359388
X-APPLE-STRUCTURED-LOCATION;VALUE=URI;X-ADDRESS=Maskinhallen Frederikshavn Skolegade 8 Frederikshavn 9900;X-APPLE-RADIUS=500;X-TITLE=Skolegade 8:geo:10.5359388,57.4421931
END:VEVENT
BEGIN:VEVENT
DTSTART;TZID=Europe/Helsinki:20230928T200000
DTEND;TZID=Europe/Helsinki:20230928T220000
DTSTAMP:20260422T222239
CREATED:20230826T110903Z
LAST-MODIFIED:20230826T111201Z
UID:6914-1695931200-1695938400@folkalender.dk
SUMMARY:Patricio Sullivan (Arg) - Intim koncert - Musikfestival Sonamos Latinoamerica
DESCRIPTION:Velkommen til den VII International Musikfestival Sonamos Latinoamerica! \nVi har i år den stor fornøjelse at præsentere Patricio Sullivan fra Argentina i sin første koncert i Danmark. Sullivan er i dag en af Charangos hovedreferenter i Latinamerika og Europa. Han er arrangør og komponist\, med en bred akademisk og populærmusikalsk formation.\nFødt i Buenos Aires deltog Patricio i de mest fremtrædende Charango-festivaler i Latinamerika\, i Sucre\, Potosí og Aiquile (Bolivia)\, Arequipa y Puno (Perú) og Cuenca (Ecuador). Blev i 2010 belønnet med Charango de Oro\, international priskategori ved XXVII Charango Fair and Festival (2019) i Aiquile\, Bolivia. \nHan blev også indkaldt ved flere lejligheder til at deltage som solist med synfoniske og strygeorkestre.\nHan har turneret i Europa i solo- og duoformat (2013\, 2015 og 2018) og besøgt flere byer for at optræde og deltage i didaktiske aktiviteter.\nVelkommen til en intim aften med en af de mest pragtfulde charango-spillere fra Latinamerika! \nDørene åbner kl. 19:30\nKoncerten starter kl. 20:00 \n—————————–\nENTRÉ: 100 kr. (+ gebyr) via Billetto.\nI døren: 150 kr. (Bemærk! Der er begrænset antal pladser)\n—————————– \nDer kan købes drikkevarer i baren. Overskuddet herfra går til Building Communities’ genskovningsarbejde i Guatemala. For hver fem kroner\, der indsamles\, planter kooperativet\, Vida y Esperanza\, et træ. Læs mere: www.buildingcommunities.dk\nFestivalen finder sted mellem d. 27. til d. 30. september 2023. \nFind hele programmet på: www.ckultura.org. \nSonamos Latinoamerica er en ramme hvor fortid\, nutid og fremtid i latinamerikansk folkemusik kommer til at mødes og blandes.\n—–\nOm festivalen\nFestivalen er en del af et international netværk af musikere som understøtter inspiration og udveksling musikerne imellem\, og nærer der igennem den latinamerikanske folkemusik.\nFestivalen Sonamos Latinoamerica CPH 2023 arrangeres af CkulturA i samarbejde med Cinemateket\, Union\, Metronomen\, Casa de la Guitarra\, Krudttønden og Building Communities.\nMed støtte af Københavns Kommune og Frederiksberg Fonden.
URL:https://folkalender.dk/arrangement/patricio-sullivan-arg-intim-koncert-musikfestival-sonamos-latinoamerica/
LOCATION:Casa de la Guitarra\, Østrigsgade 47\, Amager
CATEGORIES:Koncert
ATTACH;FMTTYPE=image/jpeg:https://folkalender.dk/wp-content/uploads/2023/08/img-web-patricio.jpg
ORGANIZER;CN="CkulturA":MAILTO:fm@ckultura.org
GEO:55.6629055;12.6156
X-APPLE-STRUCTURED-LOCATION;VALUE=URI;X-ADDRESS=Casa de la Guitarra Østrigsgade 47 Amager;X-APPLE-RADIUS=500;X-TITLE=Østrigsgade 47:geo:12.6156,55.6629055
END:VEVENT
END:VCALENDAR