BEGIN:VCALENDAR
VERSION:2.0
PRODID:-//Folkalender - ECPv6.10.1.1//NONSGML v1.0//EN
CALSCALE:GREGORIAN
METHOD:PUBLISH
X-WR-CALNAME:Folkalender
X-ORIGINAL-URL:https://folkalender.dk
X-WR-CALDESC:Begivenheder for Folkalender
REFRESH-INTERVAL;VALUE=DURATION:PT1H
X-Robots-Tag:noindex
X-PUBLISHED-TTL:PT1H
BEGIN:VTIMEZONE
TZID:Europe/Helsinki
BEGIN:DAYLIGHT
TZOFFSETFROM:+0200
TZOFFSETTO:+0300
TZNAME:EEST
DTSTART:20230326T010000
END:DAYLIGHT
BEGIN:STANDARD
TZOFFSETFROM:+0300
TZOFFSETTO:+0200
TZNAME:EET
DTSTART:20231029T010000
END:STANDARD
END:VTIMEZONE
BEGIN:VEVENT
DTSTART;TZID=Europe/Helsinki:20230923T140000
DTEND;TZID=Europe/Helsinki:20230924T000000
DTSTAMP:20260422T223823
CREATED:20230911T204736Z
LAST-MODIFIED:20230911T210019Z
UID:6991-1695477600-1695513600@folkalender.dk
SUMMARY:fødselsdagsamok – 10 års fødselsdagsfest
DESCRIPTION:FOLKAMOK fylder 10 år.\nDet fejrer vi ved at invitere til et kæmpe FØDSELSDAGSAMOK!\nEn endagsfestival med masser af koncerter og fødselsdagsløjer.\nDet hele finder sted på URBAN 13\, Bispeengen 20\,2000 Frederiksberg\nAf bands kan man nævne:\nCarol Supreme\nBreydablik\nDragkroka\nMeyer&Hermansen\nKragetær\nHemmeligt balorkester\nDer vil være fødselsdagsfemkamp\, lagkage\, gøgl\, jam og danseworkshops\, samt mulighed for at købe mad og drikke.\nDagsbillet – fra 14:00 til 20:30 pris 125kr.\nHeldagsbillet – fra 14:00 til 24:00 pris 240kr.\nBørn under 12år er gratis fra 14:00-20:30
URL:https://folkalender.dk/arrangement/foedselsdagsamok-10-aars-foedselsdagsfest/
LOCATION:URBAN13\, Under Bispeengbuen\, Bispeengen 20\, Frederiksberg\, 2000
CATEGORIES:Bal,Festival,Jam,Koncert
ATTACH;FMTTYPE=image/png:https://folkalender.dk/wp-content/uploads/2023/09/FA¸dselsdagsamok_5.png
GEO:55.6938169;12.5352098
X-APPLE-STRUCTURED-LOCATION;VALUE=URI;X-ADDRESS=URBAN13 Under Bispeengbuen Bispeengen 20 Frederiksberg 2000;X-APPLE-RADIUS=500;X-TITLE=Under Bispeengbuen\, Bispeengen 20:geo:12.5352098,55.6938169
END:VEVENT
BEGIN:VEVENT
DTSTART;TZID=Europe/Helsinki:20230923T190000
DTEND;TZID=Europe/Helsinki:20230923T230000
DTSTAMP:20260422T223823
CREATED:20230905T153413Z
LAST-MODIFIED:20230905T154119Z
UID:6948-1695495600-1695510000@folkalender.dk
SUMMARY:Septemberbal med Svøbsk
DESCRIPTION:Svøbsk er forførende folkemusik med en klang af tidløshed.\nNår man hører Maren Hallberg og Jørgen Dickmeiss spille\, fornemmer man det tætte forhold der er til stede\, når to mennesker er samlet om en fælles skæbne.\nDe skaber en fortryllende stemning med sjæl og dyb indlevelse og spiller tæt sammenflettet som i den traditionelle pardans\nfra hvilken\, de har taget deres navn – Svøbsk.\nDeres lyse og artikulerede musik er rodfæstet i den blomstrende arv af traditionel musik fra Danmark og de omkringliggende lande.\nSvøbsk er:\nMaren Hallberg: Harmonika\, Skeer\nJørgen Dickmeiss: Violin\, Vokal\, Mandolin\, Guitar\, Jødeharpe\, Mundharmonika
URL:https://folkalender.dk/arrangement/septemberbal-med-svoebsk/
LOCATION:Trekanten\, Sebbersundvej 2A\, 9220 Aalborg Ø
CATEGORIES:Bal
ATTACH;FMTTYPE=image/jpeg:https://folkalender.dk/wp-content/uploads/2023/09/Svoebsk-scaled.jpg
ORGANIZER;CN="Aalborg Danse- og Spillemandslaug":MAILTO:oleugiltlarsen@outlook.dk
END:VEVENT
BEGIN:VEVENT
DTSTART;TZID=Europe/Helsinki:20230923T193000
DTEND;TZID=Europe/Helsinki:20230923T220000
DTSTAMP:20260422T223823
CREATED:20230814T205526Z
LAST-MODIFIED:20230814T210758Z
UID:6795-1695497400-1695506400@folkalender.dk
SUMMARY:"Himmerland" - på International Folkemusikdag
DESCRIPTION:Himmerland turnerer i disse år i store dele af verden med ny musik\, komponeret af fem markante og særdeles erfarne musikere og komponister med baggrund i meget forskellige genrer\, traditioner og kulturer.\nOveralt hvor bandet kommer frem spreder de glæde og tryllebinder deres publikum\, med deres helt unikke blanding af gamle danske ballader\, forrygende fiddle tunes\, ekvillibristiske improvisationer\, og ny fascinerende musik komponeret og arrangeret af bandets medlemmer.\nIrske Nuala Kennedy og Donald Hay fra Skotland har især indgået i bandets line up under en række turnèer og festivaler på New Zealand\, Italien\, Canada og i England og Skotland.\nBandet har turneret i store dele af verden på festivaller\, musikteatre og klubber\, og Himmerland har arbejdet tæt sammen med en række musikere som de har mødt på turneerne i udlandet.\nMusikere:\nKirstine Haugaasrd Sand\, Eskil Romme\, Jens Ulvsand\,\nJonatan Ahlbom\, Donald Hay\, Nuala Kennedy
URL:https://folkalender.dk/arrangement/himmerland-paa-international-folkemusikdag/
LOCATION:Kulturhotellet\, Hovedgaden 10\, Rønde\, 8410\, Danmark
CATEGORIES:Koncert
ATTACH;FMTTYPE=image/jpeg:https://folkalender.dk/wp-content/uploads/2023/08/Himmerland.jpg
ORGANIZER;CN="Musikforeningen Musik-i-R%C3%B8nde":MAILTO:mir@musikiroende.dk
GEO:56.3001173;10.4793889
X-APPLE-STRUCTURED-LOCATION;VALUE=URI;X-ADDRESS=Kulturhotellet Hovedgaden 10 Rønde 8410 Danmark;X-APPLE-RADIUS=500;X-TITLE=Hovedgaden 10:geo:10.4793889,56.3001173
END:VEVENT
BEGIN:VEVENT
DTSTART;TZID=Europe/Helsinki:20230923T200000
DTEND;TZID=Europe/Helsinki:20230923T220000
DTSTAMP:20260422T223823
CREATED:20230216T090028Z
LAST-MODIFIED:20230819T084016Z
UID:5774-1695499200-1695506400@folkalender.dk
SUMMARY:Väsen & Ale Möller – et unikt møde!
DESCRIPTION:Multiinstrumentalisten Ale Möller møder Väsen\, Olov Johansson og Mikael Marin\, i et repertoire af nykomponeret og traditionel musik. Det bliver en meget legesyg og humørfyldt koncert\, hvor genregrænser ophører og musikerskabet og sammenspillet står i centrum.\nI mere end 30 år har disse musikere som få andre spredt svensk folkemusik ikke bare i Sverige men rundt om i hele verden. Väsen for sig og Ale for sig. Nu gør de fælles sag og skaber musikglæde sammen!\n– ”Ale Möller var gæst hos Väsen på et udsolgt Reginateatern i Uppsala i april 2022\, og vi blev hurtigt enige om\, at vi måtte spille mere sammen. Nu gør vi det”! \n– Ale Möller er en international og meget anerkendt kunstner med stjernestatus\, ikke kun i Sverige men også på de store festivalscener rundt om i verden. Han er en legende og bliver også kaldt ”Svensk folkemusiks gudfar”. Er flere gange Grammyvinder og var i en årrække også adjungeret professor ved Syddansk Musikkonservatorium i Esbjerg.\nI februar i år fejredes Ale Möller for sine imponerende 50 år i musikkens tjeneste ved en række festlige koncerter og ikke mindst ved den store jubilæumskoncert på Stadsteatern i Stockholm d. 7. marts. \nAle Möller er en multi-instrumentalist og spiller en bred vifte af instrumenter\, fra bouzouki\, mandola til harmonika\, mundharmonika\, trompet\, fløjter\, dulcimer og kohorn.\nDet hele startede tilbage i ungdomsårene med trompeten og et stærkt forhold til jazzen\, voksede til et hedt kærlighedsforhold til græsk musik og fortsatte i et dybfølt forhold til den svenske folkemusik.\nHan bevæger sig på tværs af alle genrer og spiller foruden med Ale Möller Trio og Ale Möller Band i adskillige andre konstellationer\, og frem for alt er Ale Möller en musiker\, der arbejder sig helt ind i kernen af den traditionelle musik han møder\, det være sig en græsk rembetiko eller en stædig svensk polska: ”Jeg leder altid efter en lyd\, hvor en tone fortæller en historie. Man skal finde den rigtige tone og spille den”.  \n– Väsen har gennem mere end tre årtiers intenst sammenspil og tournéliv forfinet deres lyd og sceniske nærvær\, så de i dag er unikke indenfor deres genre. Med deres legende og perfekte samspil synes de næsten at trodse fysikkens love i en nærmest telepatisk kommunikation.  \nMusikken er intens\, dynamisk og fuld af humor. Ikke mindst ved hjælp af øjeblikkets inspiration skaber de deres eget musikalske sprog\, som i sin tiltrækningskraft er lige så moderne som ældgammel. Med fundamentet solidt forankret i generationer af upplandsk spillemands-tradition har de altid øjnene nysgerrigt rettet mod nye musikalske mål. \nNu drager de ud på eventyr blandt gamle fine spillemænd\, historier og traditionel musik. Med deres nye lyd og en række nye kompositioner betræder de nye stier. Til at hjælpe sig har de bl.a. sølvbasharpe\, oktavharpe\, tre-linjers nøgleharpe\, violoncello da spalla\, bratsch og også en blå elektrisk bratsch. \nOlov Johansson og Mikael Marin har spillet sammen siden 1983\, da de mødtes på Oktoberstämman i Uppsala og opdagede\, at de havde et stort fælles repertoire\, og ydermere at deres spillestil var meget lig hinanden. Det udsprang af\, at Micke havde lært af Ivar Tallroth i Uppsala og Olov af Curt Tallroth i Harbo\, som videregav fra den rige Bohlin/Tallroth-tradition. Olov og Mikael begyndte derefter at spille intensivt sammen og udgav i 1985 deres første udgivelse “Det rister i Örat”.\nDeres første fælles album ”Väsen Duo” udkom i sommeren 2021\, og det næste album ”Melliken” i marts 2023. Titlen er inspireret af spillemanden Per Persson Menlös från Hedesunda\, og flere af hans numre er med på indspilningen.
URL:https://folkalender.dk/arrangement/vasen-ale-moller/
LOCATION:Generator\, Kastengevej 3\, Ringkøbing\, 6950
CATEGORIES:Koncert
ATTACH;FMTTYPE=image/jpeg:https://folkalender.dk/wp-content/uploads/2023/02/vasen-ale-2023_1-Kopi-scaled.jpg
ORGANIZER;CN="Generator":MAILTO:info@spillestedet-generator.dk
GEO:56.0949691;8.2463432
X-APPLE-STRUCTURED-LOCATION;VALUE=URI;X-ADDRESS=Generator Kastengevej 3 Ringkøbing 6950;X-APPLE-RADIUS=500;X-TITLE=Kastengevej 3:geo:8.2463432,56.0949691
END:VEVENT
END:VCALENDAR