BEGIN:VCALENDAR
VERSION:2.0
PRODID:-//Folkalender - ECPv6.10.1.1//NONSGML v1.0//EN
CALSCALE:GREGORIAN
METHOD:PUBLISH
X-WR-CALNAME:Folkalender
X-ORIGINAL-URL:https://folkalender.dk
X-WR-CALDESC:Begivenheder for Folkalender
REFRESH-INTERVAL;VALUE=DURATION:PT1H
X-Robots-Tag:noindex
X-PUBLISHED-TTL:PT1H
BEGIN:VTIMEZONE
TZID:Europe/Helsinki
BEGIN:DAYLIGHT
TZOFFSETFROM:+0200
TZOFFSETTO:+0300
TZNAME:EEST
DTSTART:20230326T010000
END:DAYLIGHT
BEGIN:STANDARD
TZOFFSETFROM:+0300
TZOFFSETTO:+0200
TZNAME:EET
DTSTART:20231029T010000
END:STANDARD
END:VTIMEZONE
BEGIN:VEVENT
DTSTART;TZID=Europe/Helsinki:20230922T193000
DTEND;TZID=Europe/Helsinki:20230922T223000
DTSTAMP:20260422T233234
CREATED:20221227T142610Z
LAST-MODIFIED:20221227T143400Z
UID:5199-1695411000-1695421800@folkalender.dk
SUMMARY:Mads Hansens Kapel
DESCRIPTION:Martin Strange Lorenzen\, Jonas Lærke Clausen\, Emil Ringtved Nielsen\, Sebastian Boesgaard Bloch og Julian Svejgaard Jørgensen er Mads Hansens Kapel. Arrangementet er støttet af Odense Musikudvalg  Kunststyrelsen og Marie Rasmussens Fond
URL:https://folkalender.dk/arrangement/mads-hansens-kapel/
LOCATION:Kulturmaskinen Odense\, Farvergården 7\, Odense\, 5000
CATEGORIES:Bal
GEO:55.3955926;10.3808671
X-APPLE-STRUCTURED-LOCATION;VALUE=URI;X-ADDRESS=Kulturmaskinen Odense Farvergården 7 Odense 5000;X-APPLE-RADIUS=500;X-TITLE=Farvergården 7:geo:10.3808671,55.3955926
END:VEVENT
BEGIN:VEVENT
DTSTART;TZID=Europe/Helsinki:20230922T193000
DTEND;TZID=Europe/Helsinki:20230922T230000
DTSTAMP:20260422T233234
CREATED:20230817T104621Z
LAST-MODIFIED:20230817T110519Z
UID:6821-1695411000-1695423600@folkalender.dk
SUMMARY:Bal med Anja Præst Trio
DESCRIPTION:De tre musikere Anja Præst (klarinet)\, Jesper Vinther (harmonika) og Peter Sejersen (kontrabas) har kendt hinanden i mange år og nyder helt tydeligt at spille sammen og gør det med stor nerve\, indlevelse og humor. Det hele bindes sammen af Anjas historier om musikkens tilblivelse og sit møde med ”Loven om tiltrækning”.\nMens Anja gik på Folkemusiklinjen på Musikkonservatoriet (dengang i Odense)\, lavede hun et projekt om spillemanden Gunnar Jensen (1907-1985) fra Skælskør\, og det bliver hovedsagelig hans musik og de tilhørende danse\, som aftenen omhandler.\nOg i 2016 blive hun udnævnt som Rigsspillemand i traditionen efter netop Gunnar Jensen.\nAfholdes i rytmiksalen på Ellemarkskolen\, Gymnasievej 10\, 4600 Køge\nArrangementet er støttet af Køge Kommune og Statens Kunstråd.
URL:https://folkalender.dk/arrangement/bal-med-anja-praest-trio/
LOCATION:Ellemarkskolen\, Gymnasievej 10\, Køge\, 4600
CATEGORIES:Bal
ATTACH;FMTTYPE=image/jpeg:https://folkalender.dk/wp-content/uploads/2023/08/anjapraest_1600.jpg
ORGANIZER;CN="K&oslash%3Bge Spillemandsforening":MAILTO:webmaster@koegespillemand.dk
GEO:55.454587;12.1643207
X-APPLE-STRUCTURED-LOCATION;VALUE=URI;X-ADDRESS=Ellemarkskolen Gymnasievej 10 Køge 4600;X-APPLE-RADIUS=500;X-TITLE=Gymnasievej 10:geo:12.1643207,55.454587
END:VEVENT
BEGIN:VEVENT
DTSTART;TZID=Europe/Helsinki:20230922T193000
DTEND;TZID=Europe/Helsinki:20230922T230000
DTSTAMP:20260422T233234
CREATED:20230918T160711Z
LAST-MODIFIED:20230918T160956Z
UID:7037-1695411000-1695423600@folkalender.dk
SUMMARY:Bal med Ribe Danse- og Spillemandslaug
DESCRIPTION:Der vil blive instrueret i dansene efter behov så kom frit frem både nybegyndere og øvede. Midt på aftenen drikker vi kaffe og spiser hjemmebagt kage.\nI kaffepausen kan der være forskelligt underholdning så som\, fælles sang\, div. solooptræden med musik eller sang og historie fortælling mm.\nKom og vær med til en glad aften.
URL:https://folkalender.dk/arrangement/bal-med-ribe-danse-og-spillemandslaug-4/
LOCATION:Rosen Alle 3\, 6760 Ribe\, Rosen Alle 3\, Ribe\, 6760
CATEGORIES:Bal
ATTACH;FMTTYPE=image/jpeg:https://folkalender.dk/wp-content/uploads/2023/09/Logo_Ribelaug.jpg
ORGANIZER;CN="Ribe Danse- og Spillemandslaug":MAILTO:ribelaug@gmail.com
GEO:55.3285578;8.7700979
X-APPLE-STRUCTURED-LOCATION;VALUE=URI;X-ADDRESS=Rosen Alle 3 6760 Ribe Rosen Alle 3 Ribe 6760;X-APPLE-RADIUS=500;X-TITLE=Rosen Alle 3:geo:8.7700979,55.3285578
END:VEVENT
BEGIN:VEVENT
DTSTART;TZID=Europe/Helsinki:20230922T200000
DTEND;TZID=Europe/Helsinki:20230922T220000
DTSTAMP:20260422T233234
CREATED:20230216T090313Z
LAST-MODIFIED:20230908T153823Z
UID:5777-1695412800-1695420000@folkalender.dk
SUMMARY:Väsen & Ale Möller – et unikt møde!
DESCRIPTION:(Billetter kr. 150 på tlf. 2287 1053 / Tilkøb af 2 retters menu kr. 150) \nMultiinstrumentalisten Ale Möller møder Väsen\, Olov Johansson og Mikael Marin\, i et repertoire af nykomponeret og traditionel musik. Det bliver en meget legesyg og humørfyldt koncert\, hvor genregrænser ophører og musikerskabet og sammenspillet står i centrum.\nI mere end 30 år har disse musikere som få andre spredt svensk folkemusik ikke bare i Sverige men rundt om i hele verden. Väsen for sig og Ale for sig. Nu gør de fælles sag og skaber musikglæde sammen!\n– ”Ale Möller var gæst hos Väsen på et udsolgt Reginateatern i Uppsala i april 2022\, og vi blev hurtigt enige om\, at vi måtte spille mere sammen. Nu gør vi det”! \n– Ale Möller er en international og meget anerkendt kunstner med stjernestatus\, ikke kun i Sverige men også på de store festivalscener rundt om i verden. Han er en legende og bliver også kaldt ”Svensk folkemusiks gudfar”. Er flere gange Grammyvinder og var i en årrække også adjungeret professor ved Syddansk Musikkonservatorium i Esbjerg.\nI februar i år fejredes Ale Möller for sine imponerende 50 år i musikkens tjeneste ved en række festlige koncerter og ikke mindst ved den store jubilæumskoncert på Stadsteatern i Stockholm d. 7. marts. \nAle Möller er en multi-instrumentalist og spiller en bred vifte af instrumenter\, fra bouzouki\, mandola til harmonika\, mundharmonika\, trompet\, fløjter\, dulcimer og kohorn.\nDet hele startede tilbage i ungdomsårene med trompeten og et stærkt forhold til jazzen\, voksede til et hedt kærlighedsforhold til græsk musik og fortsatte i et dybfølt forhold til den svenske folkemusik.\nHan bevæger sig på tværs af alle genrer og spiller foruden med Ale Möller Trio og Ale Möller Band i adskillige andre konstellationer\, og frem for alt er Ale Möller en musiker\, der arbejder sig helt ind i kernen af den traditionelle musik han møder\, det være sig en græsk rembetiko eller en stædig svensk polska: ”Jeg leder altid efter en lyd\, hvor en tone fortæller en historie. Man skal finde den rigtige tone og spille den”.  \n– Väsen har gennem mere end tre årtiers intenst sammenspil og tournéliv forfinet deres lyd og sceniske nærvær\, så de i dag er unikke indenfor deres genre. Med deres legende og perfekte samspil synes de næsten at trodse fysikkens love i en nærmest telepatisk kommunikation.  \nMusikken er intens\, dynamisk og fuld af humor. Ikke mindst ved hjælp af øjeblikkets inspiration skaber de deres eget musikalske sprog\, som i sin tiltrækningskraft er lige så moderne som ældgammel. Med fundamentet solidt forankret i generationer af upplandsk spillemands-tradition har de altid øjnene nysgerrigt rettet mod nye musikalske mål. \nNu drager de ud på eventyr blandt gamle fine spillemænd\, historier og traditionel musik. Med deres nye lyd og en række nye kompositioner betræder de nye stier. Til at hjælpe sig har de bl.a. sølvbasharpe\, oktavharpe\, tre-linjers nøgleharpe\, violoncello da spalla\, bratsch og også en blå elektrisk bratsch. \nOlov Johansson og Mikael Marin har spillet sammen siden 1983\, da de mødtes på Oktoberstämman i Uppsala og opdagede\, at de havde et stort fælles repertoire\, og ydermere at deres spillestil var meget lig hinanden. Det udsprang af\, at Micke havde lært af Ivar Tallroth i Uppsala og Olov af Curt Tallroth i Harbo\, som videregav fra den rige Bohlin/Tallroth-tradition. Olov og Mikael begyndte derefter at spille intensivt sammen og udgav i 1985 deres første udgivelse “Det rister i Örat”.\nDeres første fælles album ”Väsen Duo” udkom i sommeren 2021\, og det næste album ”Melliken” i marts 2023. Titlen er inspireret af spillemanden Per Persson Menlös från Hedesunda\, og flere af hans numre er med på indspilningen.
URL:https://folkalender.dk/arrangement/vasen-ale-moller-2/
LOCATION:Thorøhuse Forsamlingshus\, Drejet 7\, Assens\, 5610
CATEGORIES:Koncert
ATTACH;FMTTYPE=image/jpeg:https://folkalender.dk/wp-content/uploads/2023/02/vasen-ale-2023_1-Kopi-1-scaled.jpg
GEO:55.2440877;9.8930038
X-APPLE-STRUCTURED-LOCATION;VALUE=URI;X-ADDRESS=Thorøhuse Forsamlingshus Drejet 7 Assens 5610;X-APPLE-RADIUS=500;X-TITLE=Drejet 7:geo:9.8930038,55.2440877
END:VEVENT
BEGIN:VEVENT
DTSTART;TZID=Europe/Helsinki:20230922T200000
DTEND;TZID=Europe/Helsinki:20230922T220000
DTSTAMP:20260422T233234
CREATED:20230619T082712Z
LAST-MODIFIED:20230619T082841Z
UID:6518-1695412800-1695420000@folkalender.dk
SUMMARY:Perry Stenbäck & Dekadans
DESCRIPTION:Perry Stenbäck & Dekadans – Moderne viser på svensk (perrystenback.com) \nBandet tager den nordiske sangskrivertradition under kærlig behandling med\, foruden Perry’s egne sange\, viser af bl.a Cornelis Vreeswijk\, Evert Taube\, Dan Andersson\, Myhre/Hovland og Sebastian.\nPerry Stenbäck: Vocal\, guitarer\nUlrika Rosdahl: Kor\, Percussion\nChristine Dueholm: Trommer\, kor\nJan Hansen: Keyboard\, harmonika\, kor\nHenrik Kunz: Kontrabas\, kor \nDer spilles 2 sæt á 45 min.
URL:https://folkalender.dk/arrangement/perry-stenback-dekadans-5/
LOCATION:Hagge´s Musik Pub\, Vestergade 80\, Tønder\, 6270
CATEGORIES:Koncert
ATTACH;FMTTYPE=image/jpeg:https://folkalender.dk/wp-content/uploads/2023/06/Perry-Stenback-Dekadans-2-3.jpg
GEO:54.9349548;8.8626856
X-APPLE-STRUCTURED-LOCATION;VALUE=URI;X-ADDRESS=Hagge´s Musik Pub Vestergade 80 Tønder 6270;X-APPLE-RADIUS=500;X-TITLE=Vestergade 80:geo:8.8626856,54.9349548
END:VEVENT
END:VCALENDAR