BEGIN:VCALENDAR
VERSION:2.0
PRODID:-//Folkalender - ECPv6.10.1.1//NONSGML v1.0//EN
CALSCALE:GREGORIAN
METHOD:PUBLISH
X-WR-CALNAME:Folkalender
X-ORIGINAL-URL:https://folkalender.dk
X-WR-CALDESC:Begivenheder for Folkalender
REFRESH-INTERVAL;VALUE=DURATION:PT1H
X-Robots-Tag:noindex
X-PUBLISHED-TTL:PT1H
BEGIN:VTIMEZONE
TZID:Europe/Helsinki
BEGIN:DAYLIGHT
TZOFFSETFROM:+0200
TZOFFSETTO:+0300
TZNAME:EEST
DTSTART:20230326T010000
END:DAYLIGHT
BEGIN:STANDARD
TZOFFSETFROM:+0300
TZOFFSETTO:+0200
TZNAME:EET
DTSTART:20231029T010000
END:STANDARD
END:VTIMEZONE
BEGIN:VEVENT
DTSTART;TZID=Europe/Helsinki:20230921T193000
DTEND;TZID=Europe/Helsinki:20230921T193000
DTSTAMP:20260422T233203
CREATED:20230909T204706Z
LAST-MODIFIED:20230909T204826Z
UID:6971-1695324600-1695324600@folkalender.dk
SUMMARY:Mirja Klippel
DESCRIPTION:Med en stor stemme\, et inderligt klangunivers og en sans for at skrive sange\, der forbinder personlige erfaringer med billeder fra den nordiske natur\, har den finske sangskriver og sanger markeret sig som et særlig talent på den alternative folk-scene. \nAllerede hendes debut-EP Lift Your Lion (2016) indbragte den københavner-baserede musiker en Danish Music Award Folk som Årets Sangskriver. Siden har hun turneret flittigt i Danmark\, såvel som resten af Europa og Nordatlanten\, ligesom hun i 2018 udsendte det roste fuldlængde-album River of Silver. Hendes seneste album\, Slow Coming Alive\, fik tre nominationer ved Danish Music Awards Roots i 2021. \nMed dette album føjer Klippel atter nye nuancer til sin alternative og poetiske folk og fortsætter med at udvide dybderne og højderne i sin sangskrivning. Med sin faste medmusiker Alex Jønsson\, drager hun publikum ind i et organisk og atmosfærisk univers\, hvor personlige erfaringer åbner op for psykologiske dybder\, og hvor intime rum går hånd i hånd med rå og vilde landskaber. \nLine up:\nMirja Klippel: sang\, guitar & waldzither\nAlex Jønsson: guitar\, kor
URL:https://folkalender.dk/arrangement/mirja-klippel-10/
LOCATION:Bovbjerg Fyr\, Fyrvej 27\, Lemvig\, 7620
CATEGORIES:Koncert
ATTACH;FMTTYPE=image/jpeg:https://folkalender.dk/wp-content/uploads/2023/09/folkalender.jpg
GEO:56.513084;8.119894
X-APPLE-STRUCTURED-LOCATION;VALUE=URI;X-ADDRESS=Bovbjerg Fyr Fyrvej 27 Lemvig 7620;X-APPLE-RADIUS=500;X-TITLE=Fyrvej 27:geo:8.119894,56.513084
END:VEVENT
BEGIN:VEVENT
DTSTART;TZID=Europe/Helsinki:20230921T193000
DTEND;TZID=Europe/Helsinki:20230921T213000
DTSTAMP:20260422T233203
CREATED:20230824T084417Z
LAST-MODIFIED:20230824T085728Z
UID:6846-1695324600-1695331800@folkalender.dk
SUMMARY:Svøbsk fylder 20 år
DESCRIPTION:For 20 år siden spillede de deres første offentlige koncerter under navnet Svøbsk – på så eksotiske steder som Grønland\, Bornholm\, Århus og selvfølgelig temmelig mange forskellige steder på Fyn\, hvor de havde og fortsat har deres base. Meget vand er løbet gennem åen siden\, og mangt et Svøbsk-eventyr har udspillet sig. Mest herhjemme\, men også i hele Europa\, Indien og Canada. De er aldrig gået af vejen for et eventyr og har ihærdigt holdt skruen i vandet. Deres koncept har vist sig bæredygtigt med at løfte arven fra fordums spillemænd og -kvinder i en balancegang mellem tradition og fornyelse. \nDe har igennem årene haft mange fantastiske musikalske samarbejdspartnere ikke mindst Simon Busk og Theis Langlands\, som de spiller med i Svøbsk Kvartet. Her i jubilæumsåret udgiver de ”Sorgenfri” – et jubilæumsalbum hvor de går tilbage til udgangspunktet fra deres første album – to musikere samlet om en fælles lidenskab og forenet i et skæbnefællesskab. Albummet er deres 6. album udgivelse og udkom 30. april 2023 – hvor det præcis er 20 år siden de spillede første gang.\n\,
URL:https://folkalender.dk/arrangement/svoebsk-fylder-20-aar/
LOCATION:Snedsted Sognegård\, Snedstedvej 138\, Snedsted\, 7752 Snedsted
CATEGORIES:Koncert
ATTACH;FMTTYPE=image/jpeg:https://folkalender.dk/wp-content/uploads/2023/08/Svoebsk-1.jpg
GEO:56.8942273;8.5406984
X-APPLE-STRUCTURED-LOCATION;VALUE=URI;X-ADDRESS=Snedsted Sognegård Snedstedvej 138 Snedsted 7752 Snedsted;X-APPLE-RADIUS=500;X-TITLE=Snedstedvej 138:geo:8.5406984,56.8942273
END:VEVENT
END:VCALENDAR