BEGIN:VCALENDAR
VERSION:2.0
PRODID:-//Folkalender - ECPv6.10.1.1//NONSGML v1.0//EN
CALSCALE:GREGORIAN
METHOD:PUBLISH
X-WR-CALNAME:Folkalender
X-ORIGINAL-URL:https://folkalender.dk
X-WR-CALDESC:Begivenheder for Folkalender
REFRESH-INTERVAL;VALUE=DURATION:PT1H
X-Robots-Tag:noindex
X-PUBLISHED-TTL:PT1H
BEGIN:VTIMEZONE
TZID:Europe/Helsinki
BEGIN:DAYLIGHT
TZOFFSETFROM:+0200
TZOFFSETTO:+0300
TZNAME:EEST
DTSTART:20230326T010000
END:DAYLIGHT
BEGIN:STANDARD
TZOFFSETFROM:+0300
TZOFFSETTO:+0200
TZNAME:EET
DTSTART:20231029T010000
END:STANDARD
END:VTIMEZONE
BEGIN:VEVENT
DTSTART;TZID=Europe/Helsinki:20230914T193000
DTEND;TZID=Europe/Helsinki:20230914T213000
DTSTAMP:20260422T233159
CREATED:20230417T143535Z
LAST-MODIFIED:20230417T143535Z
UID:6183-1694719800-1694727000@folkalender.dk
SUMMARY:Morten Alfred & Vingården i Metronomen
DESCRIPTION:Vingårdens musik tager udgangspunkt i den prisbelønnede guitarist Morten Alfred Høirups nodebog\, ’Ingela’s Waltz – 25 New Danish Folk Melodies’\, som udkom i sommeren 2022\, og i musik som de tre musikere skriver sammen.  \nMusikken til nodebogen har Høirup komponeret i løbet af de seneste 25 år\, de nyeste så sent som i 2020\, og mange af melodierne er blevet spillet og videreudviklet på spillesteder og festivaler i store dele af verden. Høirup modtog i 2004 en Danish Music Award i kategorien ’Årets Danske Folk Komponist’. \nI trioen Morten Alfred & Vingården forarbejdes og forædles både ældre og velmodnede kompositioner og perlende friske melodier. Efterfølgende deles musikken og sangene i samspil med publikum til såvel koncert som dans. \nRedskaberne på Vingården er sopran- og barytonsaxofon\, violin\, mundharmonika og guitar\, og musikken er præget af de medvirkende musikeres baggrund i genrer som Barok musik\, Jazz\, Folkemusik\, Kirkemusik\, Balkan\, Skiffle\, Bryllupsmusik og meget mere.
URL:https://folkalender.dk/arrangement/morten-alfred-vingaarden-i-metronomen/
LOCATION:Metronomen\, Godthåbsvej 33\, Frederiksberg\, 2000
CATEGORIES:Koncert
ATTACH;FMTTYPE=image/jpeg:https://folkalender.dk/wp-content/uploads/2023/04/IMG_3691-3-scaled.jpg
ORGANIZER;CN="Between Your Ears Productions":MAILTO:mortenalfred@gmail.com
GEO:55.6860703;12.5334068
X-APPLE-STRUCTURED-LOCATION;VALUE=URI;X-ADDRESS=Metronomen Godthåbsvej 33 Frederiksberg 2000;X-APPLE-RADIUS=500;X-TITLE=Godthåbsvej 33:geo:12.5334068,55.6860703
END:VEVENT
BEGIN:VEVENT
DTSTART;TZID=Europe/Helsinki:20230914T200000
DTEND;TZID=Europe/Helsinki:20230914T200000
DTSTAMP:20260422T233159
CREATED:20230807T123101Z
LAST-MODIFIED:20230807T123202Z
UID:6740-1694721600-1694721600@folkalender.dk
SUMMARY:Mirja Klippel feat. Vesselil
DESCRIPTION:Med en stor stemme\, et inderligt klangunivers og en sans for at skrive sange\, der forbinder personlige erfaringer med billeder fra den nordiske natur\, har den finske sangskriver og sanger markeret sig som et særlig talent på den alternative folk-scene. \nAllerede hendes debut-EP Lift Your Lion (2016) indbragte den københavner-baserede musiker en Danish Music Award Folk som Årets Sangskriver. Siden har hun turneret flittigt i Danmark\, såvel som resten af Europa og Nordatlanten\, ligesom hun i 2018 udsendte det roste fuldlængde-album River of Silver. Hendes seneste album\, Slow Coming Alive\, fik tre nominationer ved Danish Music Awards Roots i 2021. \nMed dette album føjer Klippel atter nye nuancer til sin alternative og poetiske folk og fortsætter med at udvide dybderne og højderne i sin sangskrivning. Med sin faste medmusiker Alex Jønsson\, drager hun publikum ind i et organisk og atmosfærisk univers\, hvor personlige erfaringer åbner op for psykologiske dybder\, og hvor intime rum går hånd i hånd med rå og vilde landskaber. \nLine up:\nMirja Klippel: sang\, guitar & waldzither\nAlex Jønsson: guitar\, kor \nVesselil\nClara Tesch – violin\, brastch\, & sang\nElisabeth Dichmann – violin & sang\nMaja Aarøe Freese – femstrenget cello & sang
URL:https://folkalender.dk/arrangement/mirja-klippel-feat-vesselil-6/
LOCATION:Kulturcenter Jammerbugt\, Søparken 2\, Aabybro\, 9440
CATEGORIES:Koncert
ATTACH;FMTTYPE=image/jpeg:https://folkalender.dk/wp-content/uploads/2023/08/folkalender-1.jpg
GEO:57.1516602;9.7378472
X-APPLE-STRUCTURED-LOCATION;VALUE=URI;X-ADDRESS=Kulturcenter Jammerbugt Søparken 2 Aabybro 9440;X-APPLE-RADIUS=500;X-TITLE=Søparken 2:geo:9.7378472,57.1516602
END:VEVENT
END:VCALENDAR