BEGIN:VCALENDAR
VERSION:2.0
PRODID:-//Folkalender - ECPv6.10.1.1//NONSGML v1.0//EN
CALSCALE:GREGORIAN
METHOD:PUBLISH
X-ORIGINAL-URL:https://folkalender.dk
X-WR-CALDESC:Begivenheder for Folkalender
REFRESH-INTERVAL;VALUE=DURATION:PT1H
X-Robots-Tag:noindex
X-PUBLISHED-TTL:PT1H
BEGIN:VTIMEZONE
TZID:Europe/Helsinki
BEGIN:DAYLIGHT
TZOFFSETFROM:+0200
TZOFFSETTO:+0300
TZNAME:EEST
DTSTART:20230326T010000
END:DAYLIGHT
BEGIN:STANDARD
TZOFFSETFROM:+0300
TZOFFSETTO:+0200
TZNAME:EET
DTSTART:20231029T010000
END:STANDARD
END:VTIMEZONE
BEGIN:VEVENT
DTSTART;TZID=Europe/Helsinki:20230901T200000
DTEND;TZID=Europe/Helsinki:20230901T214500
DTSTAMP:20260422T194559
CREATED:20230619T080255Z
LAST-MODIFIED:20230814T111730Z
UID:6512-1693598400-1693604700@folkalender.dk
SUMMARY:Perry Stenbäck & Dekadans
DESCRIPTION:Perry Stenbäck & Dekadans – Moderne viser på svensk (perrystenback.com) \nBandet tager den nordiske sangskrivertradition under kærlig behandling med\, foruden Perry’s egne sange\, viser af bl.a Cornelis Vreeswijk\, Evert Taube\, Dan Andersson\, Myhre/Hovland og Sebastian.\nPerry Stenbäck: Vocal\, guitarer\nUlrika Rosdahl: Kor\, Percussion\nChristine Dueholm: Trommer\, kor\nJan Hansen: Keyboard\, harmonika\, kor\nHenrik Kunz: Kontrabas\, kor \nDer spilles 2 sæt á 45 min.
URL:https://folkalender.dk/arrangement/perry-stenback-dekadans-3/
LOCATION:Musikhuset Dexter\, Vindegade 65\, Odense\, 5000
CATEGORIES:Koncert
ATTACH;FMTTYPE=image/jpeg:https://folkalender.dk/wp-content/uploads/2023/06/Perry-Stenback-Dekadans-2-1.jpg
GEO:55.3974218;10.3794332
X-APPLE-STRUCTURED-LOCATION;VALUE=URI;X-ADDRESS=Musikhuset Dexter Vindegade 65 Odense 5000;X-APPLE-RADIUS=500;X-TITLE=Vindegade 65:geo:10.3794332,55.3974218
END:VEVENT
END:VCALENDAR