BEGIN:VCALENDAR
VERSION:2.0
PRODID:-//Folkalender - ECPv6.10.1.1//NONSGML v1.0//EN
CALSCALE:GREGORIAN
METHOD:PUBLISH
X-WR-CALNAME:Folkalender
X-ORIGINAL-URL:https://folkalender.dk
X-WR-CALDESC:Begivenheder for Folkalender
REFRESH-INTERVAL;VALUE=DURATION:PT1H
X-Robots-Tag:noindex
X-PUBLISHED-TTL:PT1H
BEGIN:VTIMEZONE
TZID:Europe/Helsinki
BEGIN:DAYLIGHT
TZOFFSETFROM:+0200
TZOFFSETTO:+0300
TZNAME:EEST
DTSTART:20230326T010000
END:DAYLIGHT
BEGIN:STANDARD
TZOFFSETFROM:+0300
TZOFFSETTO:+0200
TZNAME:EET
DTSTART:20231029T010000
END:STANDARD
END:VTIMEZONE
BEGIN:VEVENT
DTSTART;TZID=Europe/Helsinki:20230831T143000
DTEND;TZID=Europe/Helsinki:20230831T153000
DTSTAMP:20260422T194814
CREATED:20230822T052845Z
LAST-MODIFIED:20230822T054716Z
UID:6835-1693492200-1693495800@folkalender.dk
SUMMARY:Gallerikoncert
DESCRIPTION:Ved ferniseringen af en udstilling med værker af billedkunstnere Lis Pedersen har en nyetableret trio premiere.\nMed i trioen er Maja Sokolowska på violin\, Poul Strunk på violin og Steen Poulsen på guitar. Trioen spiller folkemusik fra primært Danmark og Sverige. De spiler i en genre som er meget inspireret af den klassiske musik. Men rødderne er folkemusik.
URL:https://folkalender.dk/arrangement/gallerikoncert/
LOCATION:Gallerik KIK\, Trollegade 2\, Kerteminde\, 5300
CATEGORIES:Koncert
ATTACH;FMTTYPE=image/png:https://folkalender.dk/wp-content/uploads/2023/08/Skaermbillede-2023-08-22-kl.-07.43.42.png
GEO:55.4499167;10.6579279
X-APPLE-STRUCTURED-LOCATION;VALUE=URI;X-ADDRESS=Gallerik KIK Trollegade 2 Kerteminde 5300;X-APPLE-RADIUS=500;X-TITLE=Trollegade 2:geo:10.6579279,55.4499167
END:VEVENT
BEGIN:VEVENT
DTSTART;TZID=Europe/Helsinki:20230831T193000
DTEND;TZID=Europe/Helsinki:20230831T213000
DTSTAMP:20260422T194814
CREATED:20230619T074404Z
LAST-MODIFIED:20230619T074616Z
UID:6508-1693510200-1693517400@folkalender.dk
SUMMARY:Perry Stenbäck & Dekadans
DESCRIPTION:Perry Stenbäck & Dekadans – Moderne viser på svensk (perrystenback.com) \nBandet tager den nordiske sangskrivertradition under kærlig behandling med\, foruden Perry’s egne sange\, viser af bl.a Cornelis Vreeswijk\, Evert Taube\, Dan Andersson\, Myhre/Hovland og Sebastian.\nPerry Stenbäck: Vocal\, guitarer\nUlrika Rosdahl: Kor\, Percussion\nChristine Dueholm: Trommer\, kor\nJan Hansen: Keyboard\, harmonika\, kor\nHenrik Kunz: Kontrabas\, kor \nDer spilles 2 x 45 min.
URL:https://folkalender.dk/arrangement/perry-stenback-dekadans/
LOCATION:Bygningen\, Ved anlæget 14 B\, Vejle\, 7100
CATEGORIES:Koncert
ATTACH;FMTTYPE=image/jpeg:https://folkalender.dk/wp-content/uploads/2023/06/Perry-Stenback-Dekadans-2.jpg
GEO:55.711252;9.534041
X-APPLE-STRUCTURED-LOCATION;VALUE=URI;X-ADDRESS=Bygningen Ved anlæget 14 B Vejle 7100;X-APPLE-RADIUS=500;X-TITLE=Ved anlæget 14 B:geo:9.534041,55.711252
END:VEVENT
END:VCALENDAR