BEGIN:VCALENDAR
VERSION:2.0
PRODID:-//Folkalender - ECPv6.10.1.1//NONSGML v1.0//EN
CALSCALE:GREGORIAN
METHOD:PUBLISH
X-WR-CALNAME:Folkalender
X-ORIGINAL-URL:https://folkalender.dk
X-WR-CALDESC:Begivenheder for Folkalender
REFRESH-INTERVAL;VALUE=DURATION:PT1H
X-Robots-Tag:noindex
X-PUBLISHED-TTL:PT1H
BEGIN:VTIMEZONE
TZID:Europe/Helsinki
BEGIN:DAYLIGHT
TZOFFSETFROM:+0200
TZOFFSETTO:+0300
TZNAME:EEST
DTSTART:20230326T010000
END:DAYLIGHT
BEGIN:STANDARD
TZOFFSETFROM:+0300
TZOFFSETTO:+0200
TZNAME:EET
DTSTART:20231029T010000
END:STANDARD
END:VTIMEZONE
BEGIN:VEVENT
DTSTART;VALUE=DATE:20230824
DTEND;VALUE=DATE:20230828
DTSTAMP:20260422T184023
CREATED:20220829T082404Z
LAST-MODIFIED:20220829T082404Z
UID:4368-1692835200-1693180799@folkalender.dk
SUMMARY:Tønder Festival 2023
DESCRIPTION:Tønder Festival – en ægte musikfestival \nVi lever i en verden af mængde og masse. \nAldrig har vi haft så mange fotografier\, og aldrig har de været af så lav kvalitet. Aldrig har vi været så meget i kontakt med hinanden\, og aldrig har vi oplevet så stor ensomhed. Aldrig har vi haft så meget musik at sætte på\, og aldrig har lydkvaliteten været lavere. \nJa\, hvad verden mangler er ikke mere. Ikke mere af alt det\, der fylder os uden at mætte. Ikke mere af noget\, der er en toer af noget\, der engang var originalt. \nHvad vi mangler er ettere. Noget ægte. Noget\, som nogen har øvet sig på\, er stolte af\, og som stiller vores lyst\, nysgerrighed og sult. \nPå Tønder Festival har vi været originale og originaler siden 1974. Vi spiller sommeren i mål med ægte musik\, i ægte sønderjysk marskland\, med ægte oplevelser. \nVores fællesskab vokser år for år med frivillige\, gæster\, musikere og lokale\, der alle har en ting til fælles: Vores kærlighed til det\, der er gjort med omhu. Det særlige. Det ægte. \nHos os fejrer vi musikken i sin originale form\, og alle er velkomne –på en betingelse: Du skal komme\, som du er\, så synger vi originalen frem i dig. \nDet er derfor\, musikere fra hele verden vælger os i Tønder. Og det er grunden til\, at alle vi originale mødes i marsken\, når sommeren går på hæld. \nTønder\nEn ægte musikfestival.
URL:https://folkalender.dk/arrangement/toender-festival-2023/
LOCATION:Tønder Festival\, Papegøjevej\, Tønder\, 6270
CATEGORIES:Festival,Jam,Koncert
GEO:54.9294128;8.8611162
X-APPLE-STRUCTURED-LOCATION;VALUE=URI;X-ADDRESS=Tønder Festival Papegøjevej Tønder 6270;X-APPLE-RADIUS=500;X-TITLE=Papegøjevej:geo:8.8611162,54.9294128
END:VEVENT
BEGIN:VEVENT
DTSTART;TZID=Europe/Helsinki:20230827T160000
DTEND;TZID=Europe/Helsinki:20230827T170000
DTSTAMP:20260422T184023
CREATED:20220411T193923Z
LAST-MODIFIED:20230417T145943Z
UID:3512-1693152000-1693155600@folkalender.dk
SUMMARY:Jensen\, Bugge & Høirup i Præstegårdshaven
DESCRIPTION:Ny og gamle danske dansemelodier og sange arrangeret for sang\, violin\, harmonika og guitar af 3 prisbelønnede veteraner på den danske folkemusikscene – to af dem rigsspillemænd.
URL:https://folkalender.dk/arrangement/jensen-bugge-hoeirup/
LOCATION:Præstegårdshaven i Bårse\, Præstegårdsvej 5\, Bårse\, 4720
CATEGORIES:Koncert
ATTACH;FMTTYPE=image/jpeg:https://folkalender.dk/wp-content/uploads/2022/04/jbh2.jpg
GEO:55.1267034;11.9516762
X-APPLE-STRUCTURED-LOCATION;VALUE=URI;X-ADDRESS=Præstegårdshaven i Bårse Præstegårdsvej 5 Bårse 4720;X-APPLE-RADIUS=500;X-TITLE=Præstegårdsvej 5:geo:11.9516762,55.1267034
END:VEVENT
END:VCALENDAR