BEGIN:VCALENDAR
VERSION:2.0
PRODID:-//Folkalender - ECPv6.10.1.1//NONSGML v1.0//EN
CALSCALE:GREGORIAN
METHOD:PUBLISH
X-WR-CALNAME:Folkalender
X-ORIGINAL-URL:https://folkalender.dk
X-WR-CALDESC:Begivenheder for Folkalender
REFRESH-INTERVAL;VALUE=DURATION:PT1H
X-Robots-Tag:noindex
X-PUBLISHED-TTL:PT1H
BEGIN:VTIMEZONE
TZID:Europe/Helsinki
BEGIN:DAYLIGHT
TZOFFSETFROM:+0200
TZOFFSETTO:+0300
TZNAME:EEST
DTSTART:20230326T010000
END:DAYLIGHT
BEGIN:STANDARD
TZOFFSETFROM:+0300
TZOFFSETTO:+0200
TZNAME:EET
DTSTART:20231029T010000
END:STANDARD
END:VTIMEZONE
BEGIN:VEVENT
DTSTART;TZID=Europe/Helsinki:20230811T130000
DTEND;TZID=Europe/Helsinki:20230812T233000
DTSTAMP:20260422T152226
CREATED:20230524T055827Z
LAST-MODIFIED:20230524T062620Z
UID:6413-1691758800-1691883000@folkalender.dk
SUMMARY:Frederiksdal Chamber Folk Festival
DESCRIPTION:Frederiksdal Chamber Folk Festival er den nye festival du ikke vil gå glip af!\nD. 11.- 12. august løber Festivalen af stablen med et brag af et musikarrangement. Festivalen har både den sprødeste folkemusik på programmet side om side med storslået kammermusiknavne. Den drister sig derved til at samle musikalske genrer\, som historisk har repræsenteret diametralt modsatrettede samfundslag. \nFestivalen er relativt lille med 600 billetter til salg\, så musikoplevelserne føles meget autentiske og intime. Samtidig bliver oplevelsen eventyrlig\, da festivalpladsen er placeret i en lille skov ved Frederiksdal Slot\, med koncerter blandt løvtræerne\, samt enkelte koncerter i slottets historiske og unikke havesal. Festivalen kærer sig om æstetik og sanselighed\, samt inklusion og fællesskab og har i denne ånd lysinstallationer i skoven\, lokale råvarer og fællesspisning af et syrisk folkekøkken ved langborde under trækronerne.  \nFå mere information på facebook eller instagram på @Frederiksdalchamberfolk eller vores hjemmeside\, hvor man også kan købe billetter til festivalen: https://www.frederiksdalslot.dk/folk-festival  \nFacebook begivenhed: https://www.facebook.com/events/207844815433184/
URL:https://folkalender.dk/arrangement/frederiksdal-chamber-folk-festival/
LOCATION:Frederiksdal Slot\, Hummeltoftevej 187\, Virum\, 2830
CATEGORIES:Bal,Danseworkshop,Festival,Jam,Koncert
ATTACH;FMTTYPE=image/jpeg:https://folkalender.dk/wp-content/uploads/2023/05/205576800_107811541555438_4975768897762936793_n.jpg
GEO:55.7825;12.450833
X-APPLE-STRUCTURED-LOCATION;VALUE=URI;X-ADDRESS=Frederiksdal Slot Hummeltoftevej 187 Virum 2830;X-APPLE-RADIUS=500;X-TITLE=Hummeltoftevej 187:geo:12.450833,55.7825
END:VEVENT
END:VCALENDAR