BEGIN:VCALENDAR
VERSION:2.0
PRODID:-//Folkalender - ECPv6.10.1.1//NONSGML v1.0//EN
CALSCALE:GREGORIAN
METHOD:PUBLISH
X-ORIGINAL-URL:https://folkalender.dk
X-WR-CALDESC:Begivenheder for Folkalender
REFRESH-INTERVAL;VALUE=DURATION:PT1H
X-Robots-Tag:noindex
X-PUBLISHED-TTL:PT1H
BEGIN:VTIMEZONE
TZID:Europe/Helsinki
BEGIN:DAYLIGHT
TZOFFSETFROM:+0200
TZOFFSETTO:+0300
TZNAME:EEST
DTSTART:20230326T010000
END:DAYLIGHT
BEGIN:STANDARD
TZOFFSETFROM:+0300
TZOFFSETTO:+0200
TZNAME:EET
DTSTART:20231029T010000
END:STANDARD
END:VTIMEZONE
BEGIN:VEVENT
DTSTART;TZID=Europe/Helsinki:20230803T200000
DTEND;TZID=Europe/Helsinki:20230806T160000
DTSTAMP:20260422T104845
CREATED:20230424T134946Z
LAST-MODIFIED:20230424T135725Z
UID:6236-1691092800-1691337600@folkalender.dk
SUMMARY:Musik over Præstø Fjord Nordisk Folk Festival / spilletræf
DESCRIPTION:Alle er velkommen til buskspil / JAM\, koncerter\, dans\, gøgl\, vikinger  stjernehimmel\, fuldmåne\, bare tæer i græsset  lyssebænk\, farmorhuset  bar og mad og Viggas Vaffelbod med mere
URL:https://folkalender.dk/arrangement/musik-over-praestoe-fjord-nordisk-folk-festival-spilletraef/
CATEGORIES:Festival
END:VEVENT
END:VCALENDAR