BEGIN:VCALENDAR
VERSION:2.0
PRODID:-//Folkalender - ECPv6.10.1.1//NONSGML v1.0//EN
CALSCALE:GREGORIAN
METHOD:PUBLISH
X-WR-CALNAME:Folkalender
X-ORIGINAL-URL:https://folkalender.dk
X-WR-CALDESC:Begivenheder for Folkalender
REFRESH-INTERVAL;VALUE=DURATION:PT1H
X-Robots-Tag:noindex
X-PUBLISHED-TTL:PT1H
BEGIN:VTIMEZONE
TZID:Europe/Helsinki
BEGIN:DAYLIGHT
TZOFFSETFROM:+0200
TZOFFSETTO:+0300
TZNAME:EEST
DTSTART:20230326T010000
END:DAYLIGHT
BEGIN:STANDARD
TZOFFSETFROM:+0300
TZOFFSETTO:+0200
TZNAME:EET
DTSTART:20231029T010000
END:STANDARD
END:VTIMEZONE
BEGIN:VEVENT
DTSTART;TZID=Europe/Helsinki:20230630T140000
DTEND;TZID=Europe/Helsinki:20230702T170000
DTSTAMP:20260422T084254
CREATED:20221102T080949Z
LAST-MODIFIED:20221109T074041Z
UID:4883-1688133600-1688317200@folkalender.dk
SUMMARY:Nordic Folk Festival 2023
DESCRIPTION:Musik. Mad. Natur. Fællesskab. Dans. Fællessang. Workshops. Masterclass. Det er alt sammen noget gæsterne kan opleve på Nordic Folk Festival\, som afvikles for tredje år i træk den første weekend i juli. \nFestivalens ambition er at præsentere kunstnere og orkestre\, der med afsæt i traditionen gør nordisk folkemusik nutidig\, krydser grænsen til andre genrer og gør musikken levende for et nyt publikum. \nDertil ønsker vi med placeringen på Livø at skabe en festival omringet af natur og kultur fra alle sider.\nSejl med din båd til festivalen\, stil autocamperen på fastlandet\, slå jer ned med telt på cykelturen eller kør til Rønbjerg havn og træd over på øen med hvad du kan bære i en rygsæk. \nHer er plads til alle med mulighed for at du kan skrue din helt egen festival sammen. Køb hele oplevelsen med en weekendbillet eller snup dig en lørdag på øen i godt selskab.  \nMere information om program\, billetsalg og alt derimellem findes på vores platforme;\n– Facebook\, Nordic Folk Festival\n– Instagram\, @nordicfolkfestival\n– Hjemmeside\, https://nordicfolkfestival.dk/\n– Nyhedsbrev\, tilmeld dig ved at sende en mail til mail@nordicfolkfestival.dk
URL:https://folkalender.dk/arrangement/nordic-folk-festival-2023/
LOCATION:Livø\, Skippervej\, Ranum\, 9681
CATEGORIES:Danseworkshop,Festival,Jam,Koncert,Spilleworkshop
ORGANIZER;CN="Nordic Folk Festival":MAILTO:mail@nordicfolkfestival.dk
GEO:56.8900071;9.0916147
X-APPLE-STRUCTURED-LOCATION;VALUE=URI;X-ADDRESS=Livø Skippervej Ranum 9681;X-APPLE-RADIUS=500;X-TITLE=Skippervej:geo:9.0916147,56.8900071
END:VEVENT
END:VCALENDAR