BEGIN:VCALENDAR
VERSION:2.0
PRODID:-//Folkalender - ECPv6.10.1.1//NONSGML v1.0//EN
CALSCALE:GREGORIAN
METHOD:PUBLISH
X-WR-CALNAME:Folkalender
X-ORIGINAL-URL:https://folkalender.dk
X-WR-CALDESC:Begivenheder for Folkalender
REFRESH-INTERVAL;VALUE=DURATION:PT1H
X-Robots-Tag:noindex
X-PUBLISHED-TTL:PT1H
BEGIN:VTIMEZONE
TZID:Europe/Helsinki
BEGIN:DAYLIGHT
TZOFFSETFROM:+0200
TZOFFSETTO:+0300
TZNAME:EEST
DTSTART:20230326T010000
END:DAYLIGHT
BEGIN:STANDARD
TZOFFSETFROM:+0300
TZOFFSETTO:+0200
TZNAME:EET
DTSTART:20231029T010000
END:STANDARD
END:VTIMEZONE
BEGIN:VEVENT
DTSTART;TZID=Europe/Helsinki:20230608T193000
DTEND;TZID=Europe/Helsinki:20230608T210000
DTSTAMP:20260422T084258
CREATED:20230214T095625Z
LAST-MODIFIED:20230603T093816Z
UID:5762-1686252600-1686258000@folkalender.dk
SUMMARY:Mette & Frode\, Bovbjerg Fyr
DESCRIPTION:Folkemusikharmonikaspilleren og den klassiske accordeonist mødes i musik fra før den blev delt ud i genrer
URL:https://folkalender.dk/arrangement/mette-frode-bovbjerg-fyr/
CATEGORIES:Koncert
ATTACH;FMTTYPE=image/jpeg:https://folkalender.dk/wp-content/uploads/2023/02/Mette-og-Frode2-1-scaled.jpg
END:VEVENT
END:VCALENDAR