BEGIN:VCALENDAR
VERSION:2.0
PRODID:-//Folkalender - ECPv6.10.1.1//NONSGML v1.0//EN
CALSCALE:GREGORIAN
METHOD:PUBLISH
X-WR-CALNAME:Folkalender
X-ORIGINAL-URL:https://folkalender.dk
X-WR-CALDESC:Begivenheder for Folkalender
REFRESH-INTERVAL;VALUE=DURATION:PT1H
X-Robots-Tag:noindex
X-PUBLISHED-TTL:PT1H
BEGIN:VTIMEZONE
TZID:Europe/Helsinki
BEGIN:DAYLIGHT
TZOFFSETFROM:+0200
TZOFFSETTO:+0300
TZNAME:EEST
DTSTART:20230326T010000
END:DAYLIGHT
BEGIN:STANDARD
TZOFFSETFROM:+0300
TZOFFSETTO:+0200
TZNAME:EET
DTSTART:20231029T010000
END:STANDARD
END:VTIMEZONE
BEGIN:VEVENT
DTSTART;VALUE=DATE:20230601
DTEND;VALUE=DATE:20230605
DTSTAMP:20260422T053608
CREATED:20230508T185535Z
LAST-MODIFIED:20230508T185917Z
UID:6341-1685577600-1685923199@folkalender.dk
SUMMARY:Halkær Festival 2023
DESCRIPTION:Halkær Festival 2023 bliver en helt særlig oplevelse.\nMusikken er i topklasse med musikere fra Chile\, Sicilien\, Ghana og hele Norden og programmet rundt om på kroen er som altid fyldt med mennesker\, mad og natur.\nTag hele familien med\, kom med vennerne eller kom bare dig selv. På Halkær Festival går folkemusik og fællesskab op i en højere enhed. \nKøb billetter til musikken på halkaer.dk/maerkmusikken/ og maden på halkaer.dk/smagmaden/\nFestivalmenuer skal bestilles på forhånd.\nDet er muligt at købe forskelligt mad på festivalen uden forudbestilling.\nMaden\, vi serverer på Halkær Kro\, er økologisk.\nHer kan du se programmet\nTorsdag d. 1. juni\nKl. 18.00: Folkekøkken på Halkær Kro (bestil billet på forhånd)\nKl. 19.30: Koncert i Ejdrup Kirke med Golosa La Orquesta (Chile) & Quartetto Areasud (Sicilien)\nKl. 21.00: Øl & De Fortabte Spillemænd i krostuen \nFredag d. 2. juni\nKl. 14.00: Campingpladsen og baren åbner\nKl. 18.00: Lancering af årets festivaløl\nKl. 18.30: Festivalmenu\nKl. 20.00: Koncert i salen med Quartetto Areasud (Sicilien)\, Molde (Danmark) & 14 Red Ladies med Malene Mortensen i front (Danmark) \nLørdag d. 3. juni\nKl. 8-10: Morgenmadsbuffet\nKl. 9.00: Fælles morgensang i salen\nKl 10.00: Markvandring med Eskil Romme\nKl.10-18: Udlejning af mountainbikes\, kanoer og kajakker\nKl. 11.00: Børneyoga ved børneyogainstruktør Tone Rostbøl\nKl. 12-15: Frokost\nKl. 13.00: Foredrag og film om Chiles natur i salen\nKl. 14.00: Koncert og dans med Koldings talenthold i salen\nKl. 15.00: Vandretur med Karen Hald\nKl. 16.00: Whiskysmagning på førstesalen\nKl. 18.00: Lækker festivalbuffet\nKl. 20.00: Koncert i salen med Golosa La Orquesta (Chile)\, Pierre Dørges New Jungle Orchestra med Rasmus Lyberth (Grønland\, Norge\, Sverige\, Danmark og Ghana) & Frigg (Finland) \nSøndag d. 4. juni\nKl. 8-10: Morgenmadsbuffet\nKl. 9.00: Fælles morgensang i salen\nKl. 11.00: Koncert i salen med Quartetto Areasud (Sicilien)\, Golosa La Orquesta (Chile) & Frigg (Finland) \nKonferencier på Festivalen: Morten Alfred Høirup
URL:https://folkalender.dk/arrangement/halkaer-festival-2023/
LOCATION:Halkær Kro og Kulturhus\, Halkærvej 59\, Nibe\, 9240
CATEGORIES:Festival,Koncert
ATTACH;FMTTYPE=image/jpeg:https://folkalender.dk/wp-content/uploads/2023/05/327972978_867913647869543_7215818973293470056_n.jpg
ORGANIZER;CN="Halk%C3%A6r Kro og Kulturhus":MAILTO:halkaerkro@gmail.com
GEO:56.9211864;9.581698
X-APPLE-STRUCTURED-LOCATION;VALUE=URI;X-ADDRESS=Halkær Kro og Kulturhus Halkærvej 59 Nibe 9240;X-APPLE-RADIUS=500;X-TITLE=Halkærvej 59:geo:9.581698,56.9211864
END:VEVENT
BEGIN:VEVENT
DTSTART;TZID=Europe/Helsinki:20230602T200000
DTEND;TZID=Europe/Helsinki:20230602T223000
DTSTAMP:20260422T053608
CREATED:20230428T135859Z
LAST-MODIFIED:20230428T141722Z
UID:6242-1685736000-1685745000@folkalender.dk
SUMMARY:Frigg
DESCRIPTION:Finsk musikalsk storhed på alle parametre: Blændende teknik\, stor klang og musikalitet\, en demonstration af up-tempo arrangementer og en koncert krydret med ”ægte finsk” humor. Vi betragter det som et absolut scoop for Thorøhuse Forsamlingshus at kunne præsentere dette internationalt efterspurgte orkester. Frigg består af 7 særdeles dedikerede musikere: 4 violiner\, strengeinstrumenter og kontrabas. Siden dannelsen for 23 år siden har Frigg udgivet 10 albums med et tilsvarende antal begejstrede anmeldelser\, spillet mere end 1000 koncerter i mere end 30 forskellige lande verden over. Repertoiret spænder fra finske polskaer\, over bluegrass og tango til balkanrytmer. Koncerten koster denne gang 200 kr. og som vanligt er der mulighed for tilkøb af en 2-retters menu inkl. kaffe for 150 kr. Billetter bestilles på tlf. 22871053. Spisning kl. 18.00. Koncerterne i Thorøhuse støttes af Statens Kunstfond og Assens Kommune.
URL:https://folkalender.dk/arrangement/frigg/
LOCATION:Thorøhuse Forsamlingshus\, Drejet 7\, Assens\, 5610
CATEGORIES:Koncert
GEO:55.2440877;9.8930038
X-APPLE-STRUCTURED-LOCATION;VALUE=URI;X-ADDRESS=Thorøhuse Forsamlingshus Drejet 7 Assens 5610;X-APPLE-RADIUS=500;X-TITLE=Drejet 7:geo:9.8930038,55.2440877
END:VEVENT
END:VCALENDAR