BEGIN:VCALENDAR
VERSION:2.0
PRODID:-//Folkalender - ECPv6.10.1.1//NONSGML v1.0//EN
CALSCALE:GREGORIAN
METHOD:PUBLISH
X-WR-CALNAME:Folkalender
X-ORIGINAL-URL:https://folkalender.dk
X-WR-CALDESC:Begivenheder for Folkalender
REFRESH-INTERVAL;VALUE=DURATION:PT1H
X-Robots-Tag:noindex
X-PUBLISHED-TTL:PT1H
BEGIN:VTIMEZONE
TZID:Europe/Helsinki
BEGIN:DAYLIGHT
TZOFFSETFROM:+0200
TZOFFSETTO:+0300
TZNAME:EEST
DTSTART:20230326T010000
END:DAYLIGHT
BEGIN:STANDARD
TZOFFSETFROM:+0300
TZOFFSETTO:+0200
TZNAME:EET
DTSTART:20231029T010000
END:STANDARD
END:VTIMEZONE
BEGIN:VEVENT
DTSTART;TZID=Europe/Helsinki:20230514T193000
DTEND;TZID=Europe/Helsinki:20230514T230000
DTSTAMP:20260422T003059
CREATED:20230514T063121Z
LAST-MODIFIED:20230514T063737Z
UID:6367-1684092600-1684105200@folkalender.dk
SUMMARY:Dúchas thar Farraige: New Irish Music (IRE/FI)
DESCRIPTION:I Maskinhallen (Sundholm8) kan i den 27. maj opleve nyt irsk musik. Den irske guitarist Chris Comhaill og finsk fødte kontrabassist Otso Mielonen danner gruppen Dúchas thar Farraige. Oversat betyder navnet: Arvet over havet. Mielonen rejste over vandet for at\nstudere i Dublin\, hvor han mødte Comhaill og hvor de endte med at arbejde tæt sammen. Begge er født ved havet og dets krafter\, mysterier\, historier har formet deres liv og væren. Dúchas thar Farraige tager udgangspunkt i den irske folkemusik og i ånden af de irske Seanchaí\, formidler de historier om fortabte tider og nye virkligheder. \nstuderende 50kr\,- / 100kr\,- \nDørene åbner 19:30\nKoncerten starter 20:00 \n(Photo: Anna Nowakowska)
URL:https://folkalender.dk/arrangement/duchas-thar-farraige-new-irish-music-ire-fi/
LOCATION:Sundholm8: Maskinhallen\, Sundholmsvej 28A\, København\, 2300
CATEGORIES:Koncert
ATTACH;FMTTYPE=image/jpeg:https://folkalender.dk/wp-content/uploads/2023/05/annanowakowskaphotography61-2-1-scaled.jpeg
GEO:55.6609636;12.595257
X-APPLE-STRUCTURED-LOCATION;VALUE=URI;X-ADDRESS=Sundholm8: Maskinhallen Sundholmsvej 28A København 2300;X-APPLE-RADIUS=500;X-TITLE=Sundholmsvej 28A:geo:12.595257,55.6609636
END:VEVENT
END:VCALENDAR