BEGIN:VCALENDAR
VERSION:2.0
PRODID:-//Folkalender - ECPv6.10.1.1//NONSGML v1.0//EN
CALSCALE:GREGORIAN
METHOD:PUBLISH
X-ORIGINAL-URL:https://folkalender.dk
X-WR-CALDESC:Begivenheder for Folkalender
REFRESH-INTERVAL;VALUE=DURATION:PT1H
X-Robots-Tag:noindex
X-PUBLISHED-TTL:PT1H
BEGIN:VTIMEZONE
TZID:Europe/Helsinki
BEGIN:DAYLIGHT
TZOFFSETFROM:+0200
TZOFFSETTO:+0300
TZNAME:EEST
DTSTART:20230326T010000
END:DAYLIGHT
BEGIN:STANDARD
TZOFFSETFROM:+0300
TZOFFSETTO:+0200
TZNAME:EET
DTSTART:20231029T010000
END:STANDARD
END:VTIMEZONE
BEGIN:VEVENT
DTSTART;TZID=Europe/Helsinki:20230506T193000
DTEND;TZID=Europe/Helsinki:20230506T213000
DTSTAMP:20260421T230253
CREATED:20230411T094509Z
LAST-MODIFIED:20230411T094509Z
UID:6141-1683401400-1683408600@folkalender.dk
SUMMARY:Koncert med den svenske folk-duo SYMBIO
DESCRIPTION:Den anmelderroste og prisvindende elektro-akustiske folk-duo Symbio tager med harmonika og drejelire nordisk folkemusik til et helt nyt og uudforsket sted.\nSymbio er blandt de mest spændende og nyskabende navne indenfor svensk folk- og verdensmusik. De to instrumenter\, harmonika og drejelire kan noget helt specielt sammen rent lydmæssigt. Det samme kan i den grad siges om de to dygtige musikere\, Lars Emil Öjeberget og Johannes Geworkian Hellman\, der med deres stærke scenetilstedeværelse\, originale kompositioner og et magisk samspil mellem hurdy-gurdy og harmonika overrasker deres publikum og tager dem med på en bevægende og drømmende musikalsk rejse\, der nærmest symbiotisk frembringer musik sammen\, som er anderledes og tankevækkende men samtidig letforståelig for alle.
URL:https://folkalender.dk/arrangement/koncert-med-den-svenske-folk-duo-symbio/
LOCATION:Aldershvile Bed & Breakfast\, Hørstedvej 17\, 7752  Snedsted\, Hørstedvej 17\, Snedsted\, 7752
CATEGORIES:Koncert
ATTACH;FMTTYPE=image/jpeg:https://folkalender.dk/wp-content/uploads/2023/04/Symbio-2.jpg
GEO:56.8721365;8.5038981
X-APPLE-STRUCTURED-LOCATION;VALUE=URI;X-ADDRESS=Aldershvile Bed & Breakfast Hørstedvej 17 7752  Snedsted Hørstedvej 17 Snedsted 7752;X-APPLE-RADIUS=500;X-TITLE=Hørstedvej 17:geo:8.5038981,56.8721365
END:VEVENT
END:VCALENDAR