BEGIN:VCALENDAR
VERSION:2.0
PRODID:-//Folkalender - ECPv6.10.1.1//NONSGML v1.0//EN
CALSCALE:GREGORIAN
METHOD:PUBLISH
X-ORIGINAL-URL:https://folkalender.dk
X-WR-CALDESC:Begivenheder for Folkalender
REFRESH-INTERVAL;VALUE=DURATION:PT1H
X-Robots-Tag:noindex
X-PUBLISHED-TTL:PT1H
BEGIN:VTIMEZONE
TZID:Europe/Helsinki
BEGIN:DAYLIGHT
TZOFFSETFROM:+0200
TZOFFSETTO:+0300
TZNAME:EEST
DTSTART:20230326T010000
END:DAYLIGHT
BEGIN:STANDARD
TZOFFSETFROM:+0300
TZOFFSETTO:+0200
TZNAME:EET
DTSTART:20231029T010000
END:STANDARD
END:VTIMEZONE
BEGIN:VEVENT
DTSTART;TZID=Europe/Helsinki:20230502T193000
DTEND;TZID=Europe/Helsinki:20230502T230000
DTSTAMP:20260421T214155
CREATED:20220908T171527Z
LAST-MODIFIED:20220908T171527Z
UID:4528-1683055800-1683068400@folkalender.dk
SUMMARY:Kieran Goss og Annie Kinsella (IE)
DESCRIPTION:“OH\, THE STARLINGS” \nKieran Goss er en moderne singer-songwriter fra det vestlige Irland\, født ind i en musikalsk familie. \nSom jurastuderende i Belfast spillede han i klubber og fortsatte bl.a. som sangskriver for bl.a. Mary Black\, sideløbende med at han virkede som gademusikant i Tyskland\, Frankrig og New York. \nHan har indspillet utallige albums og er hyldet som én af Irlands store sangskrivere og har vundet mange hjerter verden over. \nHans optrædener er legendariske og bærer den dialog med publikum han som ung opøvede på gaden. \nKieran vil optræde solo i den første del af koncerten. I andet sæt inviterer han sangeren Annie Kinsella med på scenen. \nMed sig har det nye album “Oh\, the Starlings”\, som er blevet godt modtaget af anmeldere og publikum. \n“Individually\, they are both gifted singers but when they sing together\, magic happens… the harmonies\, the chemistry… just sublime.”\n– Time Out Magazine –
URL:https://folkalender.dk/arrangement/kieran-goss-og-annie-kinsella-ie/
LOCATION:Baltoppen LIVE\, Baltorpvej 20\, Ballerup\, 2750
CATEGORIES:Koncert
GEO:55.7305364;12.3522152
X-APPLE-STRUCTURED-LOCATION;VALUE=URI;X-ADDRESS=Baltoppen LIVE Baltorpvej 20 Ballerup 2750;X-APPLE-RADIUS=500;X-TITLE=Baltorpvej 20:geo:12.3522152,55.7305364
END:VEVENT
BEGIN:VEVENT
DTSTART;TZID=Europe/Helsinki:20230502T200000
DTEND;TZID=Europe/Helsinki:20230502T213000
DTSTAMP:20260421T214155
CREATED:20230220T121016Z
LAST-MODIFIED:20230220T121016Z
UID:5847-1683057600-1683063000@folkalender.dk
SUMMARY:Theessink & Møller
DESCRIPTION:Det er en ny\, spændende række koncerter\, der er lagt i trygge\, bluesgarvede hænder hos Hans Theessink og Knud Møller\, når de i foråret 2023 er på turné i Danmark. \nEr man til gedigen\, velspillet blues\, så er man til ”Theessink & Møller.” Hver for sig er de kapaciteter i genren. Sammen er de en feinschmecker-oplevelse\, der giver både gåsehud og smil på læben. \nDen kompetente blues duo er garant for\, at publikum får en intens og medrivende koncert. Repertoiret består af sange fra Hans Theessinks fyldige bagkatalog krydret med numre fra den traditionelle blues root genre\, som duoen mestrer så flot. \nFremført med Theessinks dybe\, varme baryton går det lige i eftertænksomme blueshjerter. Koncerterne er garneret med højt kvalificerede lækkerier for guitarentusiaster i form af følsomt fremførte improvisationer. \nBåde Hans Theessink og Knud Møller har i deres respektive hjemlande\, Østrig og Danmark\, høstet diverse priser og anerkendelser. Knud Møller har\, blandt andet\, opnået prisen som ”Årets danske instrumentalist”. Hans Theessink har – flere gange – vundet den østrigske ”Amadeus Music Award” for bedste udgivelse i kategorien Jazz World Blues. Priser de er glade for og stolte af\, men selv sætter de aller mest pris på blues musikken. At spille den og være i den – sammen med publikum. Det er DET\, de brænder for\, og DET\, der brænder igennem\, når de er sammen på en scene. Og det er de i perioden 27. april – 14. maj 2023 hvor de er på blues turné i Danmark.
URL:https://folkalender.dk/arrangement/theessink-moeller/
LOCATION:Fermaten\, Smallegade 4\, Herning\, 7400
CATEGORIES:Koncert
ATTACH;FMTTYPE=image/jpeg:https://folkalender.dk/wp-content/uploads/2023/02/TheessinkMoeller-PR-foto-2023-scaled.jpg
ORGANIZER;CN="Fermaten":MAILTO:mail@fermaten.dk
GEO:56.1368467;8.970104
X-APPLE-STRUCTURED-LOCATION;VALUE=URI;X-ADDRESS=Fermaten Smallegade 4 Herning 7400;X-APPLE-RADIUS=500;X-TITLE=Smallegade 4:geo:8.970104,56.1368467
END:VEVENT
END:VCALENDAR