BEGIN:VCALENDAR
VERSION:2.0
PRODID:-//Folkalender - ECPv6.10.1.1//NONSGML v1.0//EN
CALSCALE:GREGORIAN
METHOD:PUBLISH
X-WR-CALNAME:Folkalender
X-ORIGINAL-URL:https://folkalender.dk
X-WR-CALDESC:Begivenheder for Folkalender
REFRESH-INTERVAL;VALUE=DURATION:PT1H
X-Robots-Tag:noindex
X-PUBLISHED-TTL:PT1H
BEGIN:VTIMEZONE
TZID:Europe/Helsinki
BEGIN:DAYLIGHT
TZOFFSETFROM:+0200
TZOFFSETTO:+0300
TZNAME:EEST
DTSTART:20230326T010000
END:DAYLIGHT
BEGIN:STANDARD
TZOFFSETFROM:+0300
TZOFFSETTO:+0200
TZNAME:EET
DTSTART:20231029T010000
END:STANDARD
END:VTIMEZONE
BEGIN:VEVENT
DTSTART;TZID=Europe/Helsinki:20230430T200000
DTEND;TZID=Europe/Helsinki:20230430T220000
DTSTAMP:20260421T184120
CREATED:20220930T132821Z
LAST-MODIFIED:20220930T132821Z
UID:4745-1682884800-1682892000@folkalender.dk
SUMMARY:Kieran Goss & Annie Kinsella
DESCRIPTION:Den irske duo indtager scenen i Copenhagen Folk Club med smukke harmonier og irsk hjertevarme og charme\, når de optræder med sange fra deres anmelder roste debutalbum som duo ‘Oh\, The Starlings’
URL:https://folkalender.dk/arrangement/kieran-goss-annie-kinsella/
LOCATION:Metronomen\, Godthåbsvej 33\, Frederiksberg\, 2000
CATEGORIES:Koncert
GEO:55.6860703;12.5334068
X-APPLE-STRUCTURED-LOCATION;VALUE=URI;X-ADDRESS=Metronomen Godthåbsvej 33 Frederiksberg 2000;X-APPLE-RADIUS=500;X-TITLE=Godthåbsvej 33:geo:12.5334068,55.6860703
END:VEVENT
BEGIN:VEVENT
DTSTART;TZID=Europe/Helsinki:20230430T200000
DTEND;TZID=Europe/Helsinki:20230430T220000
DTSTAMP:20260421T184120
CREATED:20230323T143925Z
LAST-MODIFIED:20230323T143925Z
UID:6059-1682884800-1682892000@folkalender.dk
SUMMARY:Teho (FIN)
DESCRIPTION:Cafékoncert \nI Finland er Teho navnet på en udbredt energidrik. Teho betyder på dansk “effektiv”\, “ekstra”\, “super” eller “kraft”. \nDe to mest berømte moderne finske violinspillere Tero Hyväluoma & Esko Järvelä udgør violinduoen Teho. De er begge opvokset og bor i den del af Finland\, som er epicentret for udklækkelsen af violinvirtuoser. I Central Ostrobothnia med byen Kaustinen\, hvor Nordens største folkemusik- og dansefestival hver sommer tiltrækker folkemusikentusiaster fra hele verden. \nDe mestrer hver sit instrument. Og mestrer og kombinerer flydende den nordiske folkemusiks traditioner. Så godt at de magter at sprænge rammerne igennem improvisationer og leverer det vildeste af det vilde. \nDe har spillet sammen i mange år. Bl.a. i folkbandet Frigg\, der turnerer verden over. \nDesuden finder man dem i konstellationerne Tsuumi Sound System\, Baltic Crossing og i Esko Järvelä Epic Male Band\, der gæstede Baltoppen LIVE i 2018. \nMed stomp box\, vokal\, strygere og en omgang ekstra super energi kommer duoen med et uforglemmeligt bud på\, hvordan violinspil også kan lyde. \nTehos nye album udkommer i april 2023.
URL:https://folkalender.dk/arrangement/teho-fin/
LOCATION:Baltoppen LIVE\, Baltorpvej 20\, Ballerup\, 2750
CATEGORIES:Koncert
ATTACH;FMTTYPE=image/jpeg:https://folkalender.dk/wp-content/uploads/2023/03/726A3072.jpg
GEO:55.7305364;12.3522152
X-APPLE-STRUCTURED-LOCATION;VALUE=URI;X-ADDRESS=Baltoppen LIVE Baltorpvej 20 Ballerup 2750;X-APPLE-RADIUS=500;X-TITLE=Baltorpvej 20:geo:12.3522152,55.7305364
END:VEVENT
END:VCALENDAR