BEGIN:VCALENDAR
VERSION:2.0
PRODID:-//Folkalender - ECPv6.10.1.1//NONSGML v1.0//EN
CALSCALE:GREGORIAN
METHOD:PUBLISH
X-WR-CALNAME:Folkalender
X-ORIGINAL-URL:https://folkalender.dk
X-WR-CALDESC:Begivenheder for Folkalender
REFRESH-INTERVAL;VALUE=DURATION:PT1H
X-Robots-Tag:noindex
X-PUBLISHED-TTL:PT1H
BEGIN:VTIMEZONE
TZID:Europe/Helsinki
BEGIN:DAYLIGHT
TZOFFSETFROM:+0200
TZOFFSETTO:+0300
TZNAME:EEST
DTSTART:20230326T010000
END:DAYLIGHT
BEGIN:STANDARD
TZOFFSETFROM:+0300
TZOFFSETTO:+0200
TZNAME:EET
DTSTART:20231029T010000
END:STANDARD
END:VTIMEZONE
BEGIN:VEVENT
DTSTART;TZID=Europe/Helsinki:20230429T150000
DTEND;TZID=Europe/Helsinki:20230429T160000
DTSTAMP:20260421T184122
CREATED:20230424T101319Z
LAST-MODIFIED:20230424T101727Z
UID:6228-1682780400-1682784000@folkalender.dk
SUMMARY:Stadsmusikanten - Dreamers' Circus og musikelever i Roskilde
DESCRIPTION:Som afslutning på en række workshops med de tre musikere fra Dreamers’ Circus spiller stadsorkestret sammen med elever og lærere op til fest og dans i Hotel Prindsens Guldaldersal ved to koncerter lørdag den 29. april. \nI Roskilde er ambitionen\, at alle borgere skal møde musikken i deres hverdagsliv\, og i det seneste år har Dreamers’ Circus været stadsorkester i Roskilde Kommune. \nRoskildes musiske skoler har været utrolig glade for den vitaminindsprøjtning af folkemusik som Dreamers’ Circus har bidraget med i dette skoleår\, og alle elever og lærere glæder sig til den afsluttende festkoncert\, hvor det også vil blive muligt at prøve kræfter med folkedans sammen med Rigsspillemand Poul Bjerager. \nOrkestret vil udover Dreamers’ Circus bestå af i alt 40 musikere: strygere\, blæsere\, guitarister\, slagtøj og sangere.\nKoncerten er gratis\, men af pladshensyn skal publikum bestille billet. Der vil være et begrænset antal stole – de som kan\, vil blive bedt om at sidde på gulvet.\nVi glæder os til at se jer! \nKoncerten kl. 15.00\nhttps://www.place2book.com/da/sw2/sales/ac77z713lq \nKoncerten kl.17.00\nhttps://www.place2book.com/da/sw2/sales/auajxvvmva
URL:https://folkalender.dk/arrangement/stadsmusikanten-dreamers-circus-og-musikelever-i-roskilde/2023-04-29/
LOCATION:Guldaldersalen\, Hotel Prindsen\, Algade 13\, Roskilde\, 4000
CATEGORIES:Koncert
ATTACH;FMTTYPE=image/png:https://folkalender.dk/wp-content/uploads/2023/04/new_sales_workflow_banner_1681504229.png
ORGANIZER;CN="Dreamers' Circus":MAILTO:dreamerscircus@gmail.com
GEO:55.6412608;12.0836031
X-APPLE-STRUCTURED-LOCATION;VALUE=URI;X-ADDRESS=Guldaldersalen Hotel Prindsen Algade 13 Roskilde 4000;X-APPLE-RADIUS=500;X-TITLE=Algade 13:geo:12.0836031,55.6412608
END:VEVENT
BEGIN:VEVENT
DTSTART;TZID=Europe/Helsinki:20230429T160000
DTEND;TZID=Europe/Helsinki:20230429T230000
DTSTAMP:20260421T184122
CREATED:20230424T072528Z
LAST-MODIFIED:20230424T073004Z
UID:6220-1682784000-1682809200@folkalender.dk
SUMMARY:Koncert og generalsforsamling i Musikforeningen Roots Aarhus
DESCRIPTION:Roots Aarhus fejrer ét års fødselsdag med en gratis koncert! Vi vil gerne sige af hjertet tak for den støtte i\, vores publikum og vores medlemmer\, har vist os. Det er med stor stolthed at vi kan sige at vi har klaret os igennem det første år af vores eksistens\, og det er takket være jer.\nVi indbyder til generalforsamling\, direkte efterfulgt af koncert med Long Way Home Duo.\nRoots Aarhus inviterer vores medlemmer til en hyggelig eftermiddag/aften. Vi vil gerne sige af hjertet tak for den støtte i\, vores publikum og vores medlemmer\, har vist os. Det er med stor stolthed at vi kan sige at vi har klaret os igennem det første år af vores eksistens\, og det er takket være jer. \nSted: Teater Refleksion: Frederiksgade 72b\, 1sal. Aarhus C\, 8000 Danmark\nTid:\n16.00 Generalforsamling\n18.00 Spisning\n19:30 Koncert med Long Way Home Duo (Fri Entré)\nTilmelding:\nGF og koncert : ingen tilmelding nødvendig\nSpisning: Tilmeld dig senest d.25 April til bestyrelsen@rootsaarhus.dk \nVi håber at se mange af jer 🙂 Vel mødt \nLong Way Home Duo:\nEn ung amerikansk kvinde møder en ung hollandsk mand på East Tennessee State University’s bluegrasslinje. Eller: en prisvindende flatpicker og mandolinspiller møder en talentfuld dobrospiller og guitarist. Eller: en sangerinde møder en sanger… Under alle omstændigheder: sød musik opstår! Duoen Long Way Home spiller en charmerende blanding af bluegrass standards\, gammel country og egne sange. Man kan næsten ikke undgå at tabe sit hjerte til de to unge musikere: Afslappede og nede på jorden\, og 100% tilstede som sig selv på scenen.\nhttps://www.longwayhomeduo.com/\n(beskrivelsen er lånt fra Bluegrass Music Denmark\, og det er ligeledes BMD som har formidlet kontakten – det samarbejde værdsætter vi meget!) \nKoncerten er støttet af Aarhus Kommunes Musikpulje samt Nordea-Fonden.
URL:https://folkalender.dk/arrangement/koncert-og-generalsforsamling-i-musikforeningen-roots-aarhus/
LOCATION:Teater Refleksion\, Frederiksgade 72 B\, 1\,\, Aarhus C\, 8000
CATEGORIES:Koncert
ATTACH;FMTTYPE=image/jpeg:https://folkalender.dk/wp-content/uploads/2023/04/Long-way-home.jpeg
ORGANIZER;CN="Teater Refleksion":MAILTO:refleksion@refleksion.dk
GEO:56.1542683;10.2034709
X-APPLE-STRUCTURED-LOCATION;VALUE=URI;X-ADDRESS=Teater Refleksion Frederiksgade 72 B 1 Aarhus C 8000;X-APPLE-RADIUS=500;X-TITLE=Frederiksgade 72 B\, 1\,:geo:10.2034709,56.1542683
END:VEVENT
BEGIN:VEVENT
DTSTART;TZID=Europe/Helsinki:20230429T173000
DTEND;TZID=Europe/Helsinki:20230429T230000
DTSTAMP:20260421T184122
CREATED:20230318T152101Z
LAST-MODIFIED:20230318T152101Z
UID:6007-1682789400-1682809200@folkalender.dk
SUMMARY:Spillemandsfestival-bal
DESCRIPTION:I forbindelse med Aalborg Danse- og Spillemandslaug`s årlige spillemandsfestival afholdes det traditionelle bal med de deltagne orkestre\, som er:\nSpillemandskredsen Nordjylland.\nSpillemandslauget Østjyderne.\nFURistfarten.\nRebildspillemændene`s onsdagshold.\nAalborg Danse- og Spillemandslaug`s orkester.\nBallet starter kl. 17:30\, hvor der afholdes en lille koncert med alle spillemændene under ledelse af dette års instruktør\, Mette Kathrine Jensen Stærk\, hvor de spiller de under eftermiddagens work-shop øvede melodier. Herefter spilles melodierne igen\, denne gang til dans.\nEfterfølgende spiller orkestrene hver især til dans\, afsluttende med et fælles-orkester.\nDer er naturligvis kaffepause ca. midtvejs.
URL:https://folkalender.dk/arrangement/spillemandsfestival-bal/
LOCATION:Trekanten\, Sebbersundvej 2A\, 9220 Aalborg Ø
CATEGORIES:Bal
ATTACH;FMTTYPE=image/jpeg:https://folkalender.dk/wp-content/uploads/2023/03/2022-05-07_018_1280.jpg
ORGANIZER;CN="Aalborg Danse- og Spillemandslaug":MAILTO:oleugiltlarsen@outlook.dk
END:VEVENT
BEGIN:VEVENT
DTSTART;TZID=Europe/Helsinki:20230429T200000
DTEND;TZID=Europe/Helsinki:20230429T220000
DTSTAMP:20260421T184122
CREATED:20221106T122449Z
LAST-MODIFIED:20221106T122449Z
UID:4903-1682798400-1682805600@folkalender.dk
SUMMARY:Theessink & Møller i Haslev Folk Club
DESCRIPTION:Denne aften har mange glædet sig til – for endelig kommer der blues på scenen i Haslev Folk Club. Og det er ikke bare blues\, det er blues med de populære Hans Theessink og Knud Møller \nEr man til gedigen\, velspillet blues\, så er man til ”Theessink & Møller.” Hver for sig er de kapaciteter i genren. Sammen er de en feinschmecker-oplevelse\, der giver både gåsehud\, og smil på læben. Den kompetente blues-duo er garant for\, at publikum får en intens og medrivende koncert. Repertoiret består af sange fra Hans Theessinks fyldige bagkatalog krydret med numre fra den traditionelle blues root genre\, som duoen mestrer så flot. \nFremført med Theessinks dybe\, varme baryton går det lige i eftertænksomme blueshjerter. Koncerterne er garneret med højt kvalificerede lækkerier for guitarentusiaster i form af følsomt fremførte improvisationer. \nBåde Hans Theessink og Knud Møller har i deres respektive hjemlande\, Østrig og Danmark\, høstet diverse priser og anerkendelser. Knud Møller har\, blandt andet\, opnået prisen som ”Årets danske instrumentalist”. Hans Theessink har – flere gange – vundet den østrigske ”Amadeus Music Award” for bedste udgivelse i kategorien Jazz World Blues. \nPriser de er glade for og stolte af\, men selv sætter de aller mest pris på bluesmusikken. At spille den og være i den – sammen med publikum. Det er DET\, de brænder for\, og DET brænder igennem\, når de er sammen på en scene. \nVi kan glæde os til en rigtig flot aften! \nBilletter kan købes på Place2Book: https://www.place2book.com/da/sw2/sales/9d75qbo7pi  \nVores koncerter er støttet af Statens Kunstråd og Faxe Kommune
URL:https://folkalender.dk/arrangement/theessink-moeller-i-haslev-folk-club/
LOCATION:Kultunariet\, Haslev\, Søndergade 12\, Haslev\, 4690
CATEGORIES:Koncert
GEO:55.325162;11.956355
X-APPLE-STRUCTURED-LOCATION;VALUE=URI;X-ADDRESS=Kultunariet Haslev Søndergade 12 Haslev 4690;X-APPLE-RADIUS=500;X-TITLE=Søndergade 12:geo:11.956355,55.325162
END:VEVENT
BEGIN:VEVENT
DTSTART;TZID=Europe/Helsinki:20230429T200000
DTEND;TZID=Europe/Helsinki:20230429T223000
DTSTAMP:20260421T184122
CREATED:20230213T174122Z
LAST-MODIFIED:20230317T091137Z
UID:5751-1682798400-1682807400@folkalender.dk
SUMMARY:The Wile Murphys – One Night In Dublin
DESCRIPTION:En Hyldest til den Irske Musik. \n2 x 60 min koncert-show med alle de kendte sange leveret til døren inkl. backline\, catering\, hotel\, scene back-drop\, PA og Lys. \nI mere end 15 år er The Wild Murphys blevet betragtet som “Det bedste irske band\, der ikke kommer fra Irland”\, og nu bringer de deres komplette live-show til de danske scener. \n‘One Night in Dublin’ er en fuld og rockende produktion med fantastiske og livlige versioner af alle dine yndlings irske klassikere såsom Galway Girl\, Tell Me M\, Irish Rover\, Seven Drunken Nights\, Dirty Old Town\, Wild Rover og mange mange flere. \nMed gode historier og instrumentale præstationer er det simpelthen en fantastisk aften i byen for fans af irsk musik. Showet har været stærkt anmelderrost af publikum og kritikere og er nu på 4. år på turné i Europa.
URL:https://folkalender.dk/arrangement/the-wile-murphys-one-night-in-dublin-2/
LOCATION:Spillestedet Blokhus\, Vesterhavsvej 6\, Blokhus\, 9492
CATEGORIES:Koncert
ATTACH;FMTTYPE=image/jpeg:https://folkalender.dk/wp-content/uploads/2023/02/download-1.jpeg
ORGANIZER;CN="Art &amp%3B Music Scandinavia":MAILTO:bent@art-music.dk
GEO:57.248486;9.6122964
X-APPLE-STRUCTURED-LOCATION;VALUE=URI;X-ADDRESS=Spillestedet Blokhus Vesterhavsvej 6 Blokhus 9492;X-APPLE-RADIUS=500;X-TITLE=Vesterhavsvej 6:geo:9.6122964,57.248486
END:VEVENT
BEGIN:VEVENT
DTSTART;TZID=Europe/Helsinki:20230429T200000
DTEND;TZID=Europe/Helsinki:20230429T230000
DTSTAMP:20260421T184122
CREATED:20221231T131644Z
LAST-MODIFIED:20221231T131649Z
UID:5231-1682798400-1682809200@folkalender.dk
SUMMARY:Koncert med Kris Drever & Boo Hewerdine.
DESCRIPTION:Kris Drever & Boo Hewerdine\nTo af Storbritanniens bedste sangskrivere samarbejder på scenen om en sjælden danmarksturné.\nKris Drever er en skotsk folkesanger\, sangskriver\, som har vundet adskillige priser.\nBoo Hewerdine var forsanger i det engelske kultband\, The Bible. Hans efterfølgende solokarriere strækker sig nu over 25 år. Hundredvis af hans sange er blevet coveret af andre kunstnere.\nTil koncerterne i denne tour kan publikum forvente nye samarbejdsversioner af sange fra begge kunstnerkataloger og noget helt nyt materiale.
URL:https://folkalender.dk/arrangement/koncert-med-kris-drever-boo-hewerdine/
LOCATION:Kulturhuset Rejsestalden.\, Hovedgaden 29a\, Jægerspris\, 3630
CATEGORIES:Koncert
GEO:55.8554115;11.9825747
X-APPLE-STRUCTURED-LOCATION;VALUE=URI;X-ADDRESS=Kulturhuset Rejsestalden. Hovedgaden 29a Jægerspris 3630;X-APPLE-RADIUS=500;X-TITLE=Hovedgaden 29a:geo:11.9825747,55.8554115
END:VEVENT
END:VCALENDAR