BEGIN:VCALENDAR
VERSION:2.0
PRODID:-//Folkalender - ECPv6.10.1.1//NONSGML v1.0//EN
CALSCALE:GREGORIAN
METHOD:PUBLISH
X-WR-CALNAME:Folkalender
X-ORIGINAL-URL:https://folkalender.dk
X-WR-CALDESC:Begivenheder for Folkalender
REFRESH-INTERVAL;VALUE=DURATION:PT1H
X-Robots-Tag:noindex
X-PUBLISHED-TTL:PT1H
BEGIN:VTIMEZONE
TZID:Europe/Helsinki
BEGIN:DAYLIGHT
TZOFFSETFROM:+0200
TZOFFSETTO:+0300
TZNAME:EEST
DTSTART:20230326T010000
END:DAYLIGHT
BEGIN:STANDARD
TZOFFSETFROM:+0300
TZOFFSETTO:+0200
TZNAME:EET
DTSTART:20231029T010000
END:STANDARD
END:VTIMEZONE
BEGIN:VEVENT
DTSTART;TZID=Europe/Helsinki:20230425T193000
DTEND;TZID=Europe/Helsinki:20230425T193000
DTSTAMP:20260421T184132
CREATED:20230307T084601Z
LAST-MODIFIED:20230401T204826Z
UID:5918-1682451000-1682451000@folkalender.dk
SUMMARY:Phønix & Sangka – Tarm Kirke
DESCRIPTION:Der er lagt op til en helt speciel koncertoplevelse\, når det danske folkemusik band Phønix inviterer den kinesiske Guzhengspiller SangKa med på scenen. Sammen skaber de et helt nyt og unikt lydunivers\, i mødet mellem to meget forskellige musikalske traditioner.\nGuzheng’en har en drømmende harpe-agtig pentaton lyd\, som på smuk vis spiller op imod Phønix’ energiske og groovende melodier og sange. Det bliver en koncert på højt musikalsk niveau\, med vægt på nærvær\, energi\, virtuositet og et stærkt visuelt udtryk.\nEventyret mellem øst og vest begyndte i en rå fabrikshal i Beijings nye art district 798.\nVed åbningen af det nye danske kulturinstitut i Beijing i 2014\, skulle Phønix spille dansk folkemusik i den ene ende af en stor fabrikshal\, mens SangKa stod i den anden ende og lod tonerne flyde fra sit kinesiske instrument.\nSiden har de spillet sammen flere gange\, på SPOT-festival\, Kulturmødet på Mors\, Musik i Tide festival samt på koncerturnéer i Danmark og Guangdong-provins i Kina. \nSangKa: Guzheng\nAnja Præst: Basklarinet/klarinet\nKaren Mose: Vokal/keys\nJesper Vinther: Harmonika\nJesper Falch: Percussion \nfacebook.com/phonixfolk\nyoutube.com/phonixfolk \nKoncerten er arrangeret i samarbejde mellem Tarm Kirke og Netværksspillestedet Generator. Billetter kan købes her: https://livewest.dk/netvaerksaktoerer/tarm-kirke/phoenix-sangka/
URL:https://folkalender.dk/arrangement/phoenix-sangka-tarm-kirke/
LOCATION:Tarm Kirke\, Kirkegade 13\, Tarm\, 6880
CATEGORIES:Koncert
ATTACH;FMTTYPE=image/jpeg:https://folkalender.dk/wp-content/uploads/2023/03/PhonixSangkaSpot-scaled.jpg
ORGANIZER;CN="Generator":MAILTO:info@spillestedet-generator.dk
GEO:55.9063596;8.523804
X-APPLE-STRUCTURED-LOCATION;VALUE=URI;X-ADDRESS=Tarm Kirke Kirkegade 13 Tarm 6880;X-APPLE-RADIUS=500;X-TITLE=Kirkegade 13:geo:8.523804,55.9063596
END:VEVENT
END:VCALENDAR