BEGIN:VCALENDAR
VERSION:2.0
PRODID:-//Folkalender - ECPv6.10.1.1//NONSGML v1.0//EN
CALSCALE:GREGORIAN
METHOD:PUBLISH
X-WR-CALNAME:Folkalender
X-ORIGINAL-URL:https://folkalender.dk
X-WR-CALDESC:Begivenheder for Folkalender
REFRESH-INTERVAL;VALUE=DURATION:PT1H
X-Robots-Tag:noindex
X-PUBLISHED-TTL:PT1H
BEGIN:VTIMEZONE
TZID:Europe/Helsinki
BEGIN:DAYLIGHT
TZOFFSETFROM:+0200
TZOFFSETTO:+0300
TZNAME:EEST
DTSTART:20230326T010000
END:DAYLIGHT
BEGIN:STANDARD
TZOFFSETFROM:+0300
TZOFFSETTO:+0200
TZNAME:EET
DTSTART:20231029T010000
END:STANDARD
END:VTIMEZONE
BEGIN:VEVENT
DTSTART;TZID=Europe/Helsinki:20230417T193000
DTEND;TZID=Europe/Helsinki:20230417T210000
DTSTAMP:20260421T184033
CREATED:20230124T090451Z
LAST-MODIFIED:20230124T090451Z
UID:5529-1681759800-1681765200@folkalender.dk
SUMMARY:Jensen & Bugge i Nordthy
DESCRIPTION:Koncert med de største hits indenfor dansk folkemusiktradition
URL:https://folkalender.dk/arrangement/jensen-bugge-i-nordthy-2/
LOCATION:Kirsten Kjærs museum\, Langvadvej 64\, Frøstup\, 7741
CATEGORIES:Koncert
ATTACH;FMTTYPE=image/jpeg:https://folkalender.dk/wp-content/uploads/2023/01/219512169_1815450605296294_6919678349169808627_n-1-1-scaled.jpg
GEO:57.0754947;8.9579761
X-APPLE-STRUCTURED-LOCATION;VALUE=URI;X-ADDRESS=Kirsten Kjærs museum Langvadvej 64 Frøstup 7741;X-APPLE-RADIUS=500;X-TITLE=Langvadvej 64:geo:8.9579761,57.0754947
END:VEVENT
END:VCALENDAR