BEGIN:VCALENDAR
VERSION:2.0
PRODID:-//Folkalender - ECPv6.10.1.1//NONSGML v1.0//EN
CALSCALE:GREGORIAN
METHOD:PUBLISH
X-WR-CALNAME:Folkalender
X-ORIGINAL-URL:https://folkalender.dk
X-WR-CALDESC:Begivenheder for Folkalender
REFRESH-INTERVAL;VALUE=DURATION:PT1H
X-Robots-Tag:noindex
X-PUBLISHED-TTL:PT1H
BEGIN:VTIMEZONE
TZID:Europe/Helsinki
BEGIN:DAYLIGHT
TZOFFSETFROM:+0200
TZOFFSETTO:+0300
TZNAME:EEST
DTSTART:20230326T010000
END:DAYLIGHT
BEGIN:STANDARD
TZOFFSETFROM:+0300
TZOFFSETTO:+0200
TZNAME:EET
DTSTART:20231029T010000
END:STANDARD
END:VTIMEZONE
BEGIN:VEVENT
DTSTART;VALUE=DATE:20230411
DTEND;VALUE=DATE:20230417
DTSTAMP:20260421T184130
CREATED:20220905T182021Z
LAST-MODIFIED:20220905T182021Z
UID:4439-1681171200-1681689599@folkalender.dk
SUMMARY:Folkedans og højskole
DESCRIPTION:Dans er lutter livsglæde. Dans er altid sjovt\, og på dette kursus kan alle være med. Om du er nybegynder\, øvet eller rutineret har ingen betydning. Her bliver alle budt op til dans\, hvad enten du komm10er alene\, som par eller en lille flok venner. \nHvis du har en makker\, der ikke danser\, kan vedkommende følge det andet kursus\, og I er alligevel sammen på højskole. \nUdflugten går til det store\, flotte og velfungerende kulturhus Dokk1 i Aarhus\, hvor vi skal have en rundvisning. Vi skal også se og høre om det nye Aarhus på Aarhus Ø. \nKurset ligger parallelt med ”Aarhus de 5 store”\, så vi vil spise\, høre foredrag og tage på udflugt sammen. \n“Folkedans og højskole” varer fra 11.-16. april 2023 \nInstruktører:\nJan Kirk Todsen\, formand for Folkedans Danmark\nNathasja Vosgerau Hansen\, spillemand
URL:https://folkalender.dk/arrangement/folkedans-og-hoejskole/
LOCATION:Rude Strand Højskole\, Kystvejen 114\, Odder\, 8300
CATEGORIES:Danseworkshop,Kursus
GEO:55.9916862;10.251416
X-APPLE-STRUCTURED-LOCATION;VALUE=URI;X-ADDRESS=Rude Strand Højskole Kystvejen 114 Odder 8300;X-APPLE-RADIUS=500;X-TITLE=Kystvejen 114:geo:10.251416,55.9916862
END:VEVENT
BEGIN:VEVENT
DTSTART;VALUE=DATE:20230412
DTEND;VALUE=DATE:20230413
DTSTAMP:20260421T184130
CREATED:20230323T143631Z
LAST-MODIFIED:20230323T143631Z
UID:6056-1681257600-1681343999@folkalender.dk
SUMMARY:Den dansk-svenske forbindelse (DK/SE)
DESCRIPTION:Nordisk koncert med Søren Krogh\, Anne Eltard\, Annika Fehling\, Staffan Wester \nI august 2022 mødtes to danske sangskrivere med to svenske kollegaer. Søren Krogh og Anne Eltard fra Danmark mødtes i det sydlige Skåne i et sommerhus med Annika Fehling og Staffan Wester. \nSøren Krogh og Anne Eltard har hver deres solokarriere kørende i Danmark og endda begge med udgivelser i år. Annika Fehling har 14 albums bag sig og er bosiddende på Gotland hvorfra hendes aktiviteter udgår. Og endelig er Staffan Wester fra Malmø sandelig også aktuel med et soloalbum. \nDe 4 sangskrivere har skrevet en god håndfuld sange sammen på dansk og svensk –- nogle gange oven i hinanden\, andre gange skiftevis dansk og svensk. Sangene blev til på blot to dage i Sydskåne og blev efterfølgende spillet med verdenspremiere til 20-årsjubilæet for Visfestivalen i Lund i starten af august. \nNu har Krogh/Eltard/Fehling/Wester fået blod på tanden og laver en mindre turne i Danmark. Det bliver en koncert med de nye dansk/svenske sange suppleret med sange fra de fire sangskriveres bagkatalog. \nEn skøn nordisk koncert\, hvor de to sprog flyder naturligt sammen og understøttes af den skønneste folkemusik. \nSøren Krogh: Sang\, mandolin og guitar\nAnne Eltard: Sang\, violin og guitar\nAnnika Fehling: Sang og guitar\nStaffan Wester: Sang\, bas og guitar
URL:https://folkalender.dk/arrangement/den-dansk-svenske-forbindelse-dk-se/
LOCATION:Baltoppen LIVE\, Baltorpvej 20\, Ballerup\, 2750
CATEGORIES:Koncert
ATTACH;FMTTYPE=image/jpeg:https://folkalender.dk/wp-content/uploads/2023/03/DenDanskSvenskeForbindelse.jpg
GEO:55.7305364;12.3522152
X-APPLE-STRUCTURED-LOCATION;VALUE=URI;X-ADDRESS=Baltoppen LIVE Baltorpvej 20 Ballerup 2750;X-APPLE-RADIUS=500;X-TITLE=Baltorpvej 20:geo:12.3522152,55.7305364
END:VEVENT
BEGIN:VEVENT
DTSTART;TZID=Europe/Helsinki:20230412T193000
DTEND;TZID=Europe/Helsinki:20230412T210000
DTSTAMP:20260421T184130
CREATED:20230103T211202Z
LAST-MODIFIED:20230225T112537Z
UID:5286-1681327800-1681333200@folkalender.dk
SUMMARY:Kevin Lees & Rune Barslund
DESCRIPTION:Kevin Lees\, violin\, bouzouki og Rune Barslund\, accordeon\, irske fløjter spiller især musik fra de keltiske øer og blander med egne kompositioner i samme stil. De spiller med et stort instrumentalt overskud\, og deres levende spil indbyder til både fordybelse og fodtramp. Mellem numrene fortælles der små historier og anekdoter\, som relaterer sig til musikken. \nKevin og Rune er to erfarne herrer\, som har spillet koncerter rundt om i Europa med bands som Inver\, Kasír og Last Orders. Kevin har tidligere vundet en BBC Radio 2 Young Folk Award med sidstnævnte band\, og Rune modtog sammen med Andreas Tophøj i 2012 en Danish Music Award Folk for Årets track.\nPublikum kan glæde sig til en stemningsfuld koncert med musik af høj klasse! \nDer er gratis entré.
URL:https://folkalender.dk/arrangement/kevin-lees-rune-barslund/
LOCATION:Thurø kirke\, Svendborg\, Kirkestræde 10A\,\, Svendborg\, 5700
CATEGORIES:Koncert
ATTACH;FMTTYPE=image/jpeg:https://folkalender.dk/wp-content/uploads/2023/01/Kevin-Less-Rune-Barslund-scaled.jpg
ORGANIZER;CN="Thur%C3%B8 Kirke%2C 5700 Svendborg":MAILTO:vilupede@gmail.com
GEO:55.050035;10.663519
X-APPLE-STRUCTURED-LOCATION;VALUE=URI;X-ADDRESS=Thurø kirke Svendborg Kirkestræde 10A Svendborg 5700;X-APPLE-RADIUS=500;X-TITLE=Kirkestræde 10A\,:geo:10.663519,55.050035
END:VEVENT
END:VCALENDAR