BEGIN:VCALENDAR
VERSION:2.0
PRODID:-//Folkalender - ECPv6.10.1.1//NONSGML v1.0//EN
CALSCALE:GREGORIAN
METHOD:PUBLISH
X-WR-CALNAME:Folkalender
X-ORIGINAL-URL:https://folkalender.dk
X-WR-CALDESC:Begivenheder for Folkalender
REFRESH-INTERVAL;VALUE=DURATION:PT1H
X-Robots-Tag:noindex
X-PUBLISHED-TTL:PT1H
BEGIN:VTIMEZONE
TZID:Europe/Helsinki
BEGIN:DAYLIGHT
TZOFFSETFROM:+0200
TZOFFSETTO:+0300
TZNAME:EEST
DTSTART:20230326T010000
END:DAYLIGHT
BEGIN:STANDARD
TZOFFSETFROM:+0300
TZOFFSETTO:+0200
TZNAME:EET
DTSTART:20231029T010000
END:STANDARD
END:VTIMEZONE
BEGIN:VEVENT
DTSTART;VALUE=DATE:20230411
DTEND;VALUE=DATE:20230417
DTSTAMP:20260421T184131
CREATED:20220905T182021Z
LAST-MODIFIED:20220905T182021Z
UID:4439-1681171200-1681689599@folkalender.dk
SUMMARY:Folkedans og højskole
DESCRIPTION:Dans er lutter livsglæde. Dans er altid sjovt\, og på dette kursus kan alle være med. Om du er nybegynder\, øvet eller rutineret har ingen betydning. Her bliver alle budt op til dans\, hvad enten du komm10er alene\, som par eller en lille flok venner. \nHvis du har en makker\, der ikke danser\, kan vedkommende følge det andet kursus\, og I er alligevel sammen på højskole. \nUdflugten går til det store\, flotte og velfungerende kulturhus Dokk1 i Aarhus\, hvor vi skal have en rundvisning. Vi skal også se og høre om det nye Aarhus på Aarhus Ø. \nKurset ligger parallelt med ”Aarhus de 5 store”\, så vi vil spise\, høre foredrag og tage på udflugt sammen. \n“Folkedans og højskole” varer fra 11.-16. april 2023 \nInstruktører:\nJan Kirk Todsen\, formand for Folkedans Danmark\nNathasja Vosgerau Hansen\, spillemand
URL:https://folkalender.dk/arrangement/folkedans-og-hoejskole/
LOCATION:Rude Strand Højskole\, Kystvejen 114\, Odder\, 8300
CATEGORIES:Danseworkshop,Kursus
GEO:55.9916862;10.251416
X-APPLE-STRUCTURED-LOCATION;VALUE=URI;X-ADDRESS=Rude Strand Højskole Kystvejen 114 Odder 8300;X-APPLE-RADIUS=500;X-TITLE=Kystvejen 114:geo:10.251416,55.9916862
END:VEVENT
BEGIN:VEVENT
DTSTART;TZID=Europe/Helsinki:20230411T193000
DTEND;TZID=Europe/Helsinki:20230411T213000
DTSTAMP:20260421T184131
CREATED:20230225T155451Z
LAST-MODIFIED:20230225T155552Z
UID:5856-1681241400-1681248600@folkalender.dk
SUMMARY:Lær at danse les Lanchiers på Sæbygårdskolen\, Sæbygårdvej 34\, 9300 Sæby
DESCRIPTION:Lær at danse Les Lanciers\npå Sæbygårdskolen den 11. 18. og 25. april\nSæbygårdvej 34\, 9300 Sæby\nKurset strækker sig over 3 aftener med levende musik af Bjarne Jensen og grundig instruktion af Vita Ugilt.\nDansen gennemgås fra bunden\, så også nybegyndere kan være med.\nEn oplagt mulighed for at lære dansen\, som bl.a. bruges ved afslutningsfest på gymnasier og ved andre festlige lejligheder.\nHvis du allerede har lært dansen\, er der en god lejlighed til at få den genopfrisket.\nPris kr. 75\,00 pr. person for hele kurset Husk at møde op første gang så du kan være med fra start.\nMødetid: Kl. 19.30 til 21.30 de to første gange (sidste aften danser vi til kl. 22.30) Den sidste aften hygger vi med kaffe/te og brød. Pris kr. 30\,00  \nHar du spørgsmål om kurset inden start\, kontakt gerne instruktør Vita Ugilt på tlf. 2860 3645\n Se mere på www.saebyfolkedans.dk eller facebook Sæbyfolkedans
URL:https://folkalender.dk/arrangement/laer-at-danse-les-lanchiers-paa-saebygaardskolen-saebygaardvej-34-9300-saeby/2023-04-11/
CATEGORIES:Folkedanserforening
ATTACH;FMTTYPE=image/jpeg:https://folkalender.dk/wp-content/uploads/2023/02/les-lanciers-foreninger-2023-rotated.jpg
ORGANIZER;CN="S&aelig%3Bby Folkedanserforening":MAILTO:syvstenhus@gmail.com
END:VEVENT
BEGIN:VEVENT
DTSTART;TZID=Europe/Helsinki:20230411T193000
DTEND;TZID=Europe/Helsinki:20230411T230000
DTSTAMP:20260421T184131
CREATED:20220908T170940Z
LAST-MODIFIED:20220908T170940Z
UID:4525-1681241400-1681254000@folkalender.dk
SUMMARY:Greg Russell Solo (UK)
DESCRIPTION:“Convincingly individual” \nGreg Russell er en fremragende engelsk sanger og sangskriver\, der vil være velkendt for en stor del af det danske folkemusikpublikum. Han sang sig ind i publikums hjerter som en del af duoen Greg Russell & Ciaran Algar\, da de fik debut på Tønder Festival i 2015. De har efterfølgende været tilbage på festivalen flere gange\, og turnerede Danmark sammen i 2017\, men valgte i 2020 efter 10 års samarbejde at gå hver til sit. \nGreg Russell er dog fortsat meget aktiv\, dels med sine solooptrædener og som del af forskellige kritikerroste projekter\, bl.a. Shake the Chains (sammen med bl.a. Hannah Martin fra Edgelarks)\, folk-operaen The Transports\, m.v. \nGreg udgav i 2017 et meget rost soloalbum\, Inclined to be Red\, og i 2019 lavede han sammen med Danny Pedler et konceptalbum kaldt Field and Dyke. \nHans repertoire består både af egne numre og fine fortolkninger af andres. Læg dertil en naturligt underspillet selvironi samt en skarp humor\, så får man et godt indtryk af\, hvad han står for. \n“Greg Russell plays an sings with a maturity and emotion that belies his tender years. It is so rare to find new performers who have the confidence to play with this delicacy of touch and yet to sing in such a heartfelt way.”\nMark Radcliffe\, BBC Radio 2 \n“convincingly individual”\nfRoots \n“a singer par excellence\, with few to rival him in any genre”.\nTykes News \n“Russell can do the personal as skillfully as he does the political”.\nFRUK \nSpisning kan tilkøbes: Baltoppen LIVEs koncert buffet (serveres fra kl. 18:00): 180\,-
URL:https://folkalender.dk/arrangement/greg-russell-solo-uk/
LOCATION:Baltoppen LIVE\, Baltorpvej 20\, Ballerup\, 2750
CATEGORIES:Koncert
GEO:55.7305364;12.3522152
X-APPLE-STRUCTURED-LOCATION;VALUE=URI;X-ADDRESS=Baltoppen LIVE Baltorpvej 20 Ballerup 2750;X-APPLE-RADIUS=500;X-TITLE=Baltorpvej 20:geo:12.3522152,55.7305364
END:VEVENT
END:VCALENDAR