BEGIN:VCALENDAR
VERSION:2.0
PRODID:-//Folkalender - ECPv6.10.1.1//NONSGML v1.0//EN
CALSCALE:GREGORIAN
METHOD:PUBLISH
X-WR-CALNAME:Folkalender
X-ORIGINAL-URL:https://folkalender.dk
X-WR-CALDESC:Begivenheder for Folkalender
REFRESH-INTERVAL;VALUE=DURATION:PT1H
X-Robots-Tag:noindex
X-PUBLISHED-TTL:PT1H
BEGIN:VTIMEZONE
TZID:Europe/Helsinki
BEGIN:DAYLIGHT
TZOFFSETFROM:+0200
TZOFFSETTO:+0300
TZNAME:EEST
DTSTART:20230326T010000
END:DAYLIGHT
BEGIN:STANDARD
TZOFFSETFROM:+0300
TZOFFSETTO:+0200
TZNAME:EET
DTSTART:20231029T010000
END:STANDARD
END:VTIMEZONE
BEGIN:VEVENT
DTSTART;TZID=Europe/Helsinki:20230331T193000
DTEND;TZID=Europe/Helsinki:20230331T213000
DTSTAMP:20260421T154738
CREATED:20230112T101237Z
LAST-MODIFIED:20230112T114735Z
UID:5383-1680291000-1680298200@folkalender.dk
SUMMARY:Jensen & Bugge på Klaverfabrikken
DESCRIPTION:Mette Kathrine og Kristian spiller danske folkemusikmusikhits til øret – dog forhindrer ingen i at musikken også kan være til benene. Nye og gamle hits bla. fra deres 20 års jubilæumsudgivelse “Greatest Hits”
URL:https://folkalender.dk/arrangement/jensen-bugge-paa-klaverfabrikken-2/
LOCATION:Klaverfabrikken\, Hillerød\, Fredensvej 12A\, Hillerød\, 3400
CATEGORIES:Koncert
ATTACH;FMTTYPE=image/jpeg:https://folkalender.dk/wp-content/uploads/2023/01/JensenBugge10-kopi-1-scaled.jpg
ORGANIZER;CN="KlaverfabrikkenFOLK":MAILTO:thougaard@c.dk
GEO:55.9273762;12.2969322
X-APPLE-STRUCTURED-LOCATION;VALUE=URI;X-ADDRESS=Klaverfabrikken Hillerød Fredensvej 12A Hillerød 3400;X-APPLE-RADIUS=500;X-TITLE=Fredensvej 12A:geo:12.2969322,55.9273762
END:VEVENT
BEGIN:VEVENT
DTSTART;TZID=Europe/Helsinki:20230331T200000
DTEND;TZID=Europe/Helsinki:20230331T220000
DTSTAMP:20260421T154738
CREATED:20221106T121413Z
LAST-MODIFIED:20230314T130346Z
UID:4900-1680292800-1680300000@folkalender.dk
SUMMARY:Pia Nygaard & Denis McLaughlin
DESCRIPTION:Pia Nygaard og Denis McLaughlin sætter en stor ære i at formidle de irske sange\, melodier og fortællinger\, på en autentisk og medrivende facon. De fortolker traditionelle irske sange og melodier for at fortælle den gode historie\, som irsk musik er kendt for. Med en musikskat der rummer alt fra de kendte pub-sange over romantiske ballader\, lystige drikkeviser og svingende melodier\, tilbyder de en bred vifte af musikalske juveler\, hvor der er noget for enhver smag. \nDenis McLaughlin er et stort navn inden for irsk folkemusik i Danmark. Han er fra Derry i Irland\, og bosatte sig i det sønderjyske tilbage i 1980’erne. Han blev hurtigt en førende irsk musiker i det danske og har siden været en inspirator for flere generationer af danske folkemusikere. Denis synger med en meget stærk og flot vokal\, både de stille ballader\, egne sange og de gode kendte pub-sange\, som alle synger med på. Han akkompagnerer sig selv med guitar\, oktav mandola\, banjo\, bodhran og bones. \nPia Nygaard er uddannet folkemusiker fra syddansk musikkonservatorium og skuespillerskole i 2010\, hun kendte meget lidt til den Irske folkemusik genre\, da hun mødte Denis i 2008 på Strib Vinterfestival. Siden mødet med Denis er hun blevet en skattet del af det irske folk-miljø i Danmark. Hun farver musikken i mange nuancer\, med sin bløde\, sprøde klang\, og det gør hun faktisk også i andre spændende konstellationer. \nBilletter kan bestilles eller købes via www.haslev-folk-club.dk \nVores koncerter er støttet af Statens Kunstråd og Faxe Kommune
URL:https://folkalender.dk/arrangement/nygaard-mclaughlin-christiansen/
LOCATION:Haslev Bibliotek\, Mødesalen\, Jernbanegade 62\, Haslev\, 4690
CATEGORIES:Koncert
ATTACH;FMTTYPE=image/jpeg:https://folkalender.dk/wp-content/uploads/2022/11/15774697_1411402872206120_4630505872946118161_o-2.jpg
GEO:55.3245439;11.9633135
X-APPLE-STRUCTURED-LOCATION;VALUE=URI;X-ADDRESS=Haslev Bibliotek Mødesalen Jernbanegade 62 Haslev 4690;X-APPLE-RADIUS=500;X-TITLE=Jernbanegade 62:geo:11.9633135,55.3245439
END:VEVENT
END:VCALENDAR