BEGIN:VCALENDAR
VERSION:2.0
PRODID:-//Folkalender - ECPv6.10.1.1//NONSGML v1.0//EN
CALSCALE:GREGORIAN
METHOD:PUBLISH
X-ORIGINAL-URL:https://folkalender.dk
X-WR-CALDESC:Begivenheder for Folkalender
REFRESH-INTERVAL;VALUE=DURATION:PT1H
X-Robots-Tag:noindex
X-PUBLISHED-TTL:PT1H
BEGIN:VTIMEZONE
TZID:Europe/Helsinki
BEGIN:DAYLIGHT
TZOFFSETFROM:+0200
TZOFFSETTO:+0300
TZNAME:EEST
DTSTART:20230326T010000
END:DAYLIGHT
BEGIN:STANDARD
TZOFFSETFROM:+0300
TZOFFSETTO:+0200
TZNAME:EET
DTSTART:20231029T010000
END:STANDARD
END:VTIMEZONE
BEGIN:VEVENT
DTSTART;TZID=Europe/Helsinki:20230326T110000
DTEND;TZID=Europe/Helsinki:20230326T170000
DTSTAMP:20260421T143419
CREATED:20230123T225619Z
LAST-MODIFIED:20230123T225619Z
UID:5526-1679828400-1679850000@folkalender.dk
SUMMARY:Irsk workshop med Tradish
DESCRIPTION:Bindende tilmelding sådan (senest 17/3):\n1. Betal til konto 9070 / 0001516841 (husk at anføre navn)\n2. Udfyld tilmeldingsformular HER\nEfter tilmeldingsfristen tilsendes bekræftelse + deltagerliste!  \nOm kurset:\nLouise Vangsgaard (violin)\nVi vil lære melodier og gennem indlæringen arbejde med strøg og kigge på ornamentation\, som tilfører melodierne en mere irsk lyd og feeling. Vi skal spille melodityper som reels\, jigs og polkas\, der hver har deres rytmik og taktart. Som udgangspunkt indlæres melodierne udenad\, men der vil også være noder tilgængelige. DU KAN OGSÅ DELTAGE HER MED ANDRE INSTRUMENTER. \nBrian Woetmann (bodhrán)\nVi vil tage udgangspunkt de traditionelle melodi-typer såsom reel\, jigs\, polkas\, slipjigs\, hornpipes mm. Her vil vi starte med grund-teknikker/rytmer og udvikle variationsmuligheder på dem. Derefter ser vi på hvordan vi med bodhranspillet kan sætte melodierne i forskellige perspektiver\, hvordan vi kan ændre på energi\, stemning og måden vi får helheden til at svinge/groove på forskellige måder. Vi skal nok få en god snak om hvilke roller de forskellige instrumenter kan have.\nDER ER MULIGHED FOR AT LÅNE ET INSTRUMENT HER. \nJohn Pilkington (guitar / bouzouki)\nVi undersøger hvordan vi kan bruge guitar eller bouzouki\, til at lave spændende akkompagnement til irske tunes. Vores udgangspunkt vil være akkompagnement til reels og jigs\, og hvordan vi kan bruge ”dropped-D”-tuning i guitar til god effekt. Herefter bygger vi op fra bastoner til akkorder. Vi undersøger\, hvordan vi kan bruge vores plektrum-teknik til at skabe spændende rytmiske effekter. Til vores mere avancerede deltagere kan vi fokusere på hvordan guitaren også kan fungere som melodiinstrument. \nVi slutter dagen af med en lille koncert og sammenspil.
URL:https://folkalender.dk/arrangement/irsk-workshop-med-tradish/
LOCATION:KulturStationen\, 9520 Skørping\, Sverriggårdsvej 4\, Skørping\, 9520
CATEGORIES:Spilleworkshop
ATTACH;FMTTYPE=image/jpeg:https://folkalender.dk/wp-content/uploads/2023/01/thumb500-909573610d01c1b40a17131c4993f9280acaae.jpg
ORGANIZER;CN="Himmerlands Folkemusikskole":MAILTO:s.soeborg@gmail.com
GEO:56.8358368;9.887984
X-APPLE-STRUCTURED-LOCATION;VALUE=URI;X-ADDRESS=KulturStationen 9520 Skørping Sverriggårdsvej 4 Skørping 9520;X-APPLE-RADIUS=500;X-TITLE=Sverriggårdsvej 4:geo:9.887984,56.8358368
END:VEVENT
BEGIN:VEVENT
DTSTART;TZID=Europe/Helsinki:20230326T130000
DTEND;TZID=Europe/Helsinki:20230326T163000
DTSTAMP:20260421T143419
CREATED:20230130T103512Z
LAST-MODIFIED:20230313T103303Z
UID:5537-1679835600-1679848200@folkalender.dk
SUMMARY:Polska grundkursus
DESCRIPTION:Polska grundkursus for begyndere  \nPolskakursuset d. 26. marts og 2. april er fuldtallig og tager ikke imod flere tilmeldinger. \nVenlig hilsen Birgit Møldrup og Jens Markvard Andersen \nArrangør: Roskilde Folkedanserlaug – Lirum Larum
URL:https://folkalender.dk/arrangement/polska-grundkursus/2023-03-26/
LOCATION:Musikkens Hus\, Kildegården 6\, Musikkens Hus\, Kildegården 6\, 1. sal\, lokale 101\, Roskilde\, 4000
CATEGORIES:Danseworkshop
ATTACH;FMTTYPE=image/png:https://folkalender.dk/wp-content/uploads/2023/01/AA3C1C80-DA6C-4842-90AF-1735ECD415CA-5.png
ORGANIZER;CN="Roskilde Folkedanserlaug - Lirum Larum":MAILTO:Jensmarkvardandersen@outlook.dk
GEO:55.6392104;12.0708389
X-APPLE-STRUCTURED-LOCATION;VALUE=URI;X-ADDRESS=Musikkens Hus Kildegården 6 Musikkens Hus Kildegården 6 1. sal lokale 101 Roskilde 4000;X-APPLE-RADIUS=500;X-TITLE=Musikkens Hus\, Kildegården 6\, 1. sal\, lokale 101:geo:12.0708389,55.6392104
END:VEVENT
BEGIN:VEVENT
DTSTART;TZID=Europe/Helsinki:20230326T153000
DTEND;TZID=Europe/Helsinki:20230326T170000
DTSTAMP:20260421T143419
CREATED:20230131T153557Z
LAST-MODIFIED:20230131T153557Z
UID:5578-1679844600-1679850000@folkalender.dk
SUMMARY:Den danske Spillemandsmesse på Stevns - Roholte Kirke
DESCRIPTION:Spillemandsmessen er en gudstjeneste iklædt dansk folkemusik\, og den første af sin art på dansk. Teksten er skrevet af Holger Lissner. Musikken er komponeret af Ivan Bjerre Damgård og Michael Sommer\, med udgangspunkt i dansk traditionel dansemusik. Musikken og arrangementerne har udgangspunkt i den danske traditionelle dansemusik. Alle satser er derfor blevet til på basis af en bestemt danserytme. I inviteres til at deltage i Spillemandsmessen i henholdsvis Enderslev og Roholte Kirker.\nFra kl.15.30-15.50 synges de salmer som indgår i messen igennem med menigheden.\nGudstjenesten starter 16.00 og der er gratis entré \nVed messen – som er en vekslen mellem præst\, menighed og kor – medvirker Enderslev Rytmiske Kor og Rokokokoret fra Roholte under ledelse af dirigent Otto Laust og operasanger Betty Gregers Arendt\nMusik “Messekvartetten”: Bjarne Grue (harmonika)\, Michael Petersen (kontrabas)\, Christina Bernstein (violin 2) og Mette From (violin 1).
URL:https://folkalender.dk/arrangement/den-danske-spillemandsmesse-paa-stevns-roholte-kirke/
LOCATION:Roholte Kirke\, Vindbyholtvej 51\, 4640 Faxe\, Vindbyholtvej 51\, Roholte\, Faxe\, 4640
CATEGORIES:Gudstjeneste
ATTACH;FMTTYPE=image/jpeg:https://folkalender.dk/wp-content/uploads/2023/01/Billede1-1.jpg
GEO:55.1955279;12.0907462
X-APPLE-STRUCTURED-LOCATION;VALUE=URI;X-ADDRESS=Roholte Kirke Vindbyholtvej 51 4640 Faxe Vindbyholtvej 51 Roholte Faxe 4640;X-APPLE-RADIUS=500;X-TITLE=Vindbyholtvej 51\, Roholte:geo:12.0907462,55.1955279
END:VEVENT
BEGIN:VEVENT
DTSTART;TZID=Europe/Helsinki:20230326T200000
DTEND;TZID=Europe/Helsinki:20230326T220000
DTSTAMP:20260421T143419
CREATED:20230210T130046Z
LAST-MODIFIED:20230317T091037Z
UID:5661-1679860800-1679868000@folkalender.dk
SUMMARY:Beat The Drum – The Runrig Experience
DESCRIPTION:Glæd jer til en storslået hyldestkoncert for det Skotske band Runrig.  \nBeat The Drum er et professionelt tribute band\, der spiller en hyldest til det skotske keltiske rock-band ‘Runrig’. \nDet er tid til ‘Dance Again’ og genopleve de utallige Runrig sange\, herunder Loch Lomond\, Rocket To The Moon\, Every River\, Greatest Flame\, Hearts of Olden Glory og mange flere leveret af det nye band ‘Runrig Experience’. \nRunrig var et af Skotlands mest succesfulde bands\, som udover successen i hjemlandet\, også havde en stor\, trofast fanskare i Danmark og Tyskland. Bandet startede på Isle of Skye tilbage i 1973 og nåede i alt at lave 14 studiealbums. \nI 2016 annoncerede Runrig\, at det 14. album ville blive det sidste og i 2018 afholdt de en kæmpe afskedsturné under titlen “The Final Mile” med to udsolgte koncerter i henholdsvis Royal Arena og Jyske Bank Boxen\, og afsluttede på hjemmebane i Skotland foran 52.000 publikummer på Stirling City Park.
URL:https://folkalender.dk/arrangement/beat-the-drum-the-runrig-experience-4/
LOCATION:Gram Slot\, Slotsvej 54\, Gram\, 6510
CATEGORIES:Koncert
ATTACH;FMTTYPE=image/jpeg:https://folkalender.dk/wp-content/uploads/2023/02/Beat-The-Drum-1-10-2.jpg
ORGANIZER;CN="Art &amp%3B Music Scandinavia":MAILTO:bent@art-music.dk
GEO:55.2952156;9.0573555
X-APPLE-STRUCTURED-LOCATION;VALUE=URI;X-ADDRESS=Gram Slot Slotsvej 54 Gram 6510;X-APPLE-RADIUS=500;X-TITLE=Slotsvej 54:geo:9.0573555,55.2952156
END:VEVENT
END:VCALENDAR