BEGIN:VCALENDAR
VERSION:2.0
PRODID:-//Folkalender - ECPv6.10.1.1//NONSGML v1.0//EN
CALSCALE:GREGORIAN
METHOD:PUBLISH
X-ORIGINAL-URL:https://folkalender.dk
X-WR-CALDESC:Begivenheder for Folkalender
REFRESH-INTERVAL;VALUE=DURATION:PT1H
X-Robots-Tag:noindex
X-PUBLISHED-TTL:PT1H
BEGIN:VTIMEZONE
TZID:Europe/Helsinki
BEGIN:DAYLIGHT
TZOFFSETFROM:+0200
TZOFFSETTO:+0300
TZNAME:EEST
DTSTART:20230326T010000
END:DAYLIGHT
BEGIN:STANDARD
TZOFFSETFROM:+0300
TZOFFSETTO:+0200
TZNAME:EET
DTSTART:20231029T010000
END:STANDARD
END:VTIMEZONE
BEGIN:VEVENT
DTSTART;TZID=Europe/Helsinki:20230325T080000
DTEND;TZID=Europe/Helsinki:20230325T170000
DTSTAMP:20260421T144752
CREATED:20230210T125633Z
LAST-MODIFIED:20230317T091000Z
UID:5654-1679731200-1679763600@folkalender.dk
SUMMARY:Beat The Drum – The Runrig Experience
DESCRIPTION:Glæd jer til en storslået hyldestkoncert for det Skotske band Runrig.  \nBeat The Drum er et professionelt tribute band\, der spiller en hyldest til det skotske keltiske rock-band ‘Runrig’. \nDet er tid til ‘Dance Again’ og genopleve de utallige Runrig sange\, herunder Loch Lomond\, Rocket To The Moon\, Every River\, Greatest Flame\, Hearts of Olden Glory og mange flere leveret af det nye band ‘Runrig Experience’. \nRunrig var et af Skotlands mest succesfulde bands\, som udover successen i hjemlandet\, også havde en stor\, trofast fanskare i Danmark og Tyskland. Bandet startede på Isle of Skye tilbage i 1973 og nåede i alt at lave 14 studiealbums. \nI 2016 annoncerede Runrig\, at det 14. album ville blive det sidste og i 2018 afholdt de en kæmpe afskedsturné under titlen “The Final Mile” med to udsolgte koncerter i henholdsvis Royal Arena og Jyske Bank Boxen\, og afsluttede på hjemmebane i Skotland foran 52.000 publikummer på Stirling City Park.
URL:https://folkalender.dk/arrangement/beat-the-drum-the-runrig-experience-3/
LOCATION:Vendelbohus\, Nørregade 22\, Hjørring\, 9800
CATEGORIES:Koncert
ATTACH;FMTTYPE=image/jpeg:https://folkalender.dk/wp-content/uploads/2023/02/Beat-The-Drum-1-10.jpg
ORGANIZER;CN="Art &amp%3B Music Scandinavia":MAILTO:bent@art-music.dk
GEO:57.4625459;9.9834896
X-APPLE-STRUCTURED-LOCATION;VALUE=URI;X-ADDRESS=Vendelbohus Nørregade 22 Hjørring 9800;X-APPLE-RADIUS=500;X-TITLE=Nørregade 22:geo:9.9834896,57.4625459
END:VEVENT
BEGIN:VEVENT
DTSTART;TZID=Europe/Helsinki:20230325T140000
DTEND;TZID=Europe/Helsinki:20230325T170000
DTSTAMP:20260421T144752
CREATED:20230228T140611Z
LAST-MODIFIED:20230228T140611Z
UID:5874-1679752800-1679763600@folkalender.dk
SUMMARY:En eftermiddag med viser og fællessang
DESCRIPTION:”Sange er da til for at blive sunget”. \nI løbet af eftermiddagen bliver der budt på viser og sange af alle slags – fx frække sange\, romantiske viser\, gårdsang og sange fra ”De rejsende”. \nViserne bliver præsenteret af sangere og musikere i forskellige aldre\, flere af dem fra eller bosat i og omkring Sorø – alle har arbejdet med sangen som mundtlig tradition og samværsform i mange år. \nSe mere på hjemmesidens link
URL:https://folkalender.dk/arrangement/en-eftermiddag-med-viser-og-faellessang/
LOCATION:Broby Gamle Skole\, Broby\, Sorø\, Suserupvej 55\, Sorø\, 4180
ATTACH;FMTTYPE=image/jpeg:https://folkalender.dk/wp-content/uploads/2023/02/Vise-eftermiddag-3-95-2023.jpg
ORGANIZER;CN="Folkekulturv&aelig%3Brkstedet Broby Gamle Skole":MAILTO:pha@bgsbroby.dk
GEO:55.3960755;11.6182675
X-APPLE-STRUCTURED-LOCATION;VALUE=URI;X-ADDRESS=Broby Gamle Skole Broby Sorø Suserupvej 55 Sorø 4180;X-APPLE-RADIUS=500;X-TITLE=Suserupvej 55:geo:11.6182675,55.3960755
END:VEVENT
BEGIN:VEVENT
DTSTART;TZID=Europe/Helsinki:20230325T200000
DTEND;TZID=Europe/Helsinki:20230325T223000
DTSTAMP:20260421T144752
CREATED:20230123T225038Z
LAST-MODIFIED:20230123T225038Z
UID:5523-1679774400-1679783400@folkalender.dk
SUMMARY:Tradish med danser Gunilla Odsbøl
DESCRIPTION:Efter 10 år\, 3 cd’er og en mangfoldighed af koncerter i ind –og udland\, præsenterer Tradish nu en række specialkoncerter sammen med Europamester i irsk stepdans\, Gunilla Odsbøl.I mødet med Gunilla ønsker Tradish at hylde den tætte og magiske sammenhæng mellem den irske musik og dans. Koncerterne indeholder både traditionelt og ny komponeret materiale\, der smelter lyd og bevægelse sammen på en spændende måde. \nTradish er:\nJohn Pilkington: vokal\, guitar\, bouzouki\, step\nLouise Ring Vangsgaard: violin\, bratsch\, vokal\nBrian Woetmann: bodhrán\, percussion\, vokal\, step\nGunilla Odsbøl: dansog step \nTradish har igennem de sidste 10 år rejst rundt med deres musik\, og fortalt historier på hundredvis af scener på tværs af Europa. Tradish har mødt og genset et publikum\, der værdsætter den åbne og personlige tilgang til den traditionelle irske musik\, der kendetegner Tradish. Som en del af den levende irske musiktradition\, spiller Tradish sig ind i en spændende og livsbekræftende blanding af det gamle og det nye\, fortid og nutid\, med en stærk forankring og respekt for rødderne.
URL:https://folkalender.dk/arrangement/tradish-med-danser-gunilla-odsboel/
LOCATION:Maskinhallen\, Frederikshavn\, Skolegade 8\, Frederikshavn\, 9900
CATEGORIES:Koncert
ATTACH;FMTTYPE=image/jpeg:https://folkalender.dk/wp-content/uploads/2023/01/Tradish-press-photo-with-Gunilla-2-scaled.jpg
GEO:57.4421931;10.5359388
X-APPLE-STRUCTURED-LOCATION;VALUE=URI;X-ADDRESS=Maskinhallen Frederikshavn Skolegade 8 Frederikshavn 9900;X-APPLE-RADIUS=500;X-TITLE=Skolegade 8:geo:10.5359388,57.4421931
END:VEVENT
BEGIN:VEVENT
DTSTART;TZID=Europe/Helsinki:20230325T210000
DTEND;TZID=Europe/Helsinki:20230325T223000
DTSTAMP:20260421T144752
CREATED:20221219T124729Z
LAST-MODIFIED:20221219T124729Z
UID:5122-1679778000-1679783400@folkalender.dk
SUMMARY:Fætters
DESCRIPTION:Vestjysk lune tilsat musikalitet og stærke familiære bånd. Det er en cocktail\, der kaster god underholdning af sig. Man kan næsten smage saltet fra Vesterhavet og mærke vestenvinden blæse omkring ørerne når bandet FÆTTERS inviterer til festlig folkpop krydret med lattervækkende og lune historier. \nFætters har udgivet to albums og et tredje udkommer i 2022.\nGAFFA skrev om den seneste plade: “Fætters er et godt blended mix mellem Johnny Madsens excentricitet\, Allan Olsens hjemstavnsfortællinger og Coldplays arenatricks. Ikke ulig det musikalske udtryk\, Mumford & Sons har skabt sig en stor karriere på”. \nDe vestjyske rødder fornægter sig ikke – og de fem unge spillemænd lægger da heller ikke skjul på deres ophav. ”Vi er født i Thyborøn\, det vil vi gerne stå ved. Dér\, hvor du bliver kaldt fiskersøn\, selvom din far er smed\,” som det lyder i storhittet ’Opsangen’.\nDet forblæste fiskerleje har formet bandet med de sammenknudrede familiebånd. Fire af fem bandmedlemmer har samme oldeforældre\, og de er alle vokset op i en familie af folkemusikere med rødder til det populære band Tørfisk. Blandt andet er FÆTTERS-forsanger Anders Toft Bro søn af Tørfisk-forsanger Bent Bro\, men sønnike har sammen med barndomskammeraterne fundet sin egen musikalske sejlrute\, som tog sin begyndelse i musiklokalet på den lokale folkeskole i Thyborøn. \nSamtlige sange er selvskrevne – og velskrevne (siger deres mødre) – og selvom de relaterer sig til hjemstavnen med tekster om og fra livet i Vestjylland\, handler de om emner\, der vedrører de fleste. Du er måske stødt på singlen ’Gutterne på Kutterne’\, der rundede over 1 million visninger på Facebook. Du kan også have hørt dem på Skagen Festival\, Skive Festival\, Haze over Haarum eller Morsø Festival – bare for at nævne nogle få. Forsangeren Anders Toft Bro har du muligvis set i TV udsendelsen ”Fotovognen” eller ”Natholdet”. \nFÆTTERS:\nAnders Toft Bro: vokal\, klaver & harmonika\nChristian Toft Bro: guitar\nAllan Toft Josephsen: vokal\, bas & trommer\nChristian Stausholm Holm: vokal & guitar\nMorten Maltesen: bas & trommer
URL:https://folkalender.dk/arrangement/faetters/
LOCATION:Fermaten\, Smallegade 4\, Herning\, 7400
CATEGORIES:Koncert
ORGANIZER;CN="Fermaten":MAILTO:mail@fermaten.dk
GEO:56.1368467;8.970104
X-APPLE-STRUCTURED-LOCATION;VALUE=URI;X-ADDRESS=Fermaten Smallegade 4 Herning 7400;X-APPLE-RADIUS=500;X-TITLE=Smallegade 4:geo:8.970104,56.1368467
END:VEVENT
END:VCALENDAR